Workbook

Sheet 数据库
A1: 步号 | B1: 自(FROM) 线端名/排列号 | C1: 至(TO) 线端名/排列号 | D1: 图号作业 | E1: 线径(MM*2) | F1: 前端制作 | G1: 后端制作 | H1: G20线长(MM) | I1: 备注 | J1: 组装 | K1: 前 | L1: 后 | M1: 测试模式 | N1: 测试针A | O1: 测试针B | P1: 标准值 | Q1: 测量值 | R1: ＋公差％ | S1: －公差％ | T1: 操作者 | U1: 1组+ | V1: 1组- | W1: 2组+ | X1: 2组- | Y1: 3组+ | Z1: 3组- | AA1: 4组+ | AB1: 4组- | AC1: 5组+ | AD1: 5组- | AE1: 6组+ | AF1: 6组- | AG1: 7组+ | AH1: 7组- | AI1: 8组+ | AJ1: 8组- | AK1: 9组+ | AL1: 9组- | AM1: 10组+ | AN1: 10组- | AO1: 11组+ | AP1: 11组- | AQ1: 12组+ | AR1: 12组- | AS1: 13组+ | AT1: 13组- | AU1: 14组+ | AV1: 14组- | AW1: 15组+ | AX1: 15组- | AY1: 16组+ | AZ1: 16组- | BA1: 17组+ | BB1: 17组- | BC1: 18组+ | BD1: 18组- | BE1: 19组+ | BF1: 19组- | BG1: 20组+ | BH1: 20组- | BI1: 21组+ | BJ1: 21组- | BK1: 22组+ | BL1: 22组- | BM1: 23组+ | BN1: 23组- | BO1: 24组+ | BP1: 24组- | BQ1: 25组+ | BR1: 25组- | BS1: 26组+ | BT1: 26组- | BU1: 27组+ | BV1: 27组- | BW1: 28组+ | BX1: 28组- | BY1: 29组+ | BZ1: 29组- | CA1: 30组+ | CB1: 30组- | CC1: 31组+ | CD1: 31组- | CE1: 32组+ | CF1: 32组- | CG1: 33组+ | CH1: 33组- | CI1: 34组+ | CJ1: 34组- | CK1: 35组+ | CL1: 35组- | CM1: 36组+ | CN1: 36组- | CO1: 37组+ | CP1: 37组- | CQ1: 38组+ | CR1: 38组- | CS1: 39组+ | CT1: 39组- | CU1: 40组+ | CV1: 40组- | CW1: 41组+ | CX1: 41组- | CY1: 42组+ | CZ1: 42组- | DA1: 43组+ | DB1: 43组- | DC1: 44组+ | DD1: 44组- | DE1: 45组+ | DF1: 45组- | DG1: 46组+ | DH1: 46组- | DI1: 47组+ | DJ1: 47组- | DK1: 48组+ | DL1: 48组- | DM1: 49组+ | DN1: 49组- | DO1: 50组+ | DP1: 50组- | DQ1: 51组+ | DR1: 51组- | DS1: 52组+ | DT1: 52组- | DU1: 53组+ | DV1: 53组- | DW1: 54组+ | DX1: 54组- | DY1: 55组+ | DZ1: 55组- | EA1: 56组+ | EB1: 56组- | EC1: 57组+ | ED1: 57组- | EE1: 58组+ | EF1: 58组- | EG1: 59组+ | EH1: 59组- | EI1: 60组+ | EJ1: 60组- | EK1: 61组+ | EL1: 61组- | EM1: 62组+ | EN1: 62组- | EO1: 63组+ | EP1: 63组- | EQ1: 64组+ | ER1: 64组- | ES1: 65组+ | ET1: 65组- | EU1: 66组+ | EV1: 66组- | EW1: 67组+ | EX1: 67组- | EY1: 68组+ | EZ1: 68组- | FA1: 69组+ | FB1: 69组- | FC1: 70组+ | FD1: 70组- | FE1: 71组+ | FF1: 71组- | FG1: 72组+ | FH1: 72组- | FI1: 73组+ | FJ1: 73组- | FK1: 74组+ | FL1: 74组- | FM1: 75组+ | FN1: 75组- | FO1: 76组+ | FP1: 76组- | FQ1: 77组+ | FR1: 77组- | FS1: 78组+ | FT1: 78组- | FU1: 79组+ | FV1: 79组- | FW1: 80组+ | FX1: 80组- | FY1: 81组+ | FZ1: 81组- | GA1: 82组+ | GB1: 82组- | GC1: 83组+ | GD1: 83组- | GE1: 84组+ | GF1: 84组- | GG1: 85组+ | GH1: 85组- | GI1: 86组+ | GJ1: 86组- | GK1: 87组+ | GL1: 87组- | GM1: 88组+ | GN1: 88组- | GO1: 89组+ | GP1: 89组- | GQ1: 90组+ | GR1: 90组- | GS1: 91组+ | GT1: 91组- | GU1: 92组+ | GV1: 92组- | GW1: 93组+ | GX1: 93组- | GY1: 94组+ | GZ1: 94组- | HA1: 95组+ | HB1: 95组- | HC1: 96组+ | HD1: 96组- | HE1: 97组+ | HF1: 97组- | HG1: 98组+ | HH1: 98组- | HI1: 99组+ | HJ1: 99组- | HK1: 100组+ | HL1: 100组-
A2: 1 | B2: KC/1 | C2: MSC/1 | D2: 标准 | E2: 0.5黑 | F2: 5556T | G2: 红4 | H2: 650 | J2: KC/1 | K2: 1 | L2: 1
A3: 2 | B3: KC/2 | C3: MC/A1 | D3: 标准 | E3: 0.5黑 | F3: 5556T | G3: 红4 | H3: 810 | J3: KC/2
A4: 3 | B4: KC/3 | C4: FJXA/13 | D4: 标准 | E4: 0.5黑 | F4: 5556T | G4: 红4 | H4: 1210 | J4: KC/3 | K4: 1 | L4: 0
A5: 4 | B5: KC/4 | C5: MC/A2 | D5: 标准 | E5: 0.5黑 | F5: 5556T | G5: 红4 | H5: 890 | J5: KC/4 | K5: 1 | L5: 1
A6: 5 | B6: KC/5 | C6: BZC/A2 | D6: 标准 | E6: 0.5黑 | F6: 5556T | G6: 红4 | H6: 710 | J6: KC/5 | K6: 1 | L6: 1
A7: 6 | B7: KC/6 | C7: MC1/A2 | D7: 有封星接触器时 | E7: 0.5黑 | F7: 5556T | G7: 红4 | H7: 830 | J7: KC/6 | K7: 1 | L7: 1
A8: 7 | B8: KC/7 | C8: MSC/A1 | D8: 标准 | E8: 0.5黑 | F8: 5556T | G8: 红4 | H8: 640 | J8: KC/7 | K8: 1 | L8: 1
A9: 8 | B9: KC/8 | C9: MSC/A2 | D9: 标准 | E9: 0.5黑 | F9: 5556T | G9: 红4 | H9: 760 | J9: KC/8 | K9: 1 | L9: 1
A10: 9 | B10: KC/9 | C10: MC1/A1 | D10: 有封星接触器时 | E10: 0.5黑 | F10: 5556T | G10: 红4 | H10: 680 | J10: KC/9 | K10: 0 | L10: 5
A11: 10 | B11: KC/12 | C11: FJA/24 | D11: 标准 | E11: 0.5黑 | F11: 5556T | G11: 红4 | H11: 1110 | J11: KC/12 | K11: 1 | L11: 1
A12: 11 | B12: KC/13 | C12: FTK/1 | D12: 非钢带梯/非异步货梯 | E12: 0.5黑 | F12: 5556T | G12: 红4 | H12: 1090 | J12: KC/13
A13: 12 | B13: KC/13 | C13: CE5 | D13: 钢带梯/异步货梯 | E13: 0.5黑 | F13: 5556T | G13: 半剥8 | H13: 无 | I13: 随设计书 | J13: KC/13
A14: 13 | B14: KC/15 | C14: FJK/14 | D14: 标准 | E14: 0.5黑 | F14: 5556T | G14: 红4 | H14: 1000 | J14: KC/15 | K14: 1 | L14: 1
A15: 14 | B15: KC/18 | C15: FJA/13 | D15: 标准 | E15: 0.5黑 | F15: 5556T | G15: 红4 | H15: 1130 | J15: KC/18 | K15: 1 | L15: 1
A16: 15 | B16: KD/1 | C16: FJSA/4 | D16: 标准 | E16: 0.5黑 | F16: 5556T | G16: 红4 | H16: 1130 | J16: KD/1 | K16: 1 | L16: 1
A17: 16 | B17: KD/2 | C17: FJXA/4 | D17: 标准 | E17: 0.5黑 | F17: 5556T | G17: 红4 | H17: 1200 | J17: KD/2 | K17: 1 | L17: 1
A18: 17 | B18: KD/3 | C18: FJK/1 | D18: 非G20时 | E18: 0.5黑 | F18: 5556T | G18: 红4 | H18: 无 | I18: 随设计书 | K18: 3 | L18: 1
A19: 18 | B19: KD/4 | C19: FJK/2 | D19: 标准 | E19: 0.5黑 | F19: 5556T | G19: 红4 | H19: 1070 | J19: KD/4 | K19: 1 | L19: 1
A20: 19 | B20: KD/8 | C20: MC1/54 | D20: 有封星接触器+速度≤2.5M/S | E20: 0.5黑 | F20: 5556T | G20: 红4 | H20: 870 | I20: 随设计书 | J20: KD/8 | K20: 1 | L20: 2
A21: 20 | B21: KD/8 | C21: MC1/62 | D21: 有封星接触器+梯速＞2.5M/S | E21: 0.5黑 | F21: 5556T | G21: 红4 | I21: 随设计书 | K21: 2 | L21: 1
A22: 21 | B22: KD/9 | C22: BZC/62(22) | D22: 标准 | E22: 0.5黑 | F22: 5556T | G22: 红4 | H22: 740 | J22: KD/9 | K22: 0 | L22: 0
A23: 22 | B23: KD/10 | C23: MC/62(22) | D23: 标准 | E23: 0.5黑 | F23: 5556T | G23: 红4 | H23: 900 | J23: KD/10 | K23: 1 | L23: 1
A24: 23 | B24: KD/11 | C24: MSC/62(22) | D24: 标准 | E24: 0.5黑 | F24: 5556T | G24: 红4 | H24: 830 | J24: KD/11 | K24: 1 | L24: 1
A25: 24 | B25: KD/13 | C25: MSC/61(21) | D25: 无接地保护装置时 | E25: 0.5黑 | F25: 5556T | G25: 红4 | H25: 840 | J25: KD/13
A26: 25 | B26: KD/19 | C26: FJK/1 | D26: G20系统时 | E26: 0.5黑 | F26: 5556T | G26: 红4 | H26: 1120 | K26: 1 | L26: 3
A27: 26 | B27: KB/2 | C27: CE6 | D27: 标准（无机房） | E27: 0.5黑 | F27: 5556T | G27: 红4 | H27: 580 | I27: CE6短接 | J27: KB/2 | K27: =COUNTIF(B:C,#REF!) -> 0 | L27: =COUNTIF(B:C,C27) -> 4
A28: 27 | B28: KB/3 | C28: CE6 | D28: 标准（无机房） | E28: 0.5黑 | F28: 5556T | G28: 红4 | H28: 590 | J28: KB/3 | K28: =COUNTIF(B:C,#REF!) -> 0 | L28: =COUNTIF(B:C,C28) -> 4
A29: 28 | B29: KB/10 | C29: MC/53(13) | D29: 标准 | E29: 0.5黑 | F29: 5556T | G29: 红4 | H29: 810 | J29: KB/10 | K29: =COUNTIF(B:C,#REF!) -> 0 | L29: =COUNTIF(B:C,C29) -> 2
A30: 29 | B30: KDP2/1 | C30: BZC/61(21) | D30: 标准 | E30: 0.5黑 | F30: 5556T | G30: 红4 | H30: 880 | J30: KDP2/1 | K30: 1 | L30: 2
A31: 30 | B31: KP/5 | C31: LBQ1/负载1 | D31: 标准 | E31: 0.75黑 | F31: 5556T | G31: 红全封 | H31: 690 | J31: KP/5 | K31: 1 | L31: 1 | P31: S | R31: 10 | S31: 10 | T31: CX
A32: 31 | B32: KP/7 | C32: LBQ1/负载2 | D32: 标准 | E32: 0.75黑 | F32: 5556T | G32: 红全封 | H32: 690 | J32: KP/7 | K32: 1 | L32: 1 | P32: S | R32: 10 | S32: 10 | T32: CX
A33: 32 | B33: KP/9 | C33: LBQ1/线路1 | D33: 标准 | E33: 0.75黑 | F33: 5556T | G33: 红全封 | H33: 560 | J33: KP/9 | K33: 1 | L33: 1 | P33: S | R33: 10 | S33: 10 | T33: CX
A34: 33 | B34: KP/10 | C34: LBQ1/线路2 | D34: 标准 | E34: 0.75黑 | F34: 5556T | G34: 红全封 | H34: 580 | J34: KP/10 | K34: 1 | L34: 1 | P34: S | R34: 10 | S34: 10 | T34: CX
A35: 34 | B35: KP/12 | C35: DYK/14 | D35: 无机房 | E35: 0.75黑 | F35: 5556T | G35: 红4 | H35: 1100 | J35: KP/12
A36: 35 | B36: KP/14 | C36: DYK/24 | D36: 无机房 | E36: 0.75黑 | F36: 5556T | G36: 红4 | H36: 1120 | J36: KP/14
A37: 36 | B37: KZ/1 | C37: 对讲机/+ | D37: 标准 | E37: 0.5黑 | F37: 5556T | G37: 红4 | H37: 1120 | J37: KZ/1 | K37: 0 | L37: 2
A38: 37 | B38: KZ/3 | C38: 对讲机/- | D38: 标准 | E38: 0.5黑 | F38: 5556T | G38: 红4 | H38: 1120 | J38: KZ/3 | K38: 0 | L38: 2
A39: 38 | B39: KZ/4 | C39: 对讲机/R | D39: 标准 | E39: 0.5黑 | F39: 5556T | G39: 红4(遥/371:蓝4) | H39: 1120 | J39: KZ/4 | K39: 0 | L39: 3
A40: 39 | B40: KZ/5 | C40: 对讲机/L | D40: 标准 | E40: 0.5黑 | F40: 5556T | G40: 红4(遥/372:蓝4) | H40: 1120 | J40: KZ/5 | K40: 0 | L40: 3
A41: 40 | B41: J1/1 | C41: PE | D41: 标准 | E41: 0.75黄绿 | F41: 5556T | G41: 红6圆 | H41: 1310 | K41: =COUNTIF(B$62:C$66,B41) -> 0 | L41: =COUNTIF(B$62:C$66,C41) -> 0
A42: 41 | B42: J1/3 | C42: LBQ/L3'(7) | D42: 有滤波器时 | E42: 0.75黑 | F42: 5556T | G42: 红6圆 | H42: 1660 | I42: 随BOM明细表
A43: 42 | B43: J1/3 | C43: 端子排/T | D43: 无滤波器时 | E43: 0.75黑 | F43: 5556T | G43: 半剥13 | H43: 1660 | K43: =COUNTIF(B$62:C$66,#REF!) -> 0 | L43: =COUNTIF(B$62:C$66,C43) -> 0
A44: 43 | B44: J1/4 | C44: FJK/24 | D44: 标准 | E44: 0.75黑 | F44: 5556T | G44: 红4 | H44: 430 | K44: =COUNTIF(B$62:C$66,#REF!) -> 0 | L44: =COUNTIF(B$62:C$66,C44) -> 0
A45: 44 | B45: J1/6 | C45: BZC/4 | D45: 标准 | E45: 0.5黑 | F45: 红4 | G45: 红4 | H45: 960 | K45: =COUNTIF(B$76:C$80,B45) -> 0 | L45: =COUNTIF(B$76:C$80,C45) -> 0
A46: 45 | B46: J1/9 | C46: LBQ/N'(8) | D46: 有滤波器时 | E46: 0.75黑 | F46: 5556T | G46: 红6圆 | H46: 1670 | I46: 随BOM明细表
A47: 46 | B47: J1/9 | C47: 端子排/N | D47: 无滤波器时 | E47: 0.75黑 | F47: 5556T | G47: 101蓝针 | H47: 1670 | K47: =COUNTIF(B$62:C$66,B47) -> 0 | L47: =COUNTIF(B$62:C$66,C47) -> 0
A48: 47 | B48: J1/12 | C48: BZC/2 | D48: 标准 | E48: 0.5黑 | F48: 红4 | G48: 红4 | H48: 970 | K48: =COUNTIF(B$76:C$80,B48) -> 0 | L48: =COUNTIF(B$76:C$80,C48) -> 0
A49: 48 | B49: J2/1 | C49: KDP1/2 | D49: 标准（无机房） | E49: 0.5黑 | F49: 5556T | G49: 5556T | H49: 1050 | J49: KDP1/2
A50: 49 | B50: J2/3 | C50: KDP2/2 | D50: 标准 | E50: 0.5黑 | F50: 5556T | G50: 5556T | H50: 1080 | J50: KDP2/2
A51: 50 | B51: J2/5 | C51: CE24 | D51: 标准 | E51: 0.5黑 | F51: 半剥8 | G51: 半剥13 | H51: 760 | I51: CE24短接
A52: 51 | B52: J2/7 | C52: KDP1/1 | D52: 标准（无机房） | E52: 0.5黑 | F52: 5556T | G52: 5556T | H52: 1050 | J52: KDP1/1
A53: 52 | B53: J2/8 | C53: KDP1/7 | D53: 标准（无机房） | E53: 0.5黑 | F53: 5556T | G53: 5556T | H53: 1050 | J53: KDP1/7
A54: 53 | B54: J2/10 | C54: KDP2/8 | D54: 标准 | E54: 0.5黑 | F54: 5556T | G54: 5556T | H54: 1080
A55: 54 | B55: J2/11 | C55: KDP2/5 | D55: 标准 | E55: 0.5黑 | F55: 5556T | G55: 5556T | H55: 1080
A56: 55 | B56: J2/12 | C56: KDP2/6 | D56: 标准 | E56: 0.5黑 | F56: 5556T | G56: 5556T | H56: 1080
A57: 56 | B57: J2/14 | C57: KDP1/6 | D57: 标准（无机房） | E57: 0.5黑 | F57: 5556T | G57: 5556T | H57: 1050 | J57: KDP1/6
A58: 57 | B58: SZDY/E1/3 | C58: KP/3 | D58: 无机房 | E58: 0.75黑 | F58: 5556T | G58: 5556T | H58: 960 | I58: 14插头实物使用5556T
A59: 58 | B59: SZDY/E1/3 | C59: J1/10 | D59: 无机房 | E59: 0.75黑 | G59: 5556T | H59: 1250 | J59: SZDY/E1/3
A60: 59 | B60: SZDY/E1/4 | C60: KP/1 | D60: 无机房 | E60: 0.75黑 | F60: 5556T | G60: 5556T | H60: 960
A61: 60 | B61: SZDY/E1/4 | C61: FJK/24 | D61: 无机房 | E61: 0.75黑 | G61: 红4 | H61: 1250
A62: 61 | B62: SZDY/E1/5 | C62: KH1/3 | D62: 无机房 | E62: 0.5黑 | F62: 5556T | G62: 剥8 | H62: 1180 | J62: SZDY/E1/5
A63: 62 | B63: SZDY/E1/6 | C63: KD/14 | D63: 无机房 | E63: 0.5黑 | F63: 5556T | G63: 5556T | H63: 1020 | J63: SZDY/E1/6
A64: 63 | B64: SZDY/E1/6 | C64: LP2/+ | D64: 无机房 | E64: 0.5黑 | G64: 剥13 | H64: 470 | J64: SZDY/E1/6
A65: 64 | B65: SZDY/E1/7 | C65: KH1/4 | D65: 无机房 | E65: 0.5黑 | F65: 5556T | G65: 剥8 | H65: 1180 | J65: SZDY/E1/7
A66: 65 | B66: SZDY/E1/8 | C66: DLQ/COM | D66: 无机房 | E66: 0.5黑 | F66: 5556T | G66: 红4 | H66: 1160 | J66: SZDY/E1/8
A67: 66 | B67: SZDY/E1/9 | C67: KD/16 | D67: 无机房 | E67: 0.5黑 | F67: 5556T | G67: 5556T | H67: 1010 | J67: SZDY/E1/9
A68: 67 | B68: SZDY/E1/11 | C68: CE6 | D68: 无机房 | E68: 0.5黑 | F68: 5556T | G68: 半剥13 | H68: 1010 | J68: SZDY/E1/11
A69: 68 | B69: SZDY/E1/12 | C69: FJK/34 | D69: 无机房 | E69: 0.5黑 | F69: 5556T | G69: 红4 | H69: 1220 | J69: FJK/34
A70: 69 | B70: MC/63(43) | C70: CE6 | D70: 无机房 | E70: 0.5黑 | F70: 红4 | G70: 半剥13 | H70: 630
A71: 70 | B71: BZC/61(21) | C71: CE24 | D71: 标准 | E71: 0.5黑 | F71: 红4 | G71: 半剥13 | H71: 300
A72: 71 | B72: MSC/61(21) | C72: CE24 | D72: 标准 | E72: 0.5黑 | F72: 红4 | G72: 半剥13 | H72: 360 | K72: =COUNTIF(B$76:C$80,B72) -> 0 | L72: =COUNTIF(B$76:C$80,C72) -> 0
A73: 72 | B73: MC/61(21) | C73: CE24 | D73: 标准 | E73: 0.5黑 | F73: 红4 | G73: 半剥13 | H73: 500 | K73: =COUNTIF(B$76:C$80,B73) -> 0 | L73: =COUNTIF(B$76:C$80,B74) -> 0
A74: 73 | B74: MC1/61(21) | C74: CE24 | D74: 有封星接触器+梯速＞2.5M/S | E74: 0.5黑 | F74: 红4 | G74: 半剥13 | H74: 600 | I74: 随设计书
A75: 74 | B75: MC1/53 | C75: CE24 | D75: 有封星接触器+速度≤2.5M/S | E75: 0.5黑 | F75: 红4 | G75: 半剥13 | H75: 450 | I75: 随设计书 | K75: =COUNTIF(B$76:C$80,B75) -> 0 | L75: =COUNTIF(B$76:C$80,C75) -> 0
A76: 75 | B76: FTK/2 | C76: MC1/A1 | D76: 有封星接触器+无相序继电器 | E76: 0.5黑 | F76: 红4 | G76: 红4 | H76: 1100 | I76: 随设计书 | K76: =COUNTIF(B$76:C$80,#REF!) -> 0 | L76: =COUNTIF(B$76:C$80,C76) -> 1
A77: 76 | B77: BZC/1 | C77: BZC/6 | D77: 标准 | E77: 0.5黑 | F77: 红4 | G77: 红4 | H77: 470 | K77: =COUNTIF(B$76:C$80,B77) -> 1 | L77: =COUNTIF(B$76:C$80,C77) -> 1
A78: 77 | B78: BZC/3 | C78: MC/64(44) | D78: 标准 | E78: 0.5黑 | F78: 红4 | G78: 红4 | H78: 710 | K78: =COUNTIF(B$76:C$80,B78) -> 1 | L78: =COUNTIF(B$76:C$80,C78) -> 1
A79: 78 | B79: BZC/5 | C79: MC/54(14) | D79: 标准 | E79: 0.5黑 | F79: 红4 | G79: 红4 | H79: 710 | K79: =COUNTIF(B$76:C$80,C79) -> 1 | L79: =COUNTIF(B$76:C$80,#REF!) -> 0
A80: 79 | B80: BZC/A1 | C80: MC/A1 | D80: 标准 | E80: 0.5黑 | F80: 蓝4 | G80: 红4 | H80: 420 | K80: =COUNTIF(B$76:C$80,B80) -> 1 | L80: =COUNTIF(B$76:C$80,C80) -> 1
A81: 80 | B81: BZC/A1 | C81: MSC/2 | D81: 标准 | E81: 0.5黑 | G81: 红4 | H81: 550 | K81: =COUNTIF(B$76:C$80,B81) -> 1 | L81: =COUNTIF(B$76:C$80,C81) -> 0
A82: 81 | B82: MC1/R4 | C82: MC/2 | D82: 有封星接触器时+速度＜3.0m/s时 | E82: 2.5黑 | F82: 蓝4 | G82: 蓝4(大功率时-蓝6圆) | H82: 1250 | I82: 随设计书，注意功率大小 | K82: =COUNTIF(B$76:C$80,B82) -> 0 | L82: =COUNTIF(B$76:C$80,C82) -> 0 | P82: S | R82: 10 | S82: 10 | T82: CX
A83: 82 | B83: MC1/R1 | C83: MC/6 | D83: 有封星接触器时+速度＜3.0m/s时 | E83: 2.5黑 | F83: 蓝4 | G83: 蓝4(大功率时-蓝6圆) | H83: 730 | I83: 随设计书，注意功率大小 | K83: =COUNTIF(B$76:C$80,B83) -> 0 | L83: =COUNTIF(B$76:C$80,C83) -> 0 | P83: S | R83: 10 | S83: 10 | T83: CX
A84: 83 | B84: MC1/R2 | C84: MC/4 | D84: 有封星接触器时+速度＜3.0m/s时 | E84: 2.5黑 | F84: 蓝4 | G84: 蓝4(大功率时-蓝6圆) | H84: 730 | I84: 随设计书，注意功率大小 | K84: =COUNTIF(B$76:C$80,B84) -> 0 | L84: =COUNTIF(B$76:C$80,C84) -> 0 | P84: S | R84: 10 | S84: 10 | T84: CX
A85: 84 | B85: MC1/R2 | C85: MC1/R3 | D85: 有封星接触器时+速度＜3.0m/s时 | E85: 2.5黑 | F85: 蓝4 | G85: 蓝4 | H85: 1820 | I85: 随设计书，注意功率大小 | K85: =COUNTIF(B$76:C$80,B85) -> 0 | L85: =COUNTIF(B$76:C$80,C85) -> 0 | P85: S | R85: 10 | S85: 10 | T85: CX
A86: 85 | B86: MC1/1 | C86: MC/2 | D86: 有封星接触器时+速度≥3.0m/s时 | E86: 2.5黑 | F86: 蓝4 | G86: 蓝4(大功率时-蓝6圆) | I86: 随设计书
A87: 86 | B87: MC1/4 | C87: MC/6 | D87: 有封星接触器时+速度≥3.0m/s时 | E87: 2.5黑 | F87: 蓝4 | G87: 蓝4(大功率时-蓝7圆) | I87: 随设计书
A88: 87 | B88: MC1/2 | C88: MC/4 | D88: 有封星接触器时+速度≥3.0m/s时 | E88: 2.5黑 | F88: 蓝4 | G88: 蓝4(大功率时-蓝8圆) | I88: 随设计书
A89: 88 | B89: MC1/2 | C89: MC1/3 | D89: 有封星接触器时+速度≥3.0m/s时 | E89: 2.5黑 | F89: 蓝4 | G89: 蓝4 | I89: 随设计书
A90: 89 | B90: LBQ/N(4) | C90: 端子排/N | D90: 有滤波器时+无停电救援 | E90: 0.75黑 | F90: 红6圆 | G90: 101蓝针 | I90: 随设计书
A91: 90 | B91: KAP/1 | C91: K12/2 | D91: 无机房 | E91: 0.75黑 | F91: 剥8 | G91: 蓝3 | H91: 630 | J91: KAP/1
A92: 91 | B92: JZK/A(2) | C92: K12/2 | D92: 无机房 | E92: 0.75黑 | F92: 131蓝4 | H92: 630 | J92: KAP/1
A93: 92 | B93: KAP/2 | C93: K12/HN | D93: 无机房 | E93: 0.75黑 | F93: 剥8 | G93: 蓝3 | H93: 780 | J93: KAP/2
A94: 93 | B94: ID/3 | C94: K12/HN | D94: 无机房 | E94: 0.75黑 | F94: 剥8 | H94: 500 | J94: KAP/2
A95: 94 | B95: KH1/1 | C95: SZDY/485+ | D95: 无机房 | E95: 0.5黑 | F95: 剥8 | G95: 剥13与专用线压奶嘴 | H95: 1270 | J95: KH/1
A96: 95 | B96: KH1/2 | C96: SZDY/485- | D96: 无机房 | E96: 0.5黑 | F96: 剥8 | G96: 剥13与专用线压奶嘴 | H96: 1270 | J96: KH/2
A97: 96 | B97: LP2/- | C97: DLQ/NC | D97: 无机房 | E97: 0.5黑 | F97: 剥13 | G97: 红4 | H97: 1080
A98: 97 | B98: MC/53(13) | C98: FJK/33 | D98: 无机房 | E98: 0.5黑 | F98: 红4 | G98: 红4 | H98: 1130 | J98: FJK/33
A99: 98 | B99: 插座/L | C99: ZDK/5 | D99: 无机房 | E99: 0.75黑 | F99: 蓝4 | G99: 红4 | H99: 550
A100: 99 | B100: 插座/L | C100: K12/1 | D100: 无机房 | E100: 0.75黑 | G100: 红3 | H100: 350
...

Sheet 试制
A1: 序号 | B1: 始端 | C1: 末端 | D1: 始端处理 | E1: 末端处理 | F1: 作业 | G1: 线径 | H1: 组装 | I1: G20线长
A2: 1 | B2: =VLOOKUP(A2,数据库!A:H,2,0) -> KC/1 | C2: =VLOOKUP(A2,数据库!A:H,3,0) -> MSC/1 | D2: =VLOOKUP(A2,数据库!A:H,6,0) -> 5556T | E2: =VLOOKUP(A2,数据库!A:H,7,0) -> 红4 | F2: =VLOOKUP(A2,数据库!A:H,4,0) -> 标准 | G2: =VLOOKUP(A2,数据库!A:H,5,0) -> 0.5黑 | H2: =VLOOKUP(A2,数据库!A:J,12,0) -> #REF! | I2: =VLOOKUP(A2,数据库!A:H,8,0) -> 650
A3: 2 | B3: =VLOOKUP(A3,数据库!A:H,2,0) -> KC/2 | C3: =VLOOKUP(A3,数据库!A:H,3,0) -> MC/A1 | D3: =VLOOKUP(A3,数据库!A:H,6,0) -> 5556T | E3: =VLOOKUP(A3,数据库!A:H,7,0) -> 红4 | F3: =VLOOKUP(A3,数据库!A:H,4,0) -> 标准 | G3: =VLOOKUP(A3,数据库!A:H,5,0) -> 0.5黑 | H3: =VLOOKUP(A3,数据库!A:J,12,0) -> #REF! | I3: =VLOOKUP(A3,数据库!A:H,8,0) -> 810
A4: 3 | B4: =VLOOKUP(A4,数据库!A:H,2,0) -> KC/3 | C4: =VLOOKUP(A4,数据库!A:H,3,0) -> FJXA/13 | D4: =VLOOKUP(A4,数据库!A:H,6,0) -> 5556T | E4: =VLOOKUP(A4,数据库!A:H,7,0) -> 红4 | F4: =VLOOKUP(A4,数据库!A:H,4,0) -> 标准 | G4: =VLOOKUP(A4,数据库!A:H,5,0) -> 0.5黑 | H4: =VLOOKUP(A4,数据库!A:J,12,0) -> #REF! | I4: =VLOOKUP(A4,数据库!A:H,8,0) -> 1210
A5: 4 | B5: =VLOOKUP(A5,数据库!A:H,2,0) -> KC/4 | C5: =VLOOKUP(A5,数据库!A:H,3,0) -> MC/A2 | D5: =VLOOKUP(A5,数据库!A:H,6,0) -> 5556T | E5: =VLOOKUP(A5,数据库!A:H,7,0) -> 红4 | F5: =VLOOKUP(A5,数据库!A:H,4,0) -> 标准 | G5: =VLOOKUP(A5,数据库!A:H,5,0) -> 0.5黑 | H5: =VLOOKUP(A5,数据库!A:J,12,0) -> #REF! | I5: =VLOOKUP(A5,数据库!A:H,8,0) -> 890
A6: 5 | B6: =VLOOKUP(A6,数据库!A:H,2,0) -> KC/5 | C6: =VLOOKUP(A6,数据库!A:H,3,0) -> BZC/A2 | D6: =VLOOKUP(A6,数据库!A:H,6,0) -> 5556T | E6: =VLOOKUP(A6,数据库!A:H,7,0) -> 红4 | F6: =VLOOKUP(A6,数据库!A:H,4,0) -> 标准 | G6: =VLOOKUP(A6,数据库!A:H,5,0) -> 0.5黑 | H6: =VLOOKUP(A6,数据库!A:J,12,0) -> #REF! | I6: =VLOOKUP(A6,数据库!A:H,8,0) -> 710
A7: 6 | B7: =VLOOKUP(A7,数据库!A:H,2,0) -> KC/6 | C7: =VLOOKUP(A7,数据库!A:H,3,0) -> MC1/A2 | D7: =VLOOKUP(A7,数据库!A:H,6,0) -> 5556T | E7: =VLOOKUP(A7,数据库!A:H,7,0) -> 红4 | F7: =VLOOKUP(A7,数据库!A:H,4,0) -> 有封星接触器时 | G7: =VLOOKUP(A7,数据库!A:H,5,0) -> 0.5黑 | H7: =VLOOKUP(A7,数据库!A:J,12,0) -> #REF! | I7: =VLOOKUP(A7,数据库!A:H,8,0) -> 830
A8: 7 | B8: =VLOOKUP(A8,数据库!A:H,2,0) -> KC/7 | C8: =VLOOKUP(A8,数据库!A:H,3,0) -> MSC/A1 | D8: =VLOOKUP(A8,数据库!A:H,6,0) -> 5556T | E8: =VLOOKUP(A8,数据库!A:H,7,0) -> 红4 | F8: =VLOOKUP(A8,数据库!A:H,4,0) -> 标准 | G8: =VLOOKUP(A8,数据库!A:H,5,0) -> 0.5黑 | H8: =VLOOKUP(A8,数据库!A:J,12,0) -> #REF! | I8: =VLOOKUP(A8,数据库!A:H,8,0) -> 640
A9: 8 | B9: =VLOOKUP(A9,数据库!A:H,2,0) -> KC/8 | C9: =VLOOKUP(A9,数据库!A:H,3,0) -> MSC/A2 | D9: =VLOOKUP(A9,数据库!A:H,6,0) -> 5556T | E9: =VLOOKUP(A9,数据库!A:H,7,0) -> 红4 | F9: =VLOOKUP(A9,数据库!A:H,4,0) -> 标准 | G9: =VLOOKUP(A9,数据库!A:H,5,0) -> 0.5黑 | H9: =VLOOKUP(A9,数据库!A:J,12,0) -> #REF! | I9: =VLOOKUP(A9,数据库!A:H,8,0) -> 760
A10: 9 | B10: =VLOOKUP(A10,数据库!A:H,2,0) -> KC/9 | C10: =VLOOKUP(A10,数据库!A:H,3,0) -> MC1/A1 | D10: =VLOOKUP(A10,数据库!A:H,6,0) -> 5556T | E10: =VLOOKUP(A10,数据库!A:H,7,0) -> 红4 | F10: =VLOOKUP(A10,数据库!A:H,4,0) -> 有封星接触器时 | G10: =VLOOKUP(A10,数据库!A:H,5,0) -> 0.5黑 | H10: =VLOOKUP(A10,数据库!A:J,12,0) -> #REF! | I10: =VLOOKUP(A10,数据库!A:H,8,0) -> 680
A11: 10 | B11: =VLOOKUP(A11,数据库!A:H,2,0) -> KC/12 | C11: =VLOOKUP(A11,数据库!A:H,3,0) -> FJA/24 | D11: =VLOOKUP(A11,数据库!A:H,6,0) -> 5556T | E11: =VLOOKUP(A11,数据库!A:H,7,0) -> 红4 | F11: =VLOOKUP(A11,数据库!A:H,4,0) -> 标准 | G11: =VLOOKUP(A11,数据库!A:H,5,0) -> 0.5黑 | H11: =VLOOKUP(A11,数据库!A:J,12,0) -> #REF! | I11: =VLOOKUP(A11,数据库!A:H,8,0) -> 1110
A12: 11 | B12: =VLOOKUP(A12,数据库!A:H,2,0) -> KC/13 | C12: =VLOOKUP(A12,数据库!A:H,3,0) -> FTK/1 | D12: =VLOOKUP(A12,数据库!A:H,6,0) -> 5556T | E12: =VLOOKUP(A12,数据库!A:H,7,0) -> 红4 | F12: =VLOOKUP(A12,数据库!A:H,4,0) -> 非钢带梯/非异步货梯 | G12: =VLOOKUP(A12,数据库!A:H,5,0) -> 0.5黑 | H12: =VLOOKUP(A12,数据库!A:J,12,0) -> #REF! | I12: =VLOOKUP(A12,数据库!A:H,8,0) -> 1090
A13: 12 | B13: =VLOOKUP(A13,数据库!A:H,2,0) -> KC/13 | C13: =VLOOKUP(A13,数据库!A:H,3,0) -> CE5 | D13: =VLOOKUP(A13,数据库!A:H,6,0) -> 5556T | E13: =VLOOKUP(A13,数据库!A:H,7,0) -> 半剥8 | F13: =VLOOKUP(A13,数据库!A:H,4,0) -> 钢带梯/异步货梯 | G13: =VLOOKUP(A13,数据库!A:H,5,0) -> 0.5黑 | H13: =VLOOKUP(A13,数据库!A:J,12,0) -> #REF! | I13: =VLOOKUP(A13,数据库!A:H,8,0) -> 无
... A117: 116 | B117: =VLOOKUP(A117,数据库!A:H,2,0) -> JZK/A(2) | C117: =VLOOKUP(A117,数据库!A:H,3,0) -> JZK/A'(3) | D117: =VLOOKUP(A117,数据库!A:H,6,0) -> 104蓝4 | E117: =VLOOKUP(A117,数据库!A:H,7,0) -> 红4 | F117: =VLOOKUP(A117,数据库!A:H,4,0) -> 无机房 | G117: =VLOOKUP(A117,数据库!A:H,5,0) -> 0.75黑 | H117: =VLOOKUP(A117,数据库!A:J,12,0) -> #REF! | I117: =VLOOKUP(A117,数据库!A:H,8,0) -> 260

Sheet G12制作卡 
A1: G12无机房（K1700）控柜V000 | C1: 编号 | D1: 1 | F1: G12无机房（K1700）控柜V000 | H1: 编号 | I1: 2 | K1: G12无机房（K1700）控柜V000 | M1: 编号 | N1: 3
A2: 始端 | B2: =VLOOKUP(D1,数据库!$A$1:$J$64584,2,FALSE) -> KC/1 | C2: 末端 | D2: =VLOOKUP(D1,数据库!$A$1:$J$64584,3,FALSE) -> MSC/1 | F2: 始端 | G2: =VLOOKUP(I1,数据库!$A$1:$J$64584,2,FALSE) -> KC/2 | H2: 末端 | I2: =VLOOKUP(I1,数据库!$A$1:$J$64584,3,FALSE) -> MC/A1 | K2: 始端 | L2: =VLOOKUP(N1,数据库!$A$1:$J$64584,2,FALSE) -> KC/3 | M2: 末端 | N2: =VLOOKUP(N1,数据库!$A$1:$J$64584,3,FALSE) -> FJXA/13
A3: 始端处理 | B3: =VLOOKUP(D1,数据库!$A$1:$J$64584,6,FALSE) -> 5556T | C3: 末端处理 | D3: =VLOOKUP(D1,数据库!$A$1:$J$64584,7,FALSE) -> 红4 | F3: 始端处理 | G3: =VLOOKUP(I1,数据库!$A$1:$J$64584,6,FALSE) -> 5556T | H3: 末端处理 | I3: =VLOOKUP(I1,数据库!$A$1:$J$64584,7,FALSE) -> 红4 | K3: 始端处理 | L3: =VLOOKUP(N1,数据库!$A$1:$J$64584,6,FALSE) -> 5556T | M3: 末端处理 | N3: =VLOOKUP(N1,数据库!$A$1:$J$64584,7,FALSE) -> 红4
A4: 线径 | B4: =VLOOKUP(D1,数据库!$A$1:$J$64584,5,FALSE) -> 0.5黑 | C4: 组装 | D4: =VLOOKUP(D1,数据库!$A$1:$J$64584,11,FALSE) -> #REF! | F4: 线径 | G4: =VLOOKUP(I1,数据库!$A$1:$J$64584,5,FALSE) -> 0.5黑 | H4: 组装 | I4: =VLOOKUP(I1,数据库!$A$1:$J$64584,11,FALSE) -> #REF! | K4: 线径 | L4: =VLOOKUP(N1,数据库!$A$1:$J$64584,5,FALSE) -> 0.5黑 | M4: 组装 | N4: =VLOOKUP(N1,数据库!$A$1:$J$64584,11,FALSE) -> #REF!
A5: 线长 | B5: =VLOOKUP(D1,数据库!$A$1:$J$64584,8,FALSE) -> 650 | C5: 数量 | D5: 20 | F5: 线长 | G5: =VLOOKUP(I1,数据库!$A$1:$J$64584,8,FALSE) -> 810 | H5: 数量 | I5: 20 | K5: 线长 | L5: =VLOOKUP(N1,数据库!$A$1:$J$64584,8,FALSE) -> 1210 | M5: 数量 | N5: 20
A6: 作业 | B6: =VLOOKUP(D1,数据库!$A$1:$J$64584,4,FALSE) -> 标准 | F6: 作业 | G6: =VLOOKUP(I1,数据库!$A$1:$J$64584,4,FALSE) -> 标准 | K6: 作业 | L6: =VLOOKUP(N1,数据库!$A$1:$J$64584,4,FALSE) -> 标准
A8: G12无机房（K1700）控柜V000 | C8: 编号 | D8: =D1+3 -> 4 | F8: G12无机房（K1700）控柜V000 | H8: 编号 | I8: =I1+3 -> 5 | K8: G12无机房（K1700）控柜V000 | M8: 编号 | N8: =N1+3 -> 6
A9: 始端 | B9: =VLOOKUP(D8,数据库!$A$1:$J$64584,2,FALSE) -> KC/4 | C9: 末端 | D9: =VLOOKUP(D8,数据库!$A$1:$J$64584,3,FALSE) -> MC/A2 | F9: 始端 | G9: =VLOOKUP(I8,数据库!$A$1:$J$64584,2,FALSE) -> KC/5 | H9: 末端 | I9: =VLOOKUP(I8,数据库!$A$1:$J$64584,3,FALSE) -> BZC/A2 | K9: 始端 | L9: =VLOOKUP(N8,数据库!$A$1:$J$64584,2,FALSE) -> KC/6 | M9: 末端 | N9: =VLOOKUP(N8,数据库!$A$1:$J$64584,3,FALSE) -> MC1/A2
A10: 始端处理 | B10: =VLOOKUP(D8,数据库!$A$1:$J$64584,6,FALSE) -> 5556T | C10: 末端处理 | D10: =VLOOKUP(D8,数据库!$A$1:$J$64584,7,FALSE) -> 红4 | F10: 始端处理 | G10: =VLOOKUP(I8,数据库!$A$1:$J$64584,6,FALSE) -> 5556T | H10: 末端处理 | I10: =VLOOKUP(I8,数据库!$A$1:$J$64584,7,FALSE) -> 红4 | K10: 始端处理 | L10: =VLOOKUP(N8,数据库!$A$1:$J$64584,6,FALSE) -> 5556T | M10: 末端处理 | N10: =VLOOKUP(N8,数据库!$A$1:$J$64584,7,FALSE) -> 红4
A11: 线径 | B11: =VLOOKUP(D8,数据库!$A$1:$J$64584,5,FALSE) -> 0.5黑 | C11: 组装 | D11: =VLOOKUP(D8,数据库!$A$1:$J$64584,11,FALSE) -> #REF! | F11: 线径 | G11: =VLOOKUP(I8,数据库!$A$1:$J$64584,5,FALSE) -> 0.5黑 | H11: 组装 | I11: =VLOOKUP(I8,数据库!$A$1:$J$64584,11,FALSE) -> #REF! | K11: 线径 | L11: =VLOOKUP(N8,数据库!$A$1:$J$64584,5,FALSE) -> 0.5黑 | M11: 组装 | N11: =VLOOKUP(N8,数据库!$A$1:$J$64584,11,FALSE) -> #REF!
A12: 线长 | B12: =VLOOKUP(D8,数据库!$A$1:$J$64584,8,FALSE) -> 890 | C12: 数量 | D12: 20 | F12: 线长 | G12: =VLOOKUP(I8,数据库!$A$1:$J$64584,8,FALSE) -> 710 | H12: 数量 | I12: 20 | K12: 线长 | L12: =VLOOKUP(N8,数据库!$A$1:$J$64584,8,FALSE) -> 830 | M12: 数量 | N12: 20
A13: 作业 | B13: =VLOOKUP(D8,数据库!$A$1:$J$64584,4,FALSE) -> 标准 | F13: 作业 | G13: =VLOOKUP(I8,数据库!$A$1:$J$64584,4,FALSE) -> 标准 | K13: 作业 | L13: =VLOOKUP(N8,数据库!$A$1:$J$64584,4,FALSE) -> 有封星接触器时
A15: G12无机房（K1700）控柜V000 | C15: 编号 | D15: =D8+3 -> 7 | F15: G12无机房（K1700）控柜V000 | H15: 编号 | I15: =I8+3 -> 8 | K15: G12无机房（K1700）控柜V000 | M15: 编号 | N15: =N8+3 -> 9
A16: 始端 | B16: =VLOOKUP(D15,数据库!$A$1:$J$64584,2,FALSE) -> KC/7 | C16: 末端 | D16: =VLOOKUP(D15,数据库!$A$1:$J$64584,3,FALSE) -> MSC/A1 | F16: 始端 | G16: =VLOOKUP(I15,数据库!$A$1:$J$64584,2,FALSE) -> KC/8 | H16: 末端 | I16: =VLOOKUP(I15,数据库!$A$1:$J$64584,3,FALSE) -> MSC/A2 | K16: 始端 | L16: =VLOOKUP(N15,数据库!$A$1:$J$64584,2,FALSE) -> KC/9 | M16: 末端 | N16: =VLOOKUP(N15,数据库!$A$1:$J$64584,3,FALSE) -> MC1/A1
A17: 始端处理 | B17: =VLOOKUP(D15,数据库!$A$1:$J$64584,6,FALSE) -> 5556T | C17: 末端处理 | D17: =VLOOKUP(D15,数据库!$A$1:$J$64584,7,FALSE) -> 红4 | F17: 始端处理 | G17: =VLOOKUP(I15,数据库!$A$1:$J$64584,6,FALSE) -> 5556T | H17: 末端处理 | I17: =VLOOKUP(I15,数据库!$A$1:$J$64584,7,FALSE) -> 红4 | K17: 始端处理 | L17: =VLOOKUP(N15,数据库!$A$1:$J$64584,6,FALSE) -> 5556T | M17: 末端处理 | N17: =VLOOKUP(N15,数据库!$A$1:$J$64584,7,FALSE) -> 红4
A18: 线径 | B18: =VLOOKUP(D15,数据库!$A$1:$J$64584,5,FALSE) -> 0.5黑 | C18: 组装 | D18: =VLOOKUP(D15,数据库!$A$1:$J$64584,11,FALSE) -> #REF! | F18: 线径 | G18: =VLOOKUP(I15,数据库!$A$1:$J$64584,5,FALSE) -> 0.5黑 | H18: 组装 | I18: =VLOOKUP(I15,数据库!$A$1:$J$64584,11,FALSE) -> #REF! | K18: 线径 | L18: =VLOOKUP(N15,数据库!$A$1:$J$64584,5,FALSE) -> 0.5黑 | M18: 组装 | N18: =VLOOKUP(N15,数据库!$A$1:$J$64584,11,FALSE) -> #REF!
A19: 线长 | B19: =VLOOKUP(D15,数据库!$A$1:$J$64584,8,FALSE) -> 640 | C19: 数量 | D19: 20 | F19: 线长 | G19: =VLOOKUP(I15,数据库!$A$1:$J$64584,8,FALSE) -> 760 | H19: 数量 | I19: 20 | K19: 线长 | L19: =VLOOKUP(N15,数据库!$A$1:$J$64584,8,FALSE) -> 680 | M19: 数量 | N19: 20
A20: 作业 | B20: =VLOOKUP(D15,数据库!$A$1:$J$64584,4,FALSE) -> 标准 | F20: 作业 | G20: =VLOOKUP(I15,数据库!$A$1:$J$64584,4,FALSE) -> 标准 | K20: 作业 | L20: =VLOOKUP(N15,数据库!$A$1:$J$64584,4,FALSE) -> 有封星接触器时
A22: G12无机房（K1700）控柜V000 | C22: 编号 | D22: =D15+3 -> 10 | F22: G12无机房（K1700）控柜V000 | H22: 编号 | I22: =I15+3 -> 11 | K22: G12无机房（K1700）控柜V000 | M22: 编号 | N22: =N15+3 -> 12
A23: 始端 | B23: =VLOOKUP(D22,数据库!$A$1:$J$64584,2,FALSE) -> KC/12 | C23: 末端 | D23: =VLOOKUP(D22,数据库!$A$1:$J$64584,3,FALSE) -> FJA/24 | F23: 始端 | G23: =VLOOKUP(I22,数据库!$A$1:$J$64584,2,FALSE) -> KC/13 | H23: 末端 | I23: =VLOOKUP(I22,数据库!$A$1:$J$64584,3,FALSE) -> FTK/1 | K23: 始端 | L23: =VLOOKUP(N22,数据库!$A$1:$J$64584,2,FALSE) -> KC/13 | M23: 末端 | N23: =VLOOKUP(N22,数据库!$A$1:$J$64584,3,FALSE) -> CE5
A24: 始端处理 | B24: =VLOOKUP(D22,数据库!$A$1:$J$64584,6,FALSE) -> 5556T | C24: 末端处理 | D24: =VLOOKUP(D22,数据库!$A$1:$J$64584,7,FALSE) -> 红4 | F24: 始端处理 | G24: =VLOOKUP(I22,数据库!$A$1:$J$64584,6,FALSE) -> 5556T | H24: 末端处理 | I24: =VLOOKUP(I22,数据库!$A$1:$J$64584,7,FALSE) -> 红4 | K24: 始端处理 | L24: =VLOOKUP(N22,数据库!$A$1:$J$64584,6,FALSE) -> 5556T | M24: 末端处理 | N24: =VLOOKUP(N22,数据库!$A$1:$J$64584,7,FALSE) -> 半剥8
A25: 线径 | B25: =VLOOKUP(D22,数据库!$A$1:$J$64584,5,FALSE) -> 0.5黑 | C25: 组装 | D25: =VLOOKUP(D22,数据库!$A$1:$J$64584,11,FALSE) -> #REF! | F25: 线径 | G25: =VLOOKUP(I22,数据库!$A$1:$J$64584,5,FALSE) -> 0.5黑 | H25: 组装 | I25: =VLOOKUP(I22,数据库!$A$1:$J$64584,11,FALSE) -> #REF! | K25: 线径 | L25: =VLOOKUP(N22,数据库!$A$1:$J$64584,5,FALSE) -> 0.5黑 | M25: 组装 | N25: =VLOOKUP(N22,数据库!$A$1:$J$64584,11,FALSE) -> #REF!
A26: 线长 | B26: =VLOOKUP(D22,数据库!$A$1:$J$64584,8,FALSE) -> 1110 | C26: 数量 | D26: 20 | F26: 线长 | G26: =VLOOKUP(I22,数据库!$A$1:$J$64584,8,FALSE) -> 1090 | H26: 数量 | I26: 20 | K26: 线长 | L26: =VLOOKUP(N22,数据库!$A$1:$J$64584,8,FALSE) -> 无 | M26: 数量 | N26: 20
A27: 作业 | B27: =VLOOKUP(D22,数据库!$A$1:$J$64584,4,FALSE) -> 标准 | F27: 作业 | G27: =VLOOKUP(I22,数据库!$A$1:$J$64584,4,FALSE) -> 非钢带梯/非异步货梯 | K27: 作业 | L27: =VLOOKUP(N22,数据库!$A$1:$J$64584,4,FALSE) -> 钢带梯/异步货梯
A29: G12无机房（K1700）控柜V000 | C29: 编号 | D29: =D22+3 -> 13 | F29: G12无机房（K1700）控柜V000 | H29: 编号 | I29: =I22+3 -> 14 | K29: G12无机房（K1700）控柜V000 | M29: 编号 | N29: =N22+3 -> 15
A30: 始端 | B30: =VLOOKUP(D29,数据库!$A$1:$J$64584,2,FALSE) -> KC/15 | C30: 末端 | D30: =VLOOKUP(D29,数据库!$A$1:$J$64584,3,FALSE) -> FJK/14 | F30: 始端 | G30: =VLOOKUP(I29,数据库!$A$1:$J$64584,2,FALSE) -> KC/18 | H30: 末端 | I30: =VLOOKUP(I29,数据库!$A$1:$J$64584,3,FALSE) -> FJA/13 | K30: 始端 | L30: =VLOOKUP(N29,数据库!$A$1:$J$64584,2,FALSE) -> KD/1 | M30: 末端 | N30: =VLOOKUP(N29,数据库!$A$1:$J$64584,3,FALSE) -> FJSA/4
A31: 始端处理 | B31: =VLOOKUP(D29,数据库!$A$1:$J$64584,6,FALSE) -> 5556T | C31: 末端处理 | D31: =VLOOKUP(D29,数据库!$A$1:$J$64584,7,FALSE) -> 红4 | F31: 始端处理 | G31: =VLOOKUP(I29,数据库!$A$1:$J$64584,6,FALSE) -> 5556T | H31: 末端处理 | I31: =VLOOKUP(I29,数据库!$A$1:$J$64584,7,FALSE) -> 红4 | K31: 始端处理 | L31: =VLOOKUP(N29,数据库!$A$1:$J$64584,6,FALSE) -> 5556T | M31: 末端处理 | N31: =VLOOKUP(N29,数据库!$A$1:$J$64584,7,FALSE) -> 红4
A32: 线径 | B32: =VLOOKUP(D29,数据库!$A$1:$J$64584,5,FALSE) -> 0.5黑 | C32: 组装 | D32: =VLOOKUP(D29,数据库!$A$1:$J$64584,11,FALSE) -> #REF! | F32: 线径 | G32: =VLOOKUP(I29,数据库!$A$1:$J$64584,5,FALSE) -> 0.5黑 | H32: 组装 | I32: =VLOOKUP(I29,数据库!$A$1:$J$64584,11,FALSE) -> #REF! | K32: 线径 | L32: =VLOOKUP(N29,数据库!$A$1:$J$64584,5,FALSE) -> 0.5黑 | M32: 组装 | N32: =VLOOKUP(N29,数据库!$A$1:$J$64584,11,FALSE) -> #REF!
A33: 线长 | B33: =VLOOKUP(D29,数据库!$A$1:$J$64584,8,FALSE) -> 1000 | C33: 数量 | D33: 20 | F33: 线长 | G33: =VLOOKUP(I29,数据库!$A$1:$J$64584,8,FALSE) -> 1130 | H33: 数量 | I33: 20 | K33: 线长 | L33: =VLOOKUP(N29,数据库!$A$1:$J$64584,8,FALSE) -> 1130 | M33: 数量 | N33: 20
A34: 作业 | B34: =VLOOKUP(D29,数据库!$A$1:$J$64584,4,FALSE) -> 标准 | F34: 作业 | G34: =VLOOKUP(I29,数据库!$A$1:$J$64584,4,FALSE) -> 标准 | K34: 作业 | L34: =VLOOKUP(N29,数据库!$A$1:$J$64584,4,FALSE) -> 标准
A36: G12无机房（K1700）控柜V000 | C36: 编号 | D36: =D29+3 -> 16 | F36: G12无机房（K1700）控柜V000 | H36: 编号 | I36: =I29+3 -> 17 | K36: G12无机房（K1700）控柜V000 | M36: 编号 | N36: =N29+3 -> 18
A37: 始端 | B37: =VLOOKUP(D36,数据库!$A$1:$J$64584,2,FALSE) -> KD/2 | C37: 末端 | D37: =VLOOKUP(D36,数据库!$A$1:$J$64584,3,FALSE) -> FJXA/4 | F37: 始端 | G37: =VLOOKUP(I36,数据库!$A$1:$J$64584,2,FALSE) -> KD/3 | H37: 末端 | I37: =VLOOKUP(I36,数据库!$A$1:$J$64584,3,FALSE) -> FJK/1 | K37: 始端 | L37: =VLOOKUP(N36,数据库!$A$1:$J$64584,2,FALSE) -> KD/4 | M37: 末端 | N37: =VLOOKUP(N36,数据库!$A$1:$J$64584,3,FALSE) -> FJK/2
A38: 始端处理 | B38: =VLOOKUP(D36,数据库!$A$1:$J$64584,6,FALSE) -> 5556T | C38: 末端处理 | D38: =VLOOKUP(D36,数据库!$A$1:$J$64584,7,FALSE) -> 红4 | F38: 始端处理 | G38: =VLOOKUP(I36,数据库!$A$1:$J$64584,6,FALSE) -> 5556T | H38: 末端处理 | I38: =VLOOKUP(I36,数据库!$A$1:$J$64584,7,FALSE) -> 红4 | K38: 始端处理 | L38: =VLOOKUP(N36,数据库!$A$1:$J$64584,6,FALSE) -> 5556T | M38: 末端处理 | N38: =VLOOKUP(N36,数据库!$A$1:$J$64584,7,FALSE) -> 红4
A39: 线径 | B39: =VLOOKUP(D36,数据库!$A$1:$J$64584,5,FALSE) -> 0.5黑 | C39: 组装 | D39: =VLOOKUP(D36,数据库!$A$1:$J$64584,11,FALSE) -> #REF! | F39: 线径 | G39: =VLOOKUP(I36,数据库!$A$1:$J$64584,5,FALSE) -> 0.5黑 | H39: 组装 | I39: =VLOOKUP(I36,数据库!$A$1:$J$64584,11,FALSE) -> #REF! | K39: 线径 | L39: =VLOOKUP(N36,数据库!$A$1:$J$64584,5,FALSE) -> 0.5黑 | M39: 组装 | N39: =VLOOKUP(N36,数据库!$A$1:$J$64584,11,FALSE) -> #REF!
A40: 线长 | B40: =VLOOKUP(D36,数据库!$A$1:$J$64584,8,FALSE) -> 1200 | C40: 数量 | D40: 20 | F40: 线长 | G40: =VLOOKUP(I36,数据库!$A$1:$J$64584,8,FALSE) -> 无 | H40: 数量 | I40: 20 | K40: 线长 | L40: =VLOOKUP(N36,数据库!$A$1:$J$64584,8,FALSE) -> 1070 | M40: 数量 | N40: 20
A41: 作业 | B41: =VLOOKUP(D36,数据库!$A$1:$J$64584,4,FALSE) -> 标准 | F41: 作业 | G41: =VLOOKUP(I36,数据库!$A$1:$J$64584,4,FALSE) -> 非G20时 | K41: 作业 | L41: =VLOOKUP(N36,数据库!$A$1:$J$64584,4,FALSE) -> 标准
A43: G12无机房（K1700）控柜V000 | C43: 编号 | D43: =D36+3 -> 19 | F43: G12无机房（K1700）控柜V000 | H43: 编号 | I43: =I36+3 -> 20 | K43: G12无机房（K1700）控柜V000 | M43: 编号 | N43: =N36+3 -> 21
A44: 始端 | B44: =VLOOKUP(D43,数据库!$A$1:$J$64584,2,FALSE) -> KD/8 | C44: 末端 | D44: =VLOOKUP(D43,数据库!$A$1:$J$64584,3,FALSE) -> MC1/54 | F44: 始端 | G44: =VLOOKUP(I43,数据库!$A$1:$J$64584,2,FALSE) -> KD/8 | H44: 末端 | I44: =VLOOKUP(I43,数据库!$A$1:$J$64584,3,FALSE) -> MC1/62 | K44: 始端 | L44: =VLOOKUP(N43,数据库!$A$1:$J$64584,2,FALSE) -> KD/9 | M44: 末端 | N44: =VLOOKUP(N43,数据库!$A$1:$J$64584,3,FALSE) -> BZC/62(22)
A45: 始端处理 | B45: =VLOOKUP(D43,数据库!$A$1:$J$64584,6,FALSE) -> 5556T | C45: 末端处理 | D45: =VLOOKUP(D43,数据库!$A$1:$J$64584,7,FALSE) -> 红4 | F45: 始端处理 | G45: =VLOOKUP(I43,数据库!$A$1:$J$64584,6,FALSE) -> 5556T | H45: 末端处理 | I45: =VLOOKUP(I43,数据库!$A$1:$J$64584,7,FALSE) -> 红4 | K45: 始端处理 | L45: =VLOOKUP(N43,数据库!$A$1:$J$64584,6,FALSE) -> 5556T | M45: 末端处理 | N45: =VLOOKUP(N43,数据库!$A$1:$J$64584,7,FALSE) -> 红4
A46: 线径 | B46: =VLOOKUP(D43,数据库!$A$1:$J$64584,5,FALSE) -> 0.5黑 | C46: 组装 | D46: =VLOOKUP(D43,数据库!$A$1:$J$64584,11,FALSE) -> #REF! | F46: 线径 | G46: =VLOOKUP(I43,数据库!$A$1:$J$64584,5,FALSE) -> 0.5黑 | H46: 组装 | I46: =VLOOKUP(I43,数据库!$A$1:$J$64584,11,FALSE) -> #REF! | K46: 线径 | L46: =VLOOKUP(N43,数据库!$A$1:$J$64584,5,FALSE) -> 0.5黑 | M46: 组装 | N46: =VLOOKUP(N43,数据库!$A$1:$J$64584,11,FALSE) -> #REF!
A47: 线长 | B47: =VLOOKUP(D43,数据库!$A$1:$J$64584,8,FALSE) -> 870 | C47: 数量 | D47: 20 | F47: 线长 | G47: =VLOOKUP(I43,数据库!$A$1:$J$64584,8,FALSE) -> 0 | H47: 数量 | I47: 20 | K47: 线长 | L47: =VLOOKUP(N43,数据库!$A$1:$J$64584,8,FALSE) -> 740 | M47: 数量 | N47: 20
A48: 作业 | B48: =VLOOKUP(D43,数据库!$A$1:$J$64584,4,FALSE) -> 有封星接触器+速度≤2.5M/S | F48: 作业 | G48: =VLOOKUP(I43,数据库!$A$1:$J$64584,4,FALSE) -> 有封星接触器+梯速＞2.5M/S | K48: 作业 | L48: =VLOOKUP(N43,数据库!$A$1:$J$64584,4,FALSE) -> 标准
A50: G12无机房（K1700）控柜V000 | C50: 编号 | D50: =D43+3 -> 22 | F50: G12无机房（K1700）控柜V000 | H50: 编号 | I50: =I43+3 -> 23 | K50: G12无机房（K1700）控柜V000 | M50: 编号 | N50: =N43+3 -> 24
A51: 始端 | B51: =VLOOKUP(D50,数据库!$A$1:$J$64584,2,FALSE) -> KD/10 | C51: 末端 | D51: =VLOOKUP(D50,数据库!$A$1:$J$64584,3,FALSE) -> MC/62(22) | F51: 始端 | G51: =VLOOKUP(I50,数据库!$A$1:$J$64584,2,FALSE) -> KD/11 | H51: 末端 | I51: =VLOOKUP(I50,数据库!$A$1:$J$64584,3,FALSE) -> MSC/62(22) | K51: 始端 | L51: =VLOOKUP(N50,数据库!$A$1:$J$64584,2,FALSE) -> KD/13 | M51: 末端 | N51: =VLOOKUP(N50,数据库!$A$1:$J$64584,3,FALSE) -> MSC/61(21)
A52: 始端处理 | B52: =VLOOKUP(D50,数据库!$A$1:$J$64584,6,FALSE) -> 5556T | C52: 末端处理 | D52: =VLOOKUP(D50,数据库!$A$1:$J$64584,7,FALSE) -> 红4 | F52: 始端处理 | G52: =VLOOKUP(I50,数据库!$A$1:$J$64584,6,FALSE) -> 5556T | H52: 末端处理 | I52: =VLOOKUP(I50,数据库!$A$1:$J$64584,7,FALSE) -> 红4 | K52: 始端处理 | L52: =VLOOKUP(N50,数据库!$A$1:$J$64584,6,FALSE) -> 5556T | M52: 末端处理 | N52: =VLOOKUP(N50,数据库!$A$1:$J$64584,7,FALSE) -> 红4
A53: 线径 | B53: =VLOOKUP(D50,数据库!$A$1:$J$64584,5,FALSE) -> 0.5黑 | C53: 组装 | D53: =VLOOKUP(D50,数据库!$A$1:$J$64584,11,FALSE) -> #REF! | F53: 线径 | G53: =VLOOKUP(I50,数据库!$A$1:$J$64584,5,FALSE) -> 0.5黑 | H53: 组装 | I53: =VLOOKUP(I50,数据库!$A$1:$J$64584,11,FALSE) -> #REF! | K53: 线径 | L53: =VLOOKUP(N50,数据库!$A$1:$J$64584,5,FALSE) -> 0.5黑 | M53: 组装 | N53: =VLOOKUP(N50,数据库!$A$1:$J$64584,11,FALSE) -> #REF!
A54: 线长 | B54: =VLOOKUP(D50,数据库!$A$1:$J$64584,8,FALSE) -> 900 | C54: 数量 | D54: 20 | F54: 线长 | G54: =VLOOKUP(I50,数据库!$A$1:$J$64584,8,FALSE) -> 830 | H54: 数量 | I54: 20 | K54: 线长 | L54: =VLOOKUP(N50,数据库!$A$1:$J$64584,8,FALSE) -> 840 | M54: 数量 | N54: 20
A55: 作业 | B55: =VLOOKUP(D50,数据库!$A$1:$J$64584,4,FALSE) -> 标准 | F55: 作业 | G55: =VLOOKUP(I50,数据库!$A$1:$J$64584,4,FALSE) -> 标准 | K55: 作业 | L55: =VLOOKUP(N50,数据库!$A$1:$J$64584,4,FALSE) -> 无接地保护装置时
A57: G12无机房（K1700）控柜V000 | C57: 编号 | D57: =D50+3 -> 25 | F57: G12无机房（K1700）控柜V000 | H57: 编号 | I57: =I50+3 -> 26 | K57: G12无机房（K1700）控柜V000 | M57: 编号 | N57: =N50+3 -> 27
A58: 始端 | B58: =VLOOKUP(D57,数据库!$A$1:$J$64584,2,FALSE) -> KD/19 | C58: 末端 | D58: =VLOOKUP(D57,数据库!$A$1:$J$64584,3,FALSE) -> FJK/1 | F58: 始端 | G58: =VLOOKUP(I57,数据库!$A$1:$J$64584,2,FALSE) -> KB/2 | H58: 末端 | I58: =VLOOKUP(I57,数据库!$A$1:$J$64584,3,FALSE) -> CE6 | K58: 始端 | L58: =VLOOKUP(N57,数据库!$A$1:$J$64584,2,FALSE) -> KB/3 | M58: 末端 | N58: =VLOOKUP(N57,数据库!$A$1:$J$64584,3,FALSE) -> CE6
A59: 始端处理 | B59: =VLOOKUP(D57,数据库!$A$1:$J$64584,6,FALSE) -> 5556T | C59: 末端处理 | D59: =VLOOKUP(D57,数据库!$A$1:$J$64584,7,FALSE) -> 红4 | F59: 始端处理 | G59: =VLOOKUP(I57,数据库!$A$1:$J$64584,6,FALSE) -> 5556T | H59: 末端处理 | I59: =VLOOKUP(I57,数据库!$A$1:$J$64584,7,FALSE) -> 红4 | K59: 始端处理 | L59: =VLOOKUP(N57,数据库!$A$1:$J$64584,6,FALSE) -> 5556T | M59: 末端处理 | N59: =VLOOKUP(N57,数据库!$A$1:$J$64584,7,FALSE) -> 红4
A60: 线径 | B60: =VLOOKUP(D57,数据库!$A$1:$J$64584,5,FALSE) -> 0.5黑 | C60: 组装 | D60: =VLOOKUP(D57,数据库!$A$1:$J$64584,11,FALSE) -> #REF! | F60: 线径 | G60: =VLOOKUP(I57,数据库!$A$1:$J$64584,5,FALSE) -> 0.5黑 | H60: 组装 | I60: =VLOOKUP(I57,数据库!$A$1:$J$64584,11,FALSE) -> #REF! | K60: 线径 | L60: =VLOOKUP(N57,数据库!$A$1:$J$64584,5,FALSE) -> 0.5黑 | M60: 组装 | N60: =VLOOKUP(N57,数据库!$A$1:$J$64584,11,FALSE) -> #REF!
A61: 线长 | B61: =VLOOKUP(D57,数据库!$A$1:$J$64584,8,FALSE) -> 1120 | C61: 数量 | D61: 20 | F61: 线长 | G61: =VLOOKUP(I57,数据库!$A$1:$J$64584,8,FALSE) -> 580 | H61: 数量 | I61: 20 | K61: 线长 | L61: =VLOOKUP(N57,数据库!$A$1:$J$64584,8,FALSE) -> 590 | M61: 数量 | N61: 20
A62: 作业 | B62: =VLOOKUP(D57,数据库!$A$1:$J$64584,4,FALSE) -> G20系统时 | F62: 作业 | G62: =VLOOKUP(I57,数据库!$A$1:$J$64584,4,FALSE) -> 标准（无机房） | K62: 作业 | L62: =VLOOKUP(N57,数据库!$A$1:$J$64584,4,FALSE) -> 标准（无机房）
A64: G12无机房（K1700）控柜V000 | C64: 编号 | D64: =D57+3 -> 28 | F64: G12无机房（K1700）控柜V000 | H64: 编号 | I64: =I57+3 -> 29 | K64: G12无机房（K1700）控柜V000 | M64: 编号 | N64: =N57+3 -> 30
A65: 始端 | B65: =VLOOKUP(D64,数据库!$A$1:$J$64584,2,FALSE) -> KB/10 | C65: 末端 | D65: =VLOOKUP(D64,数据库!$A$1:$J$64584,3,FALSE) -> MC/53(13) | F65: 始端 | G65: =VLOOKUP(I64,数据库!$A$1:$J$64584,2,FALSE) -> KDP2/1 | H65: 末端 | I65: =VLOOKUP(I64,数据库!$A$1:$J$64584,3,FALSE) -> BZC/61(21) | K65: 始端 | L65: =VLOOKUP(N64,数据库!$A$1:$J$64584,2,FALSE) -> KP/5 | M65: 末端 | N65: =VLOOKUP(N64,数据库!$A$1:$J$64584,3,FALSE) -> LBQ1/负载1
A66: 始端处理 | B66: =VLOOKUP(D64,数据库!$A$1:$J$64584,6,FALSE) -> 5556T | C66: 末端处理 | D66: =VLOOKUP(D64,数据库!$A$1:$J$64584,7,FALSE) -> 红4 | F66: 始端处理 | G66: =VLOOKUP(I64,数据库!$A$1:$J$64584,6,FALSE) -> 5556T | H66: 末端处理 | I66: =VLOOKUP(I64,数据库!$A$1:$J$64584,7,FALSE) -> 红4 | K66: 始端处理 | L66: =VLOOKUP(N64,数据库!$A$1:$J$64584,6,FALSE) -> 5556T | M66: 末端处理 | N66: =VLOOKUP(N64,数据库!$A$1:$J$64584,7,FALSE) -> 红全封
A67: 线径 | B67: =VLOOKUP(D64,数据库!$A$1:$J$64584,5,FALSE) -> 0.5黑 | C67: 组装 | D67: =VLOOKUP(D64,数据库!$A$1:$J$64584,11,FALSE) -> #REF! | F67: 线径 | G67: =VLOOKUP(I64,数据库!$A$1:$J$64584,5,FALSE) -> 0.5黑 | H67: 组装 | I67: =VLOOKUP(I64,数据库!$A$1:$J$64584,11,FALSE) -> #REF! | K67: 线径 | L67: =VLOOKUP(N64,数据库!$A$1:$J$64584,5,FALSE) -> 0.75黑 | M67: 组装 | N67: =VLOOKUP(N64,数据库!$A$1:$J$64584,11,FALSE) -> #REF!
A68: 线长 | B68: =VLOOKUP(D64,数据库!$A$1:$J$64584,8,FALSE) -> 810 | C68: 数量 | D68: 20 | F68: 线长 | G68: =VLOOKUP(I64,数据库!$A$1:$J$64584,8,FALSE) -> 880 | H68: 数量 | I68: 20 | K68: 线长 | L68: =VLOOKUP(N64,数据库!$A$1:$J$64584,8,FALSE) -> 690 | M68: 数量 | N68: 20
A69: 作业 | B69: =VLOOKUP(D64,数据库!$A$1:$J$64584,4,FALSE) -> 标准 | F69: 作业 | G69: =VLOOKUP(I64,数据库!$A$1:$J$64584,4,FALSE) -> 标准 | K69: 作业 | L69: =VLOOKUP(N64,数据库!$A$1:$J$64584,4,FALSE) -> 标准
A71: G12无机房（K1700）控柜V000 | C71: 编号 | D71: =D64+3 -> 31 | F71: G12无机房（K1700）控柜V000 | H71: 编号 | I71: =I64+3 -> 32 | K71: G12无机房（K1700）控柜V000 | M71: 编号 | N71: =N64+3 -> 33
A72: 始端 | B72: =VLOOKUP(D71,数据库!$A$1:$J$64584,2,FALSE) -> KP/7 | C72: 末端 | D72: =VLOOKUP(D71,数据库!$A$1:$J$64584,3,FALSE) -> LBQ1/负载2 | F72: 始端 | G72: =VLOOKUP(I71,数据库!$A$1:$J$64584,2,FALSE) -> KP/9 | H72: 末端 | I72: =VLOOKUP(I71,数据库!$A$1:$J$64584,3,FALSE) -> LBQ1/线路1 | K72: 始端 | L72: =VLOOKUP(N71,数据库!$A$1:$J$64584,2,FALSE) -> KP/10 | M72: 末端 | N72: =VLOOKUP(N71,数据库!$A$1:$J$64584,3,FALSE) -> LBQ1/线路2
A73: 始端处理 | B73: =VLOOKUP(D71,数据库!$A$1:$J$64584,6,FALSE) -> 5556T | C73: 末端处理 | D73: =VLOOKUP(D71,数据库!$A$1:$J$64584,7,FALSE) -> 红全封 | F73: 始端处理 | G73: =VLOOKUP(I71,数据库!$A$1:$J$64584,6,FALSE) -> 5556T | H73: 末端处理 | I73: =VLOOKUP(I71,数据库!$A$1:$J$64584,7,FALSE) -> 红全封 | K73: 始端处理 | L73: =VLOOKUP(N71,数据库!$A$1:$J$64584,6,FALSE) -> 5556T | M73: 末端处理 | N73: =VLOOKUP(N71,数据库!$A$1:$J$64584,7,FALSE) -> 红全封
A74: 线径 | B74: =VLOOKUP(D71,数据库!$A$1:$J$64584,5,FALSE) -> 0.75黑 | C74: 组装 | D74: =VLOOKUP(D71,数据库!$A$1:$J$64584,11,FALSE) -> #REF! | F74: 线径 | G74: =VLOOKUP(I71,数据库!$A$1:$J$64584,5,FALSE) -> 0.75黑 | H74: 组装 | I74: =VLOOKUP(I71,数据库!$A$1:$J$64584,11,FALSE) -> #REF! | K74: 线径 | L74: =VLOOKUP(N71,数据库!$A$1:$J$64584,5,FALSE) -> 0.75黑 | M74: 组装 | N74: =VLOOKUP(N71,数据库!$A$1:$J$64584,11,FALSE) -> #REF!
A75: 线长 | B75: =VLOOKUP(D71,数据库!$A$1:$J$64584,8,FALSE) -> 690 | C75: 数量 | D75: 20 | F75: 线长 | G75: =VLOOKUP(I71,数据库!$A$1:$J$64584,8,FALSE) -> 560 | H75: 数量 | I75: 20 | K75: 线长 | L75: =VLOOKUP(N71,数据库!$A$1:$J$64584,8,FALSE) -> 580 | M75: 数量 | N75: 20
A76: 作业 | B76: =VLOOKUP(D71,数据库!$A$1:$J$64584,4,FALSE) -> 标准 | F76: 作业 | G76: =VLOOKUP(I71,数据库!$A$1:$J$64584,4,FALSE) -> 标准 | K76: 作业 | L76: =VLOOKUP(N71,数据库!$A$1:$J$64584,4,FALSE) -> 标准
A78: G12无机房（K1700）控柜V000 | C78: 编号 | D78: =D71+3 -> 34 | F78: G12无机房（K1700）控柜V000 | H78: 编号 | I78: =I71+3 -> 35 | K78: G12无机房（K1700）控柜V000 | M78: 编号 | N78: =N71+3 -> 36
A79: 始端 | B79: =VLOOKUP(D78,数据库!$A$1:$J$64584,2,FALSE) -> KP/12 | C79: 末端 | D79: =VLOOKUP(D78,数据库!$A$1:$J$64584,3,FALSE) -> DYK/14 | F79: 始端 | G79: =VLOOKUP(I78,数据库!$A$1:$J$64584,2,FALSE) -> KP/14 | H79: 末端 | I79: =VLOOKUP(I78,数据库!$A$1:$J$64584,3,FALSE) -> DYK/24 | K79: 始端 | L79: =VLOOKUP(N78,数据库!$A$1:$J$64584,2,FALSE) -> KZ/1 | M79: 末端 | N79: =VLOOKUP(N78,数据库!$A$1:$J$64584,3,FALSE) -> 对讲机/+
A80: 始端处理 | B80: =VLOOKUP(D78,数据库!$A$1:$J$64584,6,FALSE) -> 5556T | C80: 末端处理 | D80: =VLOOKUP(D78,数据库!$A$1:$J$64584,7,FALSE) -> 红4 | F80: 始端处理 | G80: =VLOOKUP(I78,数据库!$A$1:$J$64584,6,FALSE) -> 5556T | H80: 末端处理 | I80: =VLOOKUP(I78,数据库!$A$1:$J$64584,7,FALSE) -> 红4 | K80: 始端处理 | L80: =VLOOKUP(N78,数据库!$A$1:$J$64584,6,FALSE) -> 5556T | M80: 末端处理 | N80: =VLOOKUP(N78,数据库!$A$1:$J$64584,7,FALSE) -> 红4
A81: 线径 | B81: =VLOOKUP(D78,数据库!$A$1:$J$64584,5,FALSE) -> 0.75黑 | C81: 组装 | D81: =VLOOKUP(D78,数据库!$A$1:$J$64584,11,FALSE) -> #REF! | F81: 线径 | G81: =VLOOKUP(I78,数据库!$A$1:$J$64584,5,FALSE) -> 0.75黑 | H81: 组装 | I81: =VLOOKUP(I78,数据库!$A$1:$J$64584,11,FALSE) -> #REF! | K81: 线径 | L81: =VLOOKUP(N78,数据库!$A$1:$J$64584,5,FALSE) -> 0.5黑 | M81: 组装 | N81: =VLOOKUP(N78,数据库!$A$1:$J$64584,11,FALSE) -> #REF!
A82: 线长 | B82: =VLOOKUP(D78,数据库!$A$1:$J$64584,8,FALSE) -> 1100 | C82: 数量 | D82: 20 | F82: 线长 | G82: =VLOOKUP(I78,数据库!$A$1:$J$64584,8,FALSE) -> 1120 | H82: 数量 | I82: 20 | K82: 线长 | L82: =VLOOKUP(N78,数据库!$A$1:$J$64584,8,FALSE) -> 1120 | M82: 数量 | N82: 20
A83: 作业 | B83: =VLOOKUP(D78,数据库!$A$1:$J$64584,4,FALSE) -> 无机房 | F83: 作业 | G83: =VLOOKUP(I78,数据库!$A$1:$J$64584,4,FALSE) -> 无机房 | K83: 作业 | L83: =VLOOKUP(N78,数据库!$A$1:$J$64584,4,FALSE) -> 标准
A85: G12无机房（K1700）控柜V000 | C85: 编号 | D85: =D78+3 -> 37 | F85: G12无机房（K1700）控柜V000 | H85: 编号 | I85: =I78+3 -> 38 | K85: G12无机房（K1700）控柜V000 | M85: 编号 | N85: =N78+3 -> 39
A86: 始端 | B86: =VLOOKUP(D85,数据库!$A$1:$J$64584,2,FALSE) -> KZ/3 | C86: 末端 | D86: =VLOOKUP(D85,数据库!$A$1:$J$64584,3,FALSE) -> 对讲机/- | F86: 始端 | G86: =VLOOKUP(I85,数据库!$A$1:$J$64584,2,FALSE) -> KZ/4 | H86: 末端 | I86: =VLOOKUP(I85,数据库!$A$1:$J$64584,3,FALSE) -> 对讲机/R | K86: 始端 | L86: =VLOOKUP(N85,数据库!$A$1:$J$64584,2,FALSE) -> KZ/5 | M86: 末端 | N86: =VLOOKUP(N85,数据库!$A$1:$J$64584,3,FALSE) -> 对讲机/L
A87: 始端处理 | B87: =VLOOKUP(D85,数据库!$A$1:$J$64584,6,FALSE) -> 5556T | C87: 末端处理 | D87: =VLOOKUP(D85,数据库!$A$1:$J$64584,7,FALSE) -> 红4 | F87: 始端处理 | G87: =VLOOKUP(I85,数据库!$A$1:$J$64584,6,FALSE) -> 5556T | H87: 末端处理 | I87: =VLOOKUP(I85,数据库!$A$1:$J$64584,7,FALSE) -> 红4(遥/371:蓝4) | K87: 始端处理 | L87: =VLOOKUP(N85,数据库!$A$1:$J$64584,6,FALSE) -> 5556T | M87: 末端处理 | N87: =VLOOKUP(N85,数据库!$A$1:$J$64584,7,FALSE) -> 红4(遥/372:蓝4)
A88: 线径 | B88: =VLOOKUP(D85,数据库!$A$1:$J$64584,5,FALSE) -> 0.5黑 | C88: 组装 | D88: =VLOOKUP(D85,数据库!$A$1:$J$64584,11,FALSE) -> #REF! | F88: 线径 | G88: =VLOOKUP(I85,数据库!$A$1:$J$64584,5,FALSE) -> 0.5黑 | H88: 组装 | I88: =VLOOKUP(I85,数据库!$A$1:$J$64584,11,FALSE) -> #REF! | K88: 线径 | L88: =VLOOKUP(N85,数据库!$A$1:$J$64584,5,FALSE) -> 0.5黑 | M88: 组装 | N88: =VLOOKUP(N85,数据库!$A$1:$J$64584,11,FALSE) -> #REF!
A89: 线长 | B89: =VLOOKUP(D85,数据库!$A$1:$J$64584,8,FALSE) -> 1120 | C89: 数量 | D89: 20 | F89: 线长 | G89: =VLOOKUP(I85,数据库!$A$1:$J$64584,8,FALSE) -> 1120 | H89: 数量 | I89: 20 | K89: 线长 | L89: =VLOOKUP(N85,数据库!$A$1:$J$64584,8,FALSE) -> 1120 | M89: 数量 | N89: 20
A90: 作业 | B90: =VLOOKUP(D85,数据库!$A$1:$J$64584,4,FALSE) -> 标准 | F90: 作业 | G90: =VLOOKUP(I85,数据库!$A$1:$J$64584,4,FALSE) -> 标准 | K90: 作业 | L90: =VLOOKUP(N85,数据库!$A$1:$J$64584,4,FALSE) -> 标准
A92: G12无机房（K1700）控柜V000 | C92: 编号 | D92: =D85+3 -> 40 | F92: G12无机房（K1700）控柜V000 | H92: 编号 | I92: =I85+3 -> 41 | K92: G12无机房（K1700）控柜V000 | M92: 编号 | N92: =N85+3 -> 42
A93: 始端 | B93: =VLOOKUP(D92,数据库!$A$1:$J$64584,2,FALSE) -> J1/1 | C93: 末端 | D93: =VLOOKUP(D92,数据库!$A$1:$J$64584,3,FALSE) -> PE | F93: 始端 | G93: =VLOOKUP(I92,数据库!$A$1:$J$64584,2,FALSE) -> J1/3 | H93: 末端 | I93: =VLOOKUP(I92,数据库!$A$1:$J$64584,3,FALSE) -> LBQ/L3'(7) | K93: 始端 | L93: =VLOOKUP(N92,数据库!$A$1:$J$64584,2,FALSE) -> J1/3 | M93: 末端 | N93: =VLOOKUP(N92,数据库!$A$1:$J$64584,3,FALSE) -> 端子排/T
A94: 始端处理 | B94: =VLOOKUP(D92,数据库!$A$1:$J$64584,6,FALSE) -> 5556T | C94: 末端处理 | D94: =VLOOKUP(D92,数据库!$A$1:$J$64584,7,FALSE) -> 红6圆 | F94: 始端处理 | G94: =VLOOKUP(I92,数据库!$A$1:$J$64584,6,FALSE) -> 5556T | H94: 末端处理 | I94: =VLOOKUP(I92,数据库!$A$1:$J$64584,7,FALSE) -> 红6圆 | K94: 始端处理 | L94: =VLOOKUP(N92,数据库!$A$1:$J$64584,6,FALSE) -> 5556T | M94: 末端处理 | N94: =VLOOKUP(N92,数据库!$A$1:$J$64584,7,FALSE) -> 半剥13
A95: 线径 | B95: =VLOOKUP(D92,数据库!$A$1:$J$64584,5,FALSE) -> 0.75黄绿 | C95: 组装 | D95: =VLOOKUP(D92,数据库!$A$1:$J$64584,11,FALSE) -> #REF! | F95: 线径 | G95: =VLOOKUP(I92,数据库!$A$1:$J$64584,5,FALSE) -> 0.75黑 | H95: 组装 | I95: =VLOOKUP(I92,数据库!$A$1:$J$64584,11,FALSE) -> #REF! | K95: 线径 | L95: =VLOOKUP(N92,数据库!$A$1:$J$64584,5,FALSE) -> 0.75黑 | M95: 组装 | N95: =VLOOKUP(N92,数据库!$A$1:$J$64584,11,FALSE) -> #REF!
A96: 线长 | B96: =VLOOKUP(D92,数据库!$A$1:$J$64584,8,FALSE) -> 1310 | C96: 数量 | D96: 20 | F96: 线长 | G96: =VLOOKUP(I92,数据库!$A$1:$J$64584,8,FALSE) -> 1660 | H96: 数量 | I96: 20 | K96: 线长 | L96: =VLOOKUP(N92,数据库!$A$1:$J$64584,8,FALSE) -> 1660 | M96: 数量 | N96: 20
A97: 作业 | B97: =VLOOKUP(D92,数据库!$A$1:$J$64584,4,FALSE) -> 标准 | F97: 作业 | G97: =VLOOKUP(I92,数据库!$A$1:$J$64584,4,FALSE) -> 有滤波器时 | K97: 作业 | L97: =VLOOKUP(N92,数据库!$A$1:$J$64584,4,FALSE) -> 无滤波器时
A99: G12无机房（K1700）控柜V000 | C99: 编号 | D99: =D92+3 -> 43 | F99: G12无机房（K1700）控柜V000 | H99: 编号 | I99: =I92+3 -> 44 | K99: G12无机房（K1700）控柜V000 | M99: 编号 | N99: =N92+3 -> 45
A100: 始端 | B100: =VLOOKUP(D99,数据库!$A$1:$J$64584,2,FALSE) -> J1/4 | C100: 末端 | D100: =VLOOKUP(D99,数据库!$A$1:$J$64584,3,FALSE) -> FJK/24 | F100: 始端 | G100: =VLOOKUP(I99,数据库!$A$1:$J$64584,2,FALSE) -> J1/6 | H100: 末端 | I100: =VLOOKUP(I99,数据库!$A$1:$J$64584,3,FALSE) -> BZC/4 | K100: 始端 | L100: =VLOOKUP(N99,数据库!$A$1:$J$64584,2,FALSE) -> J1/9 | M100: 末端 | N100: =VLOOKUP(N99,数据库!$A$1:$J$64584,3,FALSE) -> LBQ/N'(8)
A101: 始端处理 | B101: =VLOOKUP(D99,数据库!$A$1:$J$64584,6,FALSE) -> 5556T | C101: 末端处理 | D101: =VLOOKUP(D99,数据库!$A$1:$J$64584,7,FALSE) -> 红4 | F101: 始端处理 | G101: =VLOOKUP(I99,数据库!$A$1:$J$64584,6,FALSE) -> 红4 | H101: 末端处理 | I101: =VLOOKUP(I99,数据库!$A$1:$J$64584,7,FALSE) -> 红4 | K101: 始端处理 | L101: =VLOOKUP(N99,数据库!$A$1:$J$64584,6,FALSE) -> 5556T | M101: 末端处理 | N101: =VLOOKUP(N99,数据库!$A$1:$J$64584,7,FALSE) -> 红6圆
A102: 线径 | B102: =VLOOKUP(D99,数据库!$A$1:$J$64584,5,FALSE) -> 0.75黑 | C102: 组装 | D102: =VLOOKUP(D99,数据库!$A$1:$J$64584,11,FALSE) -> #REF! | F102: 线径 | G102: =VLOOKUP(I99,数据库!$A$1:$J$64584,5,FALSE) -> 0.5黑 | H102: 组装 | I102: =VLOOKUP(I99,数据库!$A$1:$J$64584,11,FALSE) -> #REF! | K102: 线径 | L102: =VLOOKUP(N99,数据库!$A$1:$J$64584,5,FALSE) -> 0.75黑 | M102: 组装 | N102: =VLOOKUP(N99,数据库!$A$1:$J$64584,11,FALSE) -> #REF!
A103: 线长 | B103: =VLOOKUP(D99,数据库!$A$1:$J$64584,8,FALSE) -> 430 | C103: 数量 | D103: 20 | F103: 线长 | G103: =VLOOKUP(I99,数据库!$A$1:$J$64584,8,FALSE) -> 960 | H103: 数量 | I103: 20 | K103: 线长 | L103: =VLOOKUP(N99,数据库!$A$1:$J$64584,8,FALSE) -> 1670 | M103: 数量 | N103: 20
A104: 作业 | B104: =VLOOKUP(D99,数据库!$A$1:$J$64584,4,FALSE) -> 标准 | F104: 作业 | G104: =VLOOKUP(I99,数据库!$A$1:$J$64584,4,FALSE) -> 标准 | K104: 作业 | L104: =VLOOKUP(N99,数据库!$A$1:$J$64584,4,FALSE) -> 有滤波器时
A106: G12无机房（K1700）控柜V000 | C106: 编号 | D106: =D99+3 -> 46 | F106: G12无机房（K1700）控柜V000 | H106: 编号 | I106: =I99+3 -> 47 | K106: G12无机房（K1700）控柜V000 | M106: 编号 | N106: =N99+3 -> 48
A107: 始端 | B107: =VLOOKUP(D106,数据库!$A$1:$J$64584,2,FALSE) -> J1/9 | C107: 末端 | D107: =VLOOKUP(D106,数据库!$A$1:$J$64584,3,FALSE) -> 端子排/N | F107: 始端 | G107: =VLOOKUP(I106,数据库!$A$1:$J$64584,2,FALSE) -> J1/12 | H107: 末端 | I107: =VLOOKUP(I106,数据库!$A$1:$J$64584,3,FALSE) -> BZC/2 | K107: 始端 | L107: =VLOOKUP(N106,数据库!$A$1:$J$64584,2,FALSE) -> J2/1 | M107: 末端 | N107: =VLOOKUP(N106,数据库!$A$1:$J$64584,3,FALSE) -> KDP1/2
A108: 始端处理 | B108: =VLOOKUP(D106,数据库!$A$1:$J$64584,6,FALSE) -> 5556T | C108: 末端处理 | D108: =VLOOKUP(D106,数据库!$A$1:$J$64584,7,FALSE) -> 101蓝针 | F108: 始端处理 | G108: =VLOOKUP(I106,数据库!$A$1:$J$64584,6,FALSE) -> 红4 | H108: 末端处理 | I108: =VLOOKUP(I106,数据库!$A$1:$J$64584,7,FALSE) -> 红4 | K108: 始端处理 | L108: =VLOOKUP(N106,数据库!$A$1:$J$64584,6,FALSE) -> 5556T | M108: 末端处理 | N108: =VLOOKUP(N106,数据库!$A$1:$J$64584,7,FALSE) -> 5556T
A109: 线径 | B109: =VLOOKUP(D106,数据库!$A$1:$J$64584,5,FALSE) -> 0.75黑 | C109: 组装 | D109: =VLOOKUP(D106,数据库!$A$1:$J$64584,11,FALSE) -> #REF! | F109: 线径 | G109: =VLOOKUP(I106,数据库!$A$1:$J$64584,5,FALSE) -> 0.5黑 | H109: 组装 | I109: =VLOOKUP(I106,数据库!$A$1:$J$64584,11,FALSE) -> #REF! | K109: 线径 | L109: =VLOOKUP(N106,数据库!$A$1:$J$64584,5,FALSE) -> 0.5黑 | M109: 组装 | N109: =VLOOKUP(N106,数据库!$A$1:$J$64584,11,FALSE) -> #REF!
A110: 线长 | B110: =VLOOKUP(D106,数据库!$A$1:$J$64584,8,FALSE) -> 1670 | C110: 数量 | D110: 20 | F110: 线长 | G110: =VLOOKUP(I106,数据库!$A$1:$J$64584,8,FALSE) -> 970 | H110: 数量 | I110: 20 | K110: 线长 | L110: =VLOOKUP(N106,数据库!$A$1:$J$64584,8,FALSE) -> 1050 | M110: 数量 | N110: 20
A111: 作业 | B111: =VLOOKUP(D106,数据库!$A$1:$J$64584,4,FALSE) -> 无滤波器时 | F111: 作业 | G111: =VLOOKUP(I106,数据库!$A$1:$J$64584,4,FALSE) -> 标准 | K111: 作业 | L111: =VLOOKUP(N106,数据库!$A$1:$J$64584,4,FALSE) -> 标准（无机房）
A113: G12无机房（K1700）控柜V000 | C113: 编号 | D113: =D106+3 -> 49 | F113: G12无机房（K1700）控柜V000 | H113: 编号 | I113: =I106+3 -> 50 | K113: G12无机房（K1700）控柜V000 | M113: 编号 | N113: =N106+3 -> 51
A114: 始端 | B114: =VLOOKUP(D113,数据库!$A$1:$J$64584,2,FALSE) -> J2/3 | C114: 末端 | D114: =VLOOKUP(D113,数据库!$A$1:$J$64584,3,FALSE) -> KDP2/2 | F114: 始端 | G114: =VLOOKUP(I113,数据库!$A$1:$J$64584,2,FALSE) -> J2/5 | H114: 末端 | I114: =VLOOKUP(I113,数据库!$A$1:$J$64584,3,FALSE) -> CE24 | K114: 始端 | L114: =VLOOKUP(N113,数据库!$A$1:$J$64584,2,FALSE) -> J2/7 | M114: 末端 | N114: =VLOOKUP(N113,数据库!$A$1:$J$64584,3,FALSE) -> KDP1/1
A115: 始端处理 | B115: =VLOOKUP(D113,数据库!$A$1:$J$64584,6,FALSE) -> 5556T | C115: 末端处理 | D115: =VLOOKUP(D113,数据库!$A$1:$J$64584,7,FALSE) -> 5556T | F115: 始端处理 | G115: =VLOOKUP(I113,数据库!$A$1:$J$64584,6,FALSE) -> 半剥8 | H115: 末端处理 | I115: =VLOOKUP(I113,数据库!$A$1:$J$64584,7,FALSE) -> 半剥13 | K115: 始端处理 | L115: =VLOOKUP(N113,数据库!$A$1:$J$64584,6,FALSE) -> 5556T | M115: 末端处理 | N115: =VLOOKUP(N113,数据库!$A$1:$J$64584,7,FALSE) -> 5556T
A116: 线径 | B116: =VLOOKUP(D113,数据库!$A$1:$J$64584,5,FALSE) -> 0.5黑 | C116: 组装 | D116: =VLOOKUP(D113,数据库!$A$1:$J$64584,11,FALSE) -> #REF! | F116: 线径 | G116: =VLOOKUP(I113,数据库!$A$1:$J$64584,5,FALSE) -> 0.5黑 | H116: 组装 | I116: =VLOOKUP(I113,数据库!$A$1:$J$64584,11,FALSE) -> #REF! | K116: 线径 | L116: =VLOOKUP(N113,数据库!$A$1:$J$64584,5,FALSE) -> 0.5黑 | M116: 组装 | N116: =VLOOKUP(N113,数据库!$A$1:$J$64584,11,FALSE) -> #REF!
...

Sheet 三贯G12C小功率制作卡
A1: 三贯货梯有机房（K1570）V0010 | C1: 编号 | D1: 1 | F1: 三贯货梯有机房（K1570）V0010 | H1: 编号 | I1: 2 | K1: 三贯货梯有机房（K1570）V0010 | M1: 编号 | N1: 3
A2: 始端 | B2: =VLOOKUP(D1,数据库!$A$1:$J$64584,2,FALSE) -> KC/1 | C2: 末端 | D2: =VLOOKUP(D1,数据库!$A$1:$J$64584,3,FALSE) -> MSC/1 | F2: 始端 | G2: =VLOOKUP(I1,数据库!$A$1:$J$64584,2,FALSE) -> KC/2 | H2: 末端 | I2: =VLOOKUP(I1,数据库!$A$1:$J$64584,3,FALSE) -> MC/A1 | K2: 始端 | L2: =VLOOKUP(N1,数据库!$A$1:$J$64584,2,FALSE) -> KC/3 | M2: 末端 | N2: =VLOOKUP(N1,数据库!$A$1:$J$64584,3,FALSE) -> FJXA/13
A3: 始端处理 | B3: =VLOOKUP(D1,数据库!$A$1:$J$64584,6,FALSE) -> 5556T | C3: 末端处理 | D3: =VLOOKUP(D1,数据库!$A$1:$J$64584,7,FALSE) -> 红4 | F3: 始端处理 | G3: =VLOOKUP(I1,数据库!$A$1:$J$64584,6,FALSE) -> 5556T | H3: 末端处理 | I3: =VLOOKUP(I1,数据库!$A$1:$J$64584,7,FALSE) -> 红4 | K3: 始端处理 | L3: =VLOOKUP(N1,数据库!$A$1:$J$64584,6,FALSE) -> 5556T | M3: 末端处理 | N3: =VLOOKUP(N1,数据库!$A$1:$J$64584,7,FALSE) -> 红4
A4: 线径 | B4: =VLOOKUP(D1,数据库!$A$1:$J$64584,5,FALSE) -> 0.5黑 | C4: 组装 | D4: =VLOOKUP(D1,数据库!A:J,11,FALSE) -> #REF! | F4: 线径 | G4: =VLOOKUP(I1,数据库!$A$1:$J$64584,5,FALSE) -> 0.5黑 | H4: 组装 | I4: =VLOOKUP(I1,数据库!A:J,11,FALSE) -> #REF! | K4: 线径 | L4: =VLOOKUP(N1,数据库!$A$1:$J$64584,5,FALSE) -> 0.5黑 | M4: 组装 | N4: =VLOOKUP(N1,数据库!A:J,11,FALSE) -> #REF!
A5: 线长 | B5: =VLOOKUP(D1,数据库!$A$1:$J$64584,9,FALSE) -> 0 | C5: 数量 | D5: 20 | F5: 线长 | G5: =VLOOKUP(I1,数据库!$A$1:$J$64584,9,FALSE) -> 0 | H5: 数量 | I5: 20 | K5: 线长 | L5: =VLOOKUP(N1,数据库!$A$1:$J$64584,9,FALSE) -> 0 | M5: 数量 | N5: 20
A6: 作业 | B6: =VLOOKUP(D1,数据库!$A$1:$J$64584,4,FALSE) -> 标准 | F6: 作业 | G6: =VLOOKUP(I1,数据库!$A$1:$J$64584,4,FALSE) -> 标准 | K6: 作业 | L6: =VLOOKUP(N1,数据库!$A$1:$J$64584,4,FALSE) -> 标准
A8: 三贯货梯有机房（K1570）V0010 | C8: 编号 | D8: =D1+3 -> 4 | F8: 三贯货梯有机房（K1570）V0010 | H8: 编号 | I8: =I1+3 -> 5 | K8: 三贯货梯有机房（K1570）V0010 | M8: 编号 | N8: =N1+3 -> 6
A9: 始端 | B9: =VLOOKUP(D8,数据库!$A$1:$J$64584,2,FALSE) -> KC/4 | C9: 末端 | D9: =VLOOKUP(D8,数据库!$A$1:$J$64584,3,FALSE) -> MC/A2 | F9: 始端 | G9: =VLOOKUP(I8,数据库!$A$1:$J$64584,2,FALSE) -> KC/5 | H9: 末端 | I9: =VLOOKUP(I8,数据库!$A$1:$J$64584,3,FALSE) -> BZC/A2 | K9: 始端 | L9: =VLOOKUP(N8,数据库!$A$1:$J$64584,2,FALSE) -> KC/6 | M9: 末端 | N9: =VLOOKUP(N8,数据库!$A$1:$J$64584,3,FALSE) -> MC1/A2
A10: 始端处理 | B10: =VLOOKUP(D8,数据库!$A$1:$J$64584,6,FALSE) -> 5556T | C10: 末端处理 | D10: =VLOOKUP(D8,数据库!$A$1:$J$64584,7,FALSE) -> 红4 | F10: 始端处理 | G10: =VLOOKUP(I8,数据库!$A$1:$J$64584,6,FALSE) -> 5556T | H10: 末端处理 | I10: =VLOOKUP(I8,数据库!$A$1:$J$64584,7,FALSE) -> 红4 | K10: 始端处理 | L10: =VLOOKUP(N8,数据库!$A$1:$J$64584,6,FALSE) -> 5556T | M10: 末端处理 | N10: =VLOOKUP(N8,数据库!$A$1:$J$64584,7,FALSE) -> 红4
A11: 线径 | B11: =VLOOKUP(D8,数据库!$A$1:$J$64584,5,FALSE) -> 0.5黑 | C11: 组装 | D11: =VLOOKUP(D8,数据库!A:J,11,FALSE) -> #REF! | F11: 线径 | G11: =VLOOKUP(I8,数据库!$A$1:$J$64584,5,FALSE) -> 0.5黑 | H11: 组装 | I11: =VLOOKUP(I8,数据库!$A$1:$J$64584,11,FALSE) -> #REF! | K11: 线径 | L11: =VLOOKUP(N8,数据库!$A$1:$J$64584,5,FALSE) -> 0.5黑 | M11: 组装 | N11: =VLOOKUP(N8,数据库!$A$1:$J$64584,11,FALSE) -> #REF!
A12: 线长 | B12: =VLOOKUP(D8,数据库!$A$1:$J$64584,9,FALSE) -> 0 | C12: 数量 | D12: 20 | F12: 线长 | G12: =VLOOKUP(I8,数据库!$A$1:$J$64584,9,FALSE) -> 0 | H12: 数量 | I12: 20 | K12: 线长 | L12: =VLOOKUP(N8,数据库!$A$1:$J$64584,9,FALSE) -> 0 | M12: 数量 | N12: 20
A13: 作业 | B13: =VLOOKUP(D8,数据库!$A$1:$J$64584,4,FALSE) -> 标准 | F13: 作业 | G13: =VLOOKUP(I8,数据库!$A$1:$J$64584,4,FALSE) -> 标准 | K13: 作业 | L13: =VLOOKUP(N8,数据库!$A$1:$J$64584,4,FALSE) -> 有封星接触器时
A15: 三贯货梯有机房（K1570）V0010 | C15: 编号 | D15: =D8+3 -> 7 | F15: 三贯货梯有机房（K1570）V0010 | H15: 编号 | I15: =I8+3 -> 8 | K15: 三贯货梯有机房（K1570）V0010 | M15: 编号 | N15: =N8+3 -> 9
A16: 始端 | B16: =VLOOKUP(D15,数据库!$A$1:$J$64584,2,FALSE) -> KC/7 | C16: 末端 | D16: =VLOOKUP(D15,数据库!$A$1:$J$64584,3,FALSE) -> MSC/A1 | F16: 始端 | G16: =VLOOKUP(I15,数据库!$A$1:$J$64584,2,FALSE) -> KC/8 | H16: 末端 | I16: =VLOOKUP(I15,数据库!$A$1:$J$64584,3,FALSE) -> MSC/A2 | K16: 始端 | L16: =VLOOKUP(N15,数据库!$A$1:$J$64584,2,FALSE) -> KC/9 | M16: 末端 | N16: =VLOOKUP(N15,数据库!$A$1:$J$64584,3,FALSE) -> MC1/A1
A17: 始端处理 | B17: =VLOOKUP(D15,数据库!$A$1:$J$64584,6,FALSE) -> 5556T | C17: 末端处理 | D17: =VLOOKUP(D15,数据库!$A$1:$J$64584,7,FALSE) -> 红4 | F17: 始端处理 | G17: =VLOOKUP(I15,数据库!$A$1:$J$64584,6,FALSE) -> 5556T | H17: 末端处理 | I17: =VLOOKUP(I15,数据库!$A$1:$J$64584,7,FALSE) -> 红4 | K17: 始端处理 | L17: =VLOOKUP(N15,数据库!$A$1:$J$64584,6,FALSE) -> 5556T | M17: 末端处理 | N17: =VLOOKUP(N15,数据库!$A$1:$J$64584,7,FALSE) -> 红4
A18: 线径 | B18: =VLOOKUP(D15,数据库!$A$1:$J$64584,5,FALSE) -> 0.5黑 | C18: 组装 | D18: =VLOOKUP(D15,数据库!A:J,11,FALSE) -> #REF! | F18: 线径 | G18: =VLOOKUP(I15,数据库!$A$1:$J$64584,5,FALSE) -> 0.5黑 | H18: 组装 | I18: =VLOOKUP(I15,数据库!$A$1:$J$64584,11,FALSE) -> #REF! | K18: 线径 | L18: =VLOOKUP(N15,数据库!$A$1:$J$64584,5,FALSE) -> 0.5黑 | M18: 组装 | N18: =VLOOKUP(N15,数据库!$A$1:$J$64584,11,FALSE) -> #REF!
A19: 线长 | B19: =VLOOKUP(D15,数据库!$A$1:$J$64584,9,FALSE) -> 0 | C19: 数量 | D19: 20 | F19: 线长 | G19: =VLOOKUP(I15,数据库!$A$1:$J$64584,9,FALSE) -> 0 | H19: 数量 | I19: 20 | K19: 线长 | L19: =VLOOKUP(N15,数据库!$A$1:$J$64584,9,FALSE) -> 0 | M19: 数量 | N19: 20
A20: 作业 | B20: =VLOOKUP(D15,数据库!$A$1:$J$64584,4,FALSE) -> 标准 | F20: 作业 | G20: =VLOOKUP(I15,数据库!$A$1:$J$64584,4,FALSE) -> 标准 | K20: 作业 | L20: =VLOOKUP(N15,数据库!$A$1:$J$64584,4,FALSE) -> 有封星接触器时
A22: 三贯货梯有机房（K1570）V0010 | C22: 编号 | D22: =D15+3 -> 10 | F22: 三贯货梯有机房（K1570）V0010 | H22: 编号 | I22: =I15+3 -> 11 | K22: 三贯货梯有机房（K1570）V0010 | M22: 编号 | N22: =N15+3 -> 12
A23: 始端 | B23: =VLOOKUP(D22,数据库!$A$1:$J$64584,2,FALSE) -> KC/12 | C23: 末端 | D23: =VLOOKUP(D22,数据库!$A$1:$J$64584,3,FALSE) -> FJA/24 | F23: 始端 | G23: =VLOOKUP(I22,数据库!$A$1:$J$64584,2,FALSE) -> KC/13 | H23: 末端 | I23: =VLOOKUP(I22,数据库!$A$1:$J$64584,3,FALSE) -> FTK/1 | K23: 始端 | L23: =VLOOKUP(N22,数据库!$A$1:$J$64584,2,FALSE) -> KC/13 | M23: 末端 | N23: =VLOOKUP(N22,数据库!$A$1:$J$64584,3,FALSE) -> CE5
A24: 始端处理 | B24: =VLOOKUP(D22,数据库!$A$1:$J$64584,6,FALSE) -> 5556T | C24: 末端处理 | D24: =VLOOKUP(D22,数据库!$A$1:$J$64584,7,FALSE) -> 红4 | F24: 始端处理 | G24: =VLOOKUP(I22,数据库!$A$1:$J$64584,6,FALSE) -> 5556T | H24: 末端处理 | I24: =VLOOKUP(I22,数据库!$A$1:$J$64584,7,FALSE) -> 红4 | K24: 始端处理 | L24: =VLOOKUP(N22,数据库!$A$1:$J$64584,6,FALSE) -> 5556T | M24: 末端处理 | N24: =VLOOKUP(N22,数据库!$A$1:$J$64584,7,FALSE) -> 半剥8
A25: 线径 | B25: =VLOOKUP(D22,数据库!$A$1:$J$64584,5,FALSE) -> 0.5黑 | C25: 组装 | D25: =VLOOKUP(D22,数据库!A:J,11,FALSE) -> #REF! | F25: 线径 | G25: =VLOOKUP(I22,数据库!$A$1:$J$64584,5,FALSE) -> 0.5黑 | H25: 组装 | I25: =VLOOKUP(I22,数据库!$A$1:$J$64584,11,FALSE) -> #REF! | K25: 线径 | L25: =VLOOKUP(N22,数据库!$A$1:$J$64584,5,FALSE) -> 0.5黑 | M25: 组装 | N25: =VLOOKUP(N22,数据库!$A$1:$J$64584,11,FALSE) -> #REF!
A26: 线长 | B26: =VLOOKUP(D22,数据库!$A$1:$J$64584,9,FALSE) -> 0 | C26: 数量 | D26: 20 | F26: 线长 | G26: =VLOOKUP(I22,数据库!$A$1:$J$64584,9,FALSE) -> 0 | H26: 数量 | I26: 20 | K26: 线长 | L26: =VLOOKUP(N22,数据库!$A$1:$J$64584,9,FALSE) -> 随设计书 | M26: 数量 | N26: 20
A27: 作业 | B27: =VLOOKUP(D22,数据库!$A$1:$J$64584,4,FALSE) -> 标准 | F27: 作业 | G27: =VLOOKUP(I22,数据库!$A$1:$J$64584,4,FALSE) -> 非钢带梯/非异步货梯 | K27: 作业 | L27: =VLOOKUP(N22,数据库!$A$1:$J$64584,4,FALSE) -> 钢带梯/异步货梯
A29: 三贯货梯有机房（K1570）V0010 | C29: 编号 | D29: =D22+3 -> 13 | F29: 三贯货梯有机房（K1570）V0010 | H29: 编号 | I29: =I22+3 -> 14 | K29: 三贯货梯有机房（K1570）V0010 | M29: 编号 | N29: =N22+3 -> 15
A30: 始端 | B30: =VLOOKUP(D29,数据库!$A$1:$J$64584,2,FALSE) -> KC/15 | C30: 末端 | D30: =VLOOKUP(D29,数据库!$A$1:$J$64584,3,FALSE) -> FJK/14 | F30: 始端 | G30: =VLOOKUP(I29,数据库!$A$1:$J$64584,2,FALSE) -> KC/18 | H30: 末端 | I30: =VLOOKUP(I29,数据库!$A$1:$J$64584,3,FALSE) -> FJA/13 | K30: 始端 | L30: =VLOOKUP(N29,数据库!$A$1:$J$64584,2,FALSE) -> KD/1 | M30: 末端 | N30: =VLOOKUP(N29,数据库!$A$1:$J$64584,3,FALSE) -> FJSA/4
A31: 始端处理 | B31: =VLOOKUP(D29,数据库!$A$1:$J$64584,6,FALSE) -> 5556T | C31: 末端处理 | D31: =VLOOKUP(D29,数据库!$A$1:$J$64584,7,FALSE) -> 红4 | F31: 始端处理 | G31: =VLOOKUP(I29,数据库!$A$1:$J$64584,6,FALSE) -> 5556T | H31: 末端处理 | I31: =VLOOKUP(I29,数据库!$A$1:$J$64584,7,FALSE) -> 红4 | K31: 始端处理 | L31: =VLOOKUP(N29,数据库!$A$1:$J$64584,6,FALSE) -> 5556T | M31: 末端处理 | N31: =VLOOKUP(N29,数据库!$A$1:$J$64584,7,FALSE) -> 红4
A32: 线径 | B32: =VLOOKUP(D29,数据库!$A$1:$J$64584,5,FALSE) -> 0.5黑 | C32: 组装 | D32: =VLOOKUP(D29,数据库!A:J,11,FALSE) -> #REF! | F32: 线径 | G32: =VLOOKUP(I29,数据库!$A$1:$J$64584,5,FALSE) -> 0.5黑 | H32: 组装 | I32: =VLOOKUP(I29,数据库!$A$1:$J$64584,11,FALSE) -> #REF! | K32: 线径 | L32: =VLOOKUP(N29,数据库!$A$1:$J$64584,5,FALSE) -> 0.5黑 | M32: 组装 | N32: =VLOOKUP(N29,数据库!$A$1:$J$64584,11,FALSE) -> #REF!
A33: 线长 | B33: =VLOOKUP(D29,数据库!$A$1:$J$64584,9,FALSE) -> 0 | C33: 数量 | D33: 20 | F33: 线长 | G33: =VLOOKUP(I29,数据库!$A$1:$J$64584,9,FALSE) -> 0 | H33: 数量 | I33: 20 | K33: 线长 | L33: =VLOOKUP(N29,数据库!$A$1:$J$64584,9,FALSE) -> 0 | M33: 数量 | N33: 20
A34: 作业 | B34: =VLOOKUP(D29,数据库!$A$1:$J$64584,4,FALSE) -> 标准 | F34: 作业 | G34: =VLOOKUP(I29,数据库!$A$1:$J$64584,4,FALSE) -> 标准 | K34: 作业 | L34: =VLOOKUP(N29,数据库!$A$1:$J$64584,4,FALSE) -> 标准
A36: 三贯货梯有机房（K1570）V0010 | C36: 编号 | D36: =D29+3 -> 16 | F36: 三贯货梯有机房（K1570）V0010 | H36: 编号 | I36: =I29+3 -> 17 | K36: 三贯货梯有机房（K1570）V0010 | M36: 编号 | N36: =N29+3 -> 18
A37: 始端 | B37: =VLOOKUP(D36,数据库!$A$1:$J$64584,2,FALSE) -> KD/2 | C37: 末端 | D37: =VLOOKUP(D36,数据库!$A$1:$J$64584,3,FALSE) -> FJXA/4 | F37: 始端 | G37: =VLOOKUP(I36,数据库!$A$1:$J$64584,2,FALSE) -> KD/3 | H37: 末端 | I37: =VLOOKUP(I36,数据库!$A$1:$J$64584,3,FALSE) -> FJK/1 | K37: 始端 | L37: =VLOOKUP(N36,数据库!$A$1:$J$64584,2,FALSE) -> KD/4 | M37: 末端 | N37: =VLOOKUP(N36,数据库!$A$1:$J$64584,3,FALSE) -> FJK/2
A38: 始端处理 | B38: =VLOOKUP(D36,数据库!$A$1:$J$64584,6,FALSE) -> 5556T | C38: 末端处理 | D38: =VLOOKUP(D36,数据库!$A$1:$J$64584,7,FALSE) -> 红4 | F38: 始端处理 | G38: =VLOOKUP(I36,数据库!$A$1:$J$64584,6,FALSE) -> 5556T | H38: 末端处理 | I38: =VLOOKUP(I36,数据库!$A$1:$J$64584,7,FALSE) -> 红4 | K38: 始端处理 | L38: =VLOOKUP(N36,数据库!$A$1:$J$64584,6,FALSE) -> 5556T | M38: 末端处理 | N38: =VLOOKUP(N36,数据库!$A$1:$J$64584,7,FALSE) -> 红4
A39: 线径 | B39: =VLOOKUP(D36,数据库!$A$1:$J$64584,5,FALSE) -> 0.5黑 | C39: 组装 | D39: =VLOOKUP(D36,数据库!A:J,11,FALSE) -> #REF! | F39: 线径 | G39: =VLOOKUP(I36,数据库!$A$1:$J$64584,5,FALSE) -> 0.5黑 | H39: 组装 | I39: =VLOOKUP(I36,数据库!$A$1:$J$64584,11,FALSE) -> #REF! | K39: 线径 | L39: =VLOOKUP(N36,数据库!$A$1:$J$64584,5,FALSE) -> 0.5黑 | M39: 组装 | N39: =VLOOKUP(N36,数据库!$A$1:$J$64584,11,FALSE) -> #REF!
A40: 线长 | B40: =VLOOKUP(D36,数据库!$A$1:$J$64584,9,FALSE) -> 0 | C40: 数量 | D40: 20 | F40: 线长 | G40: =VLOOKUP(I36,数据库!$A$1:$J$64584,9,FALSE) -> 随设计书 | H40: 数量 | I40: 20 | K40: 线长 | L40: =VLOOKUP(N36,数据库!$A$1:$J$64584,9,FALSE) -> 0 | M40: 数量 | N40: 20
A41: 作业 | B41: =VLOOKUP(D36,数据库!$A$1:$J$64584,4,FALSE) -> 标准 | F41: 作业 | G41: =VLOOKUP(I36,数据库!$A$1:$J$64584,4,FALSE) -> 非G20时 | K41: 作业 | L41: =VLOOKUP(N36,数据库!$A$1:$J$64584,4,FALSE) -> 标准
A43: 三贯货梯有机房（K1570）V0010 | C43: 编号 | D43: =D36+3 -> 19 | F43: 三贯货梯有机房（K1570）V0010 | H43: 编号 | I43: =I36+3 -> 20 | K43: 三贯货梯有机房（K1570）V0010 | M43: 编号 | N43: =N36+3 -> 21
A44: 始端 | B44: =VLOOKUP(D43,数据库!$A$1:$J$64584,2,FALSE) -> KD/8 | C44: 末端 | D44: =VLOOKUP(D43,数据库!$A$1:$J$64584,3,FALSE) -> MC1/54 | F44: 始端 | G44: =VLOOKUP(I43,数据库!$A$1:$J$64584,2,FALSE) -> KD/8 | H44: 末端 | I44: =VLOOKUP(I43,数据库!$A$1:$J$64584,3,FALSE) -> MC1/62 | K44: 始端 | L44: =VLOOKUP(N43,数据库!$A$1:$J$64584,2,FALSE) -> KD/9 | M44: 末端 | N44: =VLOOKUP(N43,数据库!$A$1:$J$64584,3,FALSE) -> BZC/62(22)
A45: 始端处理 | B45: =VLOOKUP(D43,数据库!$A$1:$J$64584,6,FALSE) -> 5556T | C45: 末端处理 | D45: =VLOOKUP(D43,数据库!$A$1:$J$64584,7,FALSE) -> 红4 | F45: 始端处理 | G45: =VLOOKUP(I43,数据库!$A$1:$J$64584,6,FALSE) -> 5556T | H45: 末端处理 | I45: =VLOOKUP(I43,数据库!$A$1:$J$64584,7,FALSE) -> 红4 | K45: 始端处理 | L45: =VLOOKUP(N43,数据库!$A$1:$J$64584,6,FALSE) -> 5556T | M45: 末端处理 | N45: =VLOOKUP(N43,数据库!$A$1:$J$64584,7,FALSE) -> 红4
A46: 线径 | B46: =VLOOKUP(D43,数据库!$A$1:$J$64584,5,FALSE) -> 0.5黑 | C46: 组装 | D46: =VLOOKUP(D43,数据库!A:J,11,FALSE) -> #REF! | F46: 线径 | G46: =VLOOKUP(I43,数据库!$A$1:$J$64584,5,FALSE) -> 0.5黑 | H46: 组装 | I46: =VLOOKUP(I43,数据库!$A$1:$J$64584,11,FALSE) -> #REF! | K46: 线径 | L46: =VLOOKUP(N43,数据库!$A$1:$J$64584,5,FALSE) -> 0.5黑 | M46: 组装 | N46: =VLOOKUP(N43,数据库!$A$1:$J$64584,11,FALSE) -> #REF!
A47: 线长 | B47: =VLOOKUP(D43,数据库!$A$1:$J$64584,9,FALSE) -> 随设计书 | C47: 数量 | D47: 20 | F47: 线长 | G47: =VLOOKUP(I43,数据库!$A$1:$J$64584,9,FALSE) -> 随设计书 | H47: 数量 | I47: 20 | K47: 线长 | L47: =VLOOKUP(N43,数据库!$A$1:$J$64584,9,FALSE) -> 0 | M47: 数量 | N47: 20
A48: 作业 | B48: =VLOOKUP(D43,数据库!$A$1:$J$64584,4,FALSE) -> 有封星接触器+速度≤2.5M/S | F48: 作业 | G48: =VLOOKUP(I43,数据库!$A$1:$J$64584,4,FALSE) -> 有封星接触器+梯速＞2.5M/S | K48: 作业 | L48: =VLOOKUP(N43,数据库!$A$1:$J$64584,4,FALSE) -> 标准
A50: 三贯货梯有机房（K1570）V0010 | C50: 编号 | D50: =D43+3 -> 22 | F50: 三贯货梯有机房（K1570）V0010 | H50: 编号 | I50: =I43+3 -> 23 | K50: 三贯货梯有机房（K1570）V0010 | M50: 编号 | N50: =N43+3 -> 24
A51: 始端 | B51: =VLOOKUP(D50,数据库!$A$1:$J$64584,2,FALSE) -> KD/10 | C51: 末端 | D51: =VLOOKUP(D50,数据库!$A$1:$J$64584,3,FALSE) -> MC/62(22) | F51: 始端 | G51: =VLOOKUP(I50,数据库!$A$1:$J$64584,2,FALSE) -> KD/11 | H51: 末端 | I51: =VLOOKUP(I50,数据库!$A$1:$J$64584,3,FALSE) -> MSC/62(22) | K51: 始端 | L51: =VLOOKUP(N50,数据库!$A$1:$J$64584,2,FALSE) -> KD/13 | M51: 末端 | N51: =VLOOKUP(N50,数据库!$A$1:$J$64584,3,FALSE) -> MSC/61(21)
A52: 始端处理 | B52: =VLOOKUP(D50,数据库!$A$1:$J$64584,6,FALSE) -> 5556T | C52: 末端处理 | D52: =VLOOKUP(D50,数据库!$A$1:$J$64584,7,FALSE) -> 红4 | F52: 始端处理 | G52: =VLOOKUP(I50,数据库!$A$1:$J$64584,6,FALSE) -> 5556T | H52: 末端处理 | I52: =VLOOKUP(I50,数据库!$A$1:$J$64584,7,FALSE) -> 红4 | K52: 始端处理 | L52: =VLOOKUP(N50,数据库!$A$1:$J$64584,6,FALSE) -> 5556T | M52: 末端处理 | N52: =VLOOKUP(N50,数据库!$A$1:$J$64584,7,FALSE) -> 红4
A53: 线径 | B53: =VLOOKUP(D50,数据库!$A$1:$J$64584,5,FALSE) -> 0.5黑 | C53: 组装 | D53: =VLOOKUP(D50,数据库!A:J,11,FALSE) -> #REF! | F53: 线径 | G53: =VLOOKUP(I50,数据库!$A$1:$J$64584,5,FALSE) -> 0.5黑 | H53: 组装 | I53: =VLOOKUP(I50,数据库!$A$1:$J$64584,11,FALSE) -> #REF! | K53: 线径 | L53: =VLOOKUP(N50,数据库!$A$1:$J$64584,5,FALSE) -> 0.5黑 | M53: 组装 | N53: =VLOOKUP(N50,数据库!$A$1:$J$64584,11,FALSE) -> #REF!
A54: 线长 | B54: =VLOOKUP(D50,数据库!$A$1:$J$64584,9,FALSE) -> 0 | C54: 数量 | D54: 20 | F54: 线长 | G54: =VLOOKUP(I50,数据库!$A$1:$J$64584,9,FALSE) -> 0 | H54: 数量 | I54: 20 | K54: 线长 | L54: =VLOOKUP(N50,数据库!$A$1:$J$64584,9,FALSE) -> 0 | M54: 数量 | N54: 20
A55: 作业 | B55: =VLOOKUP(D50,数据库!$A$1:$J$64584,4,FALSE) -> 标准 | F55: 作业 | G55: =VLOOKUP(I50,数据库!$A$1:$J$64584,4,FALSE) -> 标准 | K55: 作业 | L55: =VLOOKUP(N50,数据库!$A$1:$J$64584,4,FALSE) -> 无接地保护装置时
A57: 三贯货梯有机房（K1570）V0010 | C57: 编号 | D57: =D50+3 -> 25 | F57: 三贯货梯有机房（K1570）V0010 | H57: 编号 | I57: =I50+3 -> 26 | K57: 三贯货梯有机房（K1570）V0010 | M57: 编号 | N57: =N50+3 -> 27
A58: 始端 | B58: =VLOOKUP(D57,数据库!$A$1:$J$64584,2,FALSE) -> KD/19 | C58: 末端 | D58: =VLOOKUP(D57,数据库!$A$1:$J$64584,3,FALSE) -> FJK/1 | F58: 始端 | G58: =VLOOKUP(I57,数据库!$A$1:$J$64584,2,FALSE) -> KB/2 | H58: 末端 | I58: =VLOOKUP(I57,数据库!$A$1:$J$64584,3,FALSE) -> CE6 | K58: 始端 | L58: =VLOOKUP(N57,数据库!$A$1:$J$64584,2,FALSE) -> KB/3 | M58: 末端 | N58: =VLOOKUP(N57,数据库!$A$1:$J$64584,3,FALSE) -> CE6
A59: 始端处理 | B59: =VLOOKUP(D57,数据库!$A$1:$J$64584,6,FALSE) -> 5556T | C59: 末端处理 | D59: =VLOOKUP(D57,数据库!$A$1:$J$64584,7,FALSE) -> 红4 | F59: 始端处理 | G59: =VLOOKUP(I57,数据库!$A$1:$J$64584,6,FALSE) -> 5556T | H59: 末端处理 | I59: =VLOOKUP(I57,数据库!$A$1:$J$64584,7,FALSE) -> 红4 | K59: 始端处理 | L59: =VLOOKUP(N57,数据库!$A$1:$J$64584,6,FALSE) -> 5556T | M59: 末端处理 | N59: =VLOOKUP(N57,数据库!$A$1:$J$64584,7,FALSE) -> 红4
A60: 线径 | B60: =VLOOKUP(D57,数据库!$A$1:$J$64584,5,FALSE) -> 0.5黑 | C60: 组装 | D60: =VLOOKUP(D57,数据库!A:J,11,FALSE) -> #REF! | F60: 线径 | G60: =VLOOKUP(I57,数据库!$A$1:$J$64584,5,FALSE) -> 0.5黑 | H60: 组装 | I60: =VLOOKUP(I57,数据库!$A$1:$J$64584,11,FALSE) -> #REF! | K60: 线径 | L60: =VLOOKUP(N57,数据库!$A$1:$J$64584,5,FALSE) -> 0.5黑 | M60: 组装 | N60: =VLOOKUP(N57,数据库!$A$1:$J$64584,11,FALSE) -> #REF!
A61: 线长 | B61: =VLOOKUP(D57,数据库!$A$1:$J$64584,9,FALSE) -> 0 | C61: 数量 | D61: 20 | F61: 线长 | G61: =VLOOKUP(I57,数据库!$A$1:$J$64584,9,FALSE) -> CE6短接 | H61: 数量 | I61: 20 | K61: 线长 | L61: =VLOOKUP(N57,数据库!$A$1:$J$64584,9,FALSE) -> 0 | M61: 数量 | N61: 20
A62: 作业 | B62: =VLOOKUP(D57,数据库!$A$1:$J$64584,4,FALSE) -> G20系统时 | F62: 作业 | G62: =VLOOKUP(I57,数据库!$A$1:$J$64584,4,FALSE) -> 标准（无机房） | K62: 作业 | L62: =VLOOKUP(N57,数据库!$A$1:$J$64584,4,FALSE) -> 标准（无机房）
A64: 三贯货梯有机房（K1570）V0010 | C64: 编号 | D64: =D57+3 -> 28 | F64: 三贯货梯有机房（K1570）V0010 | H64: 编号 | I64: =I57+3 -> 29 | K64: 三贯货梯有机房（K1570）V0010 | M64: 编号 | N64: =N57+3 -> 30
A65: 始端 | B65: =VLOOKUP(D64,数据库!$A$1:$J$64584,2,FALSE) -> KB/10 | C65: 末端 | D65: =VLOOKUP(D64,数据库!$A$1:$J$64584,3,FALSE) -> MC/53(13) | F65: 始端 | G65: =VLOOKUP(I64,数据库!$A$1:$J$64584,2,FALSE) -> KDP2/1 | H65: 末端 | I65: =VLOOKUP(I64,数据库!$A$1:$J$64584,3,FALSE) -> BZC/61(21) | K65: 始端 | L65: =VLOOKUP(N64,数据库!$A$1:$J$64584,2,FALSE) -> KP/5 | M65: 末端 | N65: =VLOOKUP(N64,数据库!$A$1:$J$64584,3,FALSE) -> LBQ1/负载1
A66: 始端处理 | B66: =VLOOKUP(D64,数据库!$A$1:$J$64584,6,FALSE) -> 5556T | C66: 末端处理 | D66: =VLOOKUP(D64,数据库!$A$1:$J$64584,7,FALSE) -> 红4 | F66: 始端处理 | G66: =VLOOKUP(I64,数据库!$A$1:$J$64584,6,FALSE) -> 5556T | H66: 末端处理 | I66: =VLOOKUP(I64,数据库!$A$1:$J$64584,7,FALSE) -> 红4 | K66: 始端处理 | L66: =VLOOKUP(N64,数据库!$A$1:$J$64584,6,FALSE) -> 5556T | M66: 末端处理 | N66: =VLOOKUP(N64,数据库!$A$1:$J$64584,7,FALSE) -> 红全封
A67: 线径 | B67: =VLOOKUP(D64,数据库!$A$1:$J$64584,5,FALSE) -> 0.5黑 | C67: 组装 | D67: =VLOOKUP(D64,数据库!A:J,11,FALSE) -> #REF! | F67: 线径 | G67: =VLOOKUP(I64,数据库!$A$1:$J$64584,5,FALSE) -> 0.5黑 | H67: 组装 | I67: =VLOOKUP(I64,数据库!$A$1:$J$64584,11,FALSE) -> #REF! | K67: 线径 | L67: =VLOOKUP(N64,数据库!$A$1:$J$64584,5,FALSE) -> 0.75黑 | M67: 组装 | N67: =VLOOKUP(N64,数据库!$A$1:$J$64584,11,FALSE) -> #REF!
A68: 线长 | B68: =VLOOKUP(D64,数据库!$A$1:$J$64584,9,FALSE) -> 0 | C68: 数量 | D68: 20 | F68: 线长 | G68: =VLOOKUP(I64,数据库!$A$1:$J$64584,9,FALSE) -> 0 | H68: 数量 | I68: 20 | K68: 线长 | L68: =VLOOKUP(N64,数据库!$A$1:$J$64584,9,FALSE) -> 0 | M68: 数量 | N68: 20
A69: 作业 | B69: =VLOOKUP(D64,数据库!$A$1:$J$64584,4,FALSE) -> 标准 | F69: 作业 | G69: =VLOOKUP(I64,数据库!$A$1:$J$64584,4,FALSE) -> 标准 | K69: 作业 | L69: =VLOOKUP(N64,数据库!$A$1:$J$64584,4,FALSE) -> 标准
A71: 三贯货梯有机房（K1570）V0010 | C71: 编号 | D71: =D64+3 -> 31 | F71: 三贯货梯有机房（K1570）V0010 | H71: 编号 | I71: =I64+3 -> 32 | K71: 三贯货梯有机房（K1570）V0010 | M71: 编号 | N71: =N64+3 -> 33
A72: 始端 | B72: =VLOOKUP(D71,数据库!$A$1:$J$64584,2,FALSE) -> KP/7 | C72: 末端 | D72: =VLOOKUP(D71,数据库!$A$1:$J$64584,3,FALSE) -> LBQ1/负载2 | F72: 始端 | G72: =VLOOKUP(I71,数据库!$A$1:$J$64584,2,FALSE) -> KP/9 | H72: 末端 | I72: =VLOOKUP(I71,数据库!$A$1:$J$64584,3,FALSE) -> LBQ1/线路1 | K72: 始端 | L72: =VLOOKUP(N71,数据库!$A$1:$J$64584,2,FALSE) -> KP/10 | M72: 末端 | N72: =VLOOKUP(N71,数据库!$A$1:$J$64584,3,FALSE) -> LBQ1/线路2
A73: 始端处理 | B73: =VLOOKUP(D71,数据库!$A$1:$J$64584,6,FALSE) -> 5556T | C73: 末端处理 | D73: =VLOOKUP(D71,数据库!$A$1:$J$64584,7,FALSE) -> 红全封 | F73: 始端处理 | G73: =VLOOKUP(I71,数据库!$A$1:$J$64584,6,FALSE) -> 5556T | H73: 末端处理 | I73: =VLOOKUP(I71,数据库!$A$1:$J$64584,7,FALSE) -> 红全封 | K73: 始端处理 | L73: =VLOOKUP(N71,数据库!$A$1:$J$64584,6,FALSE) -> 5556T | M73: 末端处理 | N73: =VLOOKUP(N71,数据库!$A$1:$J$64584,7,FALSE) -> 红全封
A74: 线径 | B74: =VLOOKUP(D71,数据库!$A$1:$J$64584,5,FALSE) -> 0.75黑 | C74: 组装 | D74: =VLOOKUP(D71,数据库!A:J,11,FALSE) -> #REF! | F74: 线径 | G74: =VLOOKUP(I71,数据库!$A$1:$J$64584,5,FALSE) -> 0.75黑 | H74: 组装 | I74: =VLOOKUP(I71,数据库!$A$1:$J$64584,11,FALSE) -> #REF! | K74: 线径 | L74: =VLOOKUP(N71,数据库!$A$1:$J$64584,5,FALSE) -> 0.75黑 | M74: 组装 | N74: =VLOOKUP(N71,数据库!$A$1:$J$64584,11,FALSE) -> #REF!
A75: 线长 | B75: =VLOOKUP(D71,数据库!$A$1:$J$64584,9,FALSE) -> 0 | C75: 数量 | D75: 20 | F75: 线长 | G75: =VLOOKUP(I71,数据库!$A$1:$J$64584,9,FALSE) -> 0 | H75: 数量 | I75: 20 | K75: 线长 | L75: =VLOOKUP(N71,数据库!$A$1:$J$64584,9,FALSE) -> 0 | M75: 数量 | N75: 20
A76: 作业 | B76: =VLOOKUP(D71,数据库!$A$1:$J$64584,4,FALSE) -> 标准 | F76: 作业 | G76: =VLOOKUP(I71,数据库!$A$1:$J$64584,4,FALSE) -> 标准 | K76: 作业 | L76: =VLOOKUP(N71,数据库!$A$1:$J$64584,4,FALSE) -> 标准
A78: 三贯货梯有机房（K1570）V0010 | C78: 编号 | D78: =D71+3 -> 34 | F78: 三贯货梯有机房（K1570）V0010 | H78: 编号 | I78: =I71+3 -> 35 | K78: 三贯货梯有机房（K1570）V0010 | M78: 编号 | N78: =N71+3 -> 36
A79: 始端 | B79: =VLOOKUP(D78,数据库!$A$1:$J$64584,2,FALSE) -> KP/12 | C79: 末端 | D79: =VLOOKUP(D78,数据库!$A$1:$J$64584,3,FALSE) -> DYK/14 | F79: 始端 | G79: =VLOOKUP(I78,数据库!$A$1:$J$64584,2,FALSE) -> KP/14 | H79: 末端 | I79: =VLOOKUP(I78,数据库!$A$1:$J$64584,3,FALSE) -> DYK/24 | K79: 始端 | L79: =VLOOKUP(N78,数据库!$A$1:$J$64584,2,FALSE) -> KZ/1 | M79: 末端 | N79: =VLOOKUP(N78,数据库!$A$1:$J$64584,3,FALSE) -> 对讲机/+
A80: 始端处理 | B80: =VLOOKUP(D78,数据库!$A$1:$J$64584,6,FALSE) -> 5556T | C80: 末端处理 | D80: =VLOOKUP(D78,数据库!$A$1:$J$64584,7,FALSE) -> 红4 | F80: 始端处理 | G80: =VLOOKUP(I78,数据库!$A$1:$J$64584,6,FALSE) -> 5556T | H80: 末端处理 | I80: =VLOOKUP(I78,数据库!$A$1:$J$64584,7,FALSE) -> 红4 | K80: 始端处理 | L80: =VLOOKUP(N78,数据库!$A$1:$J$64584,6,FALSE) -> 5556T | M80: 末端处理 | N80: =VLOOKUP(N78,数据库!$A$1:$J$64584,7,FALSE) -> 红4
A81: 线径 | B81: =VLOOKUP(D78,数据库!$A$1:$J$64584,5,FALSE) -> 0.75黑 | C81: 组装 | D81: =VLOOKUP(D78,数据库!A:J,11,FALSE) -> #REF! | F81: 线径 | G81: =VLOOKUP(I78,数据库!$A$1:$J$64584,5,FALSE) -> 0.75黑 | H81: 组装 | I81: =VLOOKUP(I78,数据库!$A$1:$J$64584,11,FALSE) -> #REF! | K81: 线径 | L81: =VLOOKUP(N78,数据库!$A$1:$J$64584,5,FALSE) -> 0.5黑 | M81: 组装 | N81: =VLOOKUP(N78,数据库!$A$1:$J$64584,11,FALSE) -> #REF!
A82: 线长 | B82: =VLOOKUP(D78,数据库!$A$1:$J$64584,9,FALSE) -> 0 | C82: 数量 | D82: 20 | F82: 线长 | G82: =VLOOKUP(I78,数据库!$A$1:$J$64584,9,FALSE) -> 0 | H82: 数量 | I82: 20 | K82: 线长 | L82: =VLOOKUP(N78,数据库!$A$1:$J$64584,9,FALSE) -> 0 | M82: 数量 | N82: 20
A83: 作业 | B83: =VLOOKUP(D78,数据库!$A$1:$J$64584,4,FALSE) -> 无机房 | F83: 作业 | G83: =VLOOKUP(I78,数据库!$A$1:$J$64584,4,FALSE) -> 无机房 | K83: 作业 | L83: =VLOOKUP(N78,数据库!$A$1:$J$64584,4,FALSE) -> 标准
A85: 三贯货梯有机房（K1570）V0010 | C85: 编号 | D85: =D78+3 -> 37 | F85: 三贯货梯有机房（K1570）V0010 | H85: 编号 | I85: =I78+3 -> 38 | K85: 三贯货梯有机房（K1570）V0010 | M85: 编号 | N85: =N78+3 -> 39
A86: 始端 | B86: =VLOOKUP(D85,数据库!$A$1:$J$64584,2,FALSE) -> KZ/3 | C86: 末端 | D86: =VLOOKUP(D85,数据库!$A$1:$J$64584,3,FALSE) -> 对讲机/- | F86: 始端 | G86: =VLOOKUP(I85,数据库!$A$1:$J$64584,2,FALSE) -> KZ/4 | H86: 末端 | I86: =VLOOKUP(I85,数据库!$A$1:$J$64584,3,FALSE) -> 对讲机/R | K86: 始端 | L86: =VLOOKUP(N85,数据库!$A$1:$J$64584,2,FALSE) -> KZ/5 | M86: 末端 | N86: =VLOOKUP(N85,数据库!$A$1:$J$64584,3,FALSE) -> 对讲机/L
A87: 始端处理 | B87: =VLOOKUP(D85,数据库!$A$1:$J$64584,6,FALSE) -> 5556T | C87: 末端处理 | D87: =VLOOKUP(D85,数据库!$A$1:$J$64584,7,FALSE) -> 红4 | F87: 始端处理 | G87: =VLOOKUP(I85,数据库!$A$1:$J$64584,6,FALSE) -> 5556T | H87: 末端处理 | I87: =VLOOKUP(I85,数据库!$A$1:$J$64584,7,FALSE) -> 红4(遥/371:蓝4) | K87: 始端处理 | L87: =VLOOKUP(N85,数据库!$A$1:$J$64584,6,FALSE) -> 5556T | M87: 末端处理 | N87: =VLOOKUP(N85,数据库!$A$1:$J$64584,7,FALSE) -> 红4(遥/372:蓝4)
A88: 线径 | B88: =VLOOKUP(D85,数据库!$A$1:$J$64584,5,FALSE) -> 0.5黑 | C88: 组装 | D88: =VLOOKUP(D85,数据库!A:J,11,FALSE) -> #REF! | F88: 线径 | G88: =VLOOKUP(I85,数据库!$A$1:$J$64584,5,FALSE) -> 0.5黑 | H88: 组装 | I88: =VLOOKUP(I85,数据库!$A$1:$J$64584,11,FALSE) -> #REF! | K88: 线径 | L88: =VLOOKUP(N85,数据库!$A$1:$J$64584,5,FALSE) -> 0.5黑 | M88: 组装 | N88: =VLOOKUP(N85,数据库!$A$1:$J$64584,11,FALSE) -> #REF!
A89: 线长 | B89: =VLOOKUP(D85,数据库!$A$1:$J$64584,9,FALSE) -> 0 | C89: 数量 | D89: 20 | F89: 线长 | G89: =VLOOKUP(I85,数据库!$A$1:$J$64584,9,FALSE) -> 0 | H89: 数量 | I89: 20 | K89: 线长 | L89: =VLOOKUP(N85,数据库!$A$1:$J$64584,9,FALSE) -> 0 | M89: 数量 | N89: 20
A90: 作业 | B90: =VLOOKUP(D85,数据库!$A$1:$J$64584,4,FALSE) -> 标准 | F90: 作业 | G90: =VLOOKUP(I85,数据库!$A$1:$J$64584,4,FALSE) -> 标准 | K90: 作业 | L90: =VLOOKUP(N85,数据库!$A$1:$J$64584,4,FALSE) -> 标准
A92: 三贯货梯有机房（K1570）V0010 | C92: 编号 | D92: =D85+3 -> 40 | F92: 三贯货梯有机房（K1570）V0010 | H92: 编号 | I92: =I85+3 -> 41 | K92: 三贯货梯有机房（K1570）V0010 | M92: 编号 | N92: =N85+3 -> 42
A93: 始端 | B93: =VLOOKUP(D92,数据库!$A$1:$J$64584,2,FALSE) -> J1/1 | C93: 末端 | D93: =VLOOKUP(D92,数据库!$A$1:$J$64584,3,FALSE) -> PE | F93: 始端 | G93: =VLOOKUP(I92,数据库!$A$1:$J$64584,2,FALSE) -> J1/3 | H93: 末端 | I93: =VLOOKUP(I92,数据库!$A$1:$J$64584,3,FALSE) -> LBQ/L3'(7) | K93: 始端 | L93: =VLOOKUP(N92,数据库!$A$1:$J$64584,2,FALSE) -> J1/3 | M93: 末端 | N93: =VLOOKUP(N92,数据库!$A$1:$J$64584,3,FALSE) -> 端子排/T
A94: 始端处理 | B94: =VLOOKUP(D92,数据库!$A$1:$J$64584,6,FALSE) -> 5556T | C94: 末端处理 | D94: =VLOOKUP(D92,数据库!$A$1:$J$64584,7,FALSE) -> 红6圆 | F94: 始端处理 | G94: =VLOOKUP(I92,数据库!$A$1:$J$64584,6,FALSE) -> 5556T | H94: 末端处理 | I94: =VLOOKUP(I92,数据库!$A$1:$J$64584,7,FALSE) -> 红6圆 | K94: 始端处理 | L94: =VLOOKUP(N92,数据库!$A$1:$J$64584,6,FALSE) -> 5556T | M94: 末端处理 | N94: =VLOOKUP(N92,数据库!$A$1:$J$64584,7,FALSE) -> 半剥13
A95: 线径 | B95: =VLOOKUP(D92,数据库!$A$1:$J$64584,5,FALSE) -> 0.75黄绿 | C95: 组装 | D95: =VLOOKUP(D92,数据库!A:J,11,FALSE) -> #REF! | F95: 线径 | G95: =VLOOKUP(I92,数据库!$A$1:$J$64584,5,FALSE) -> 0.75黑 | H95: 组装 | I95: =VLOOKUP(I92,数据库!$A$1:$J$64584,11,FALSE) -> #REF! | K95: 线径 | L95: =VLOOKUP(N92,数据库!$A$1:$J$64584,5,FALSE) -> 0.75黑 | M95: 组装 | N95: =VLOOKUP(N92,数据库!$A$1:$J$64584,11,FALSE) -> #REF!
A96: 线长 | B96: =VLOOKUP(D92,数据库!$A$1:$J$64584,9,FALSE) -> 0 | C96: 数量 | D96: 20 | F96: 线长 | G96: =VLOOKUP(I92,数据库!$A$1:$J$64584,9,FALSE) -> 随BOM明细表 | H96: 数量 | I96: 20 | K96: 线长 | L96: =VLOOKUP(N92,数据库!$A$1:$J$64584,9,FALSE) -> 0 | M96: 数量 | N96: 20
A97: 作业 | B97: =VLOOKUP(D92,数据库!$A$1:$J$64584,4,FALSE) -> 标准 | F97: 作业 | G97: =VLOOKUP(I92,数据库!$A$1:$J$64584,4,FALSE) -> 有滤波器时 | K97: 作业 | L97: =VLOOKUP(N92,数据库!$A$1:$J$64584,4,FALSE) -> 无滤波器时
A99: 三贯货梯有机房（K1570）V0010 | C99: 编号 | D99: =D92+3 -> 43 | F99: 三贯货梯有机房（K1570）V0010 | H99: 编号 | I99: =I92+3 -> 44 | K99: 三贯货梯有机房（K1570）V0010 | M99: 编号 | N99: =N92+3 -> 45
A100: 始端 | B100: =VLOOKUP(D99,数据库!$A$1:$J$64584,2,FALSE) -> J1/4 | C100: 末端 | D100: =VLOOKUP(D99,数据库!$A$1:$J$64584,3,FALSE) -> FJK/24 | F100: 始端 | G100: =VLOOKUP(I99,数据库!$A$1:$J$64584,2,FALSE) -> J1/6 | H100: 末端 | I100: =VLOOKUP(I99,数据库!$A$1:$J$64584,3,FALSE) -> BZC/4 | K100: 始端 | L100: =VLOOKUP(N99,数据库!$A$1:$J$64584,2,FALSE) -> J1/9 | M100: 末端 | N100: =VLOOKUP(N99,数据库!$A$1:$J$64584,3,FALSE) -> LBQ/N'(8)
A101: 始端处理 | B101: =VLOOKUP(D99,数据库!$A$1:$J$64584,6,FALSE) -> 5556T | C101: 末端处理 | D101: =VLOOKUP(D99,数据库!$A$1:$J$64584,7,FALSE) -> 红4 | F101: 始端处理 | G101: =VLOOKUP(I99,数据库!$A$1:$J$64584,6,FALSE) -> 红4 | H101: 末端处理 | I101: =VLOOKUP(I99,数据库!$A$1:$J$64584,7,FALSE) -> 红4 | K101: 始端处理 | L101: =VLOOKUP(N99,数据库!$A$1:$J$64584,6,FALSE) -> 5556T | M101: 末端处理 | N101: =VLOOKUP(N99,数据库!$A$1:$J$64584,7,FALSE) -> 红6圆
A102: 线径 | B102: =VLOOKUP(D99,数据库!$A$1:$J$64584,5,FALSE) -> 0.75黑 | C102: 组装 | D102: =VLOOKUP(D99,数据库!A:J,11,FALSE) -> #REF! | F102: 线径 | G102: =VLOOKUP(I99,数据库!$A$1:$J$64584,5,FALSE) -> 0.5黑 | H102: 组装 | I102: =VLOOKUP(I99,数据库!$A$1:$J$64584,11,FALSE) -> #REF! | K102: 线径 | L102: =VLOOKUP(N99,数据库!$A$1:$J$64584,5,FALSE) -> 0.75黑 | M102: 组装 | N102: =VLOOKUP(N99,数据库!$A$1:$J$64584,11,FALSE) -> #REF!
A103: 线长 | B103: =VLOOKUP(D99,数据库!$A$1:$J$64584,9,FALSE) -> 0 | C103: 数量 | D103: 20 | F103: 线长 | G103: =VLOOKUP(I99,数据库!$A$1:$J$64584,9,FALSE) -> 0 | H103: 数量 | I103: 20 | K103: 线长 | L103: =VLOOKUP(N99,数据库!$A$1:$J$64584,9,FALSE) -> 随BOM明细表 | M103: 数量 | N103: 20
A104: 作业 | B104: =VLOOKUP(D99,数据库!$A$1:$J$64584,4,FALSE) -> 标准 | F104: 作业 | G104: =VLOOKUP(I99,数据库!$A$1:$J$64584,4,FALSE) -> 标准 | K104: 作业 | L104: =VLOOKUP(N99,数据库!$A$1:$J$64584,4,FALSE) -> 有滤波器时
A106: 三贯货梯有机房（K1570）V0010 | C106: 编号 | D106: =D99+3 -> 46 | F106: 三贯货梯有机房（K1570）V0010 | H106: 编号 | I106: =I99+3 -> 47 | K106: 三贯货梯有机房（K1570）V0010 | M106: 编号 | N106: =N99+3 -> 48
A107: 始端 | B107: =VLOOKUP(D106,数据库!$A$1:$J$64584,2,FALSE) -> J1/9 | C107: 末端 | D107: =VLOOKUP(D106,数据库!$A$1:$J$64584,3,FALSE) -> 端子排/N | F107: 始端 | G107: =VLOOKUP(I106,数据库!$A$1:$J$64584,2,FALSE) -> J1/12 | H107: 末端 | I107: =VLOOKUP(I106,数据库!$A$1:$J$64584,3,FALSE) -> BZC/2 | K107: 始端 | L107: =VLOOKUP(N106,数据库!$A$1:$J$64584,2,FALSE) -> J2/1 | M107: 末端 | N107: =VLOOKUP(N106,数据库!$A$1:$J$64584,3,FALSE) -> KDP1/2
A108: 始端处理 | B108: =VLOOKUP(D106,数据库!$A$1:$J$64584,6,FALSE) -> 5556T | C108: 末端处理 | D108: =VLOOKUP(D106,数据库!$A$1:$J$64584,7,FALSE) -> 101蓝针 | F108: 始端处理 | G108: =VLOOKUP(I106,数据库!$A$1:$J$64584,6,FALSE) -> 红4 | H108: 末端处理 | I108: =VLOOKUP(I106,数据库!$A$1:$J$64584,7,FALSE) -> 红4 | K108: 始端处理 | L108: =VLOOKUP(N106,数据库!$A$1:$J$64584,6,FALSE) -> 5556T | M108: 末端处理 | N108: =VLOOKUP(N106,数据库!$A$1:$J$64584,7,FALSE) -> 5556T
A109: 线径 | B109: =VLOOKUP(D106,数据库!$A$1:$J$64584,5,FALSE) -> 0.75黑 | C109: 组装 | D109: =VLOOKUP(D106,数据库!A:J,11,FALSE) -> #REF! | F109: 线径 | G109: =VLOOKUP(I106,数据库!$A$1:$J$64584,5,FALSE) -> 0.5黑 | H109: 组装 | I109: =VLOOKUP(I106,数据库!$A$1:$J$64584,11,FALSE) -> #REF! | K109: 线径 | L109: =VLOOKUP(N106,数据库!$A$1:$J$64584,5,FALSE) -> 0.5黑 | M109: 组装 | N109: =VLOOKUP(N106,数据库!$A$1:$J$64584,11,FALSE) -> #REF!
A110: 线长 | B110: =VLOOKUP(D106,数据库!$A$1:$J$64584,9,FALSE) -> 0 | C110: 数量 | D110: 20 | F110: 线长 | G110: =VLOOKUP(I106,数据库!$A$1:$J$64584,9,FALSE) -> 0 | H110: 数量 | I110: 20 | K110: 线长 | L110: =VLOOKUP(N106,数据库!$A$1:$J$64584,9,FALSE) -> 0 | M110: 数量 | N110: 20
A111: 作业 | B111: =VLOOKUP(D106,数据库!$A$1:$J$64584,4,FALSE) -> 无滤波器时 | F111: 作业 | G111: =VLOOKUP(I106,数据库!$A$1:$J$64584,4,FALSE) -> 标准 | K111: 作业 | L111: =VLOOKUP(N106,数据库!$A$1:$J$64584,4,FALSE) -> 标准（无机房）
A113: 三贯货梯有机房（K1570）V0010 | C113: 编号 | D113: =D106+3 -> 49 | F113: 三贯货梯有机房（K1570）V0010 | H113: 编号 | I113: =I106+3 -> 50 | K113: 三贯货梯有机房（K1570）V0010 | M113: 编号 | N113: =N106+3 -> 51
A114: 始端 | B114: =VLOOKUP(D113,数据库!$A$1:$J$64584,2,FALSE) -> J2/3 | C114: 末端 | D114: =VLOOKUP(D113,数据库!$A$1:$J$64584,3,FALSE) -> KDP2/2 | F114: 始端 | G114: =VLOOKUP(I113,数据库!$A$1:$J$64584,2,FALSE) -> J2/5 | H114: 末端 | I114: =VLOOKUP(I113,数据库!$A$1:$J$64584,3,FALSE) -> CE24 | K114: 始端 | L114: =VLOOKUP(N113,数据库!$A$1:$J$64584,2,FALSE) -> J2/7 | M114: 末端 | N114: =VLOOKUP(N113,数据库!$A$1:$J$64584,3,FALSE) -> KDP1/1
A115: 始端处理 | B115: =VLOOKUP(D113,数据库!$A$1:$J$64584,6,FALSE) -> 5556T | C115: 末端处理 | D115: =VLOOKUP(D113,数据库!$A$1:$J$64584,7,FALSE) -> 5556T | F115: 始端处理 | G115: =VLOOKUP(I113,数据库!$A$1:$J$64584,6,FALSE) -> 半剥8 | H115: 末端处理 | I115: =VLOOKUP(I113,数据库!$A$1:$J$64584,7,FALSE) -> 半剥13 | K115: 始端处理 | L115: =VLOOKUP(N113,数据库!$A$1:$J$64584,6,FALSE) -> 5556T | M115: 末端处理 | N115: =VLOOKUP(N113,数据库!$A$1:$J$64584,7,FALSE) -> 5556T
A116: 线径 | B116: =VLOOKUP(D113,数据库!$A$1:$J$64584,5,FALSE) -> 0.5黑 | C116: 组装 | D116: =VLOOKUP(D113,数据库!A:J,11,FALSE) -> #REF! | F116: 线径 | G116: =VLOOKUP(I113,数据库!$A$1:$J$64584,5,FALSE) -> 0.5黑 | H116: 组装 | I116: =VLOOKUP(I113,数据库!$A$1:$J$64584,11,FALSE) -> #REF! | K116: 线径 | L116: =VLOOKUP(N113,数据库!$A$1:$J$64584,5,FALSE) -> 0.5黑 | M116: 组装 | N116: =VLOOKUP(N113,数据库!$A$1:$J$64584,11,FALSE) -> #REF!
...

Sheet 三贯货梯大功率制作卡
A1: 三贯货梯大功率有机房（K1570）V0010 | C1: 编号 | D1: 1 | F1: 三贯货梯大功率有机房（K1570）V0010 | H1: 编号 | I1: 2 | K1: 三贯货梯大功率有机房（K1570）V0010 | M1: 编号 | N1: 3
A2: 始端 | B2: =VLOOKUP(D1,数据库!$A$1:$J$64584,2,FALSE) -> KC/1 | C2: 末端 | D2: =VLOOKUP(D1,数据库!$A$1:$J$64584,3,FALSE) -> MSC/1 | F2: 始端 | G2: =VLOOKUP(I1,数据库!$A$1:$J$64584,2,FALSE) -> KC/2 | H2: 末端 | I2: =VLOOKUP(I1,数据库!$A$1:$J$64584,3,FALSE) -> MC/A1 | K2: 始端 | L2: =VLOOKUP(N1,数据库!$A$1:$J$64584,2,FALSE) -> KC/3 | M2: 末端 | N2: =VLOOKUP(N1,数据库!$A$1:$J$64584,3,FALSE) -> FJXA/13
A3: 始端处理 | B3: =VLOOKUP(D1,数据库!$A$1:$J$64584,6,FALSE) -> 5556T | C3: 末端处理 | D3: =VLOOKUP(D1,数据库!$A$1:$J$64584,7,FALSE) -> 红4 | F3: 始端处理 | G3: =VLOOKUP(I1,数据库!$A$1:$J$64584,6,FALSE) -> 5556T | H3: 末端处理 | I3: =VLOOKUP(I1,数据库!$A$1:$J$64584,7,FALSE) -> 红4 | K3: 始端处理 | L3: =VLOOKUP(N1,数据库!$A$1:$J$64584,6,FALSE) -> 5556T | M3: 末端处理 | N3: =VLOOKUP(N1,数据库!$A$1:$J$64584,7,FALSE) -> 红4
A4: 线径 | B4: =VLOOKUP(D1,数据库!$A$1:$J$64584,5,FALSE) -> 0.5黑 | C4: 组装 | D4: =VLOOKUP(D1,数据库!A:J,11,FALSE) -> #REF! | F4: 线径 | G4: =VLOOKUP(I1,数据库!$A$1:$J$64584,5,FALSE) -> 0.5黑 | H4: 组装 | I4: =VLOOKUP(I1,数据库!A:J,11,FALSE) -> #REF! | K4: 线径 | L4: =VLOOKUP(N1,数据库!$A$1:$J$64584,5,FALSE) -> 0.5黑 | M4: 组装 | N4: =VLOOKUP(N1,数据库!A:J,11,FALSE) -> #REF!
A5: 线长 | B5: =VLOOKUP(D1,数据库!$A$1:$J$64584,10,FALSE) -> KC/1 | C5: 数量 | D5: 20 | F5: 线长 | G5: =VLOOKUP(I1,数据库!$A$1:$J$64584,10,FALSE) -> KC/2 | H5: 数量 | I5: 20 | K5: 线长 | L5: =VLOOKUP(N1,数据库!$A$1:$J$64584,10,FALSE) -> KC/3 | M5: 数量 | N5: 20
A6: 作业 | B6: =VLOOKUP(D1,数据库!$A$1:$J$64584,4,FALSE) -> 标准 | F6: 作业 | G6: =VLOOKUP(I1,数据库!$A$1:$J$64584,4,FALSE) -> 标准 | K6: 作业 | L6: =VLOOKUP(N1,数据库!$A$1:$J$64584,4,FALSE) -> 标准
A8: 三贯货梯大功率有机房（K1570）V0010 | C8: 编号 | D8: =D1+3 -> 4 | F8: 三贯货梯大功率有机房（K1570）V0010 | H8: 编号 | I8: =I1+3 -> 5 | K8: 三贯货梯大功率有机房（K1570）V0010 | M8: 编号 | N8: =N1+3 -> 6
A9: 始端 | B9: =VLOOKUP(D8,数据库!$A$1:$J$64584,2,FALSE) -> KC/4 | C9: 末端 | D9: =VLOOKUP(D8,数据库!$A$1:$J$64584,3,FALSE) -> MC/A2 | F9: 始端 | G9: =VLOOKUP(I8,数据库!$A$1:$J$64584,2,FALSE) -> KC/5 | H9: 末端 | I9: =VLOOKUP(I8,数据库!$A$1:$J$64584,3,FALSE) -> BZC/A2 | K9: 始端 | L9: =VLOOKUP(N8,数据库!$A$1:$J$64584,2,FALSE) -> KC/6 | M9: 末端 | N9: =VLOOKUP(N8,数据库!$A$1:$J$64584,3,FALSE) -> MC1/A2
A10: 始端处理 | B10: =VLOOKUP(D8,数据库!$A$1:$J$64584,6,FALSE) -> 5556T | C10: 末端处理 | D10: =VLOOKUP(D8,数据库!$A$1:$J$64584,7,FALSE) -> 红4 | F10: 始端处理 | G10: =VLOOKUP(I8,数据库!$A$1:$J$64584,6,FALSE) -> 5556T | H10: 末端处理 | I10: =VLOOKUP(I8,数据库!$A$1:$J$64584,7,FALSE) -> 红4 | K10: 始端处理 | L10: =VLOOKUP(N8,数据库!$A$1:$J$64584,6,FALSE) -> 5556T | M10: 末端处理 | N10: =VLOOKUP(N8,数据库!$A$1:$J$64584,7,FALSE) -> 红4
A11: 线径 | B11: =VLOOKUP(D8,数据库!$A$1:$J$64584,5,FALSE) -> 0.5黑 | C11: 组装 | D11: =VLOOKUP(D8,数据库!A:J,11,FALSE) -> #REF! | F11: 线径 | G11: =VLOOKUP(I8,数据库!$A$1:$J$64584,5,FALSE) -> 0.5黑 | H11: 组装 | I11: =VLOOKUP(I8,数据库!$A$1:$J$64584,11,FALSE) -> #REF! | K11: 线径 | L11: =VLOOKUP(N8,数据库!$A$1:$J$64584,5,FALSE) -> 0.5黑 | M11: 组装 | N11: =VLOOKUP(N8,数据库!$A$1:$J$64584,11,FALSE) -> #REF!
A12: 线长 | B12: =VLOOKUP(D8,数据库!$A$1:$J$64584,10,FALSE) -> KC/4 | C12: 数量 | D12: 20 | F12: 线长 | G12: =VLOOKUP(I8,数据库!$A$1:$J$64584,10,FALSE) -> KC/5 | H12: 数量 | I12: 20 | K12: 线长 | L12: =VLOOKUP(N8,数据库!$A$1:$J$64584,10,FALSE) -> KC/6 | M12: 数量 | N12: 20
A13: 作业 | B13: =VLOOKUP(D8,数据库!$A$1:$J$64584,4,FALSE) -> 标准 | F13: 作业 | G13: =VLOOKUP(I8,数据库!$A$1:$J$64584,4,FALSE) -> 标准 | K13: 作业 | L13: =VLOOKUP(N8,数据库!$A$1:$J$64584,4,FALSE) -> 有封星接触器时
A15: 三贯货梯大功率有机房（K1570）V0010 | C15: 编号 | D15: =D8+3 -> 7 | F15: 三贯货梯大功率有机房（K1570）V0010 | H15: 编号 | I15: =I8+3 -> 8 | K15: 三贯货梯大功率有机房（K1570）V0010 | M15: 编号 | N15: =N8+3 -> 9
A16: 始端 | B16: =VLOOKUP(D15,数据库!$A$1:$J$64584,2,FALSE) -> KC/7 | C16: 末端 | D16: =VLOOKUP(D15,数据库!$A$1:$J$64584,3,FALSE) -> MSC/A1 | F16: 始端 | G16: =VLOOKUP(I15,数据库!$A$1:$J$64584,2,FALSE) -> KC/8 | H16: 末端 | I16: =VLOOKUP(I15,数据库!$A$1:$J$64584,3,FALSE) -> MSC/A2 | K16: 始端 | L16: =VLOOKUP(N15,数据库!$A$1:$J$64584,2,FALSE) -> KC/9 | M16: 末端 | N16: =VLOOKUP(N15,数据库!$A$1:$J$64584,3,FALSE) -> MC1/A1
A17: 始端处理 | B17: =VLOOKUP(D15,数据库!$A$1:$J$64584,6,FALSE) -> 5556T | C17: 末端处理 | D17: =VLOOKUP(D15,数据库!$A$1:$J$64584,7,FALSE) -> 红4 | F17: 始端处理 | G17: =VLOOKUP(I15,数据库!$A$1:$J$64584,6,FALSE) -> 5556T | H17: 末端处理 | I17: =VLOOKUP(I15,数据库!$A$1:$J$64584,7,FALSE) -> 红4 | K17: 始端处理 | L17: =VLOOKUP(N15,数据库!$A$1:$J$64584,6,FALSE) -> 5556T | M17: 末端处理 | N17: =VLOOKUP(N15,数据库!$A$1:$J$64584,7,FALSE) -> 红4
A18: 线径 | B18: =VLOOKUP(D15,数据库!$A$1:$J$64584,5,FALSE) -> 0.5黑 | C18: 组装 | D18: =VLOOKUP(D15,数据库!A:J,11,FALSE) -> #REF! | F18: 线径 | G18: =VLOOKUP(I15,数据库!$A$1:$J$64584,5,FALSE) -> 0.5黑 | H18: 组装 | I18: =VLOOKUP(I15,数据库!$A$1:$J$64584,11,FALSE) -> #REF! | K18: 线径 | L18: =VLOOKUP(N15,数据库!$A$1:$J$64584,5,FALSE) -> 0.5黑 | M18: 组装 | N18: =VLOOKUP(N15,数据库!$A$1:$J$64584,11,FALSE) -> #REF!
A19: 线长 | B19: =VLOOKUP(D15,数据库!$A$1:$J$64584,10,FALSE) -> KC/7 | C19: 数量 | D19: 20 | F19: 线长 | G19: =VLOOKUP(I15,数据库!$A$1:$J$64584,10,FALSE) -> KC/8 | H19: 数量 | I19: 20 | K19: 线长 | L19: =VLOOKUP(N15,数据库!$A$1:$J$64584,10,FALSE) -> KC/9 | M19: 数量 | N19: 20
A20: 作业 | B20: =VLOOKUP(D15,数据库!$A$1:$J$64584,4,FALSE) -> 标准 | F20: 作业 | G20: =VLOOKUP(I15,数据库!$A$1:$J$64584,4,FALSE) -> 标准 | K20: 作业 | L20: =VLOOKUP(N15,数据库!$A$1:$J$64584,4,FALSE) -> 有封星接触器时
A22: 三贯货梯大功率有机房（K1570）V0010 | C22: 编号 | D22: =D15+3 -> 10 | F22: 三贯货梯大功率有机房（K1570）V0010 | H22: 编号 | I22: =I15+3 -> 11 | K22: 三贯货梯大功率有机房（K1570）V0010 | M22: 编号 | N22: =N15+3 -> 12
A23: 始端 | B23: =VLOOKUP(D22,数据库!$A$1:$J$64584,2,FALSE) -> KC/12 | C23: 末端 | D23: =VLOOKUP(D22,数据库!$A$1:$J$64584,3,FALSE) -> FJA/24 | F23: 始端 | G23: =VLOOKUP(I22,数据库!$A$1:$J$64584,2,FALSE) -> KC/13 | H23: 末端 | I23: =VLOOKUP(I22,数据库!$A$1:$J$64584,3,FALSE) -> FTK/1 | K23: 始端 | L23: =VLOOKUP(N22,数据库!$A$1:$J$64584,2,FALSE) -> KC/13 | M23: 末端 | N23: =VLOOKUP(N22,数据库!$A$1:$J$64584,3,FALSE) -> CE5
A24: 始端处理 | B24: =VLOOKUP(D22,数据库!$A$1:$J$64584,6,FALSE) -> 5556T | C24: 末端处理 | D24: =VLOOKUP(D22,数据库!$A$1:$J$64584,7,FALSE) -> 红4 | F24: 始端处理 | G24: =VLOOKUP(I22,数据库!$A$1:$J$64584,6,FALSE) -> 5556T | H24: 末端处理 | I24: =VLOOKUP(I22,数据库!$A$1:$J$64584,7,FALSE) -> 红4 | K24: 始端处理 | L24: =VLOOKUP(N22,数据库!$A$1:$J$64584,6,FALSE) -> 5556T | M24: 末端处理 | N24: =VLOOKUP(N22,数据库!$A$1:$J$64584,7,FALSE) -> 半剥8
A25: 线径 | B25: =VLOOKUP(D22,数据库!$A$1:$J$64584,5,FALSE) -> 0.5黑 | C25: 组装 | D25: =VLOOKUP(D22,数据库!A:J,11,FALSE) -> #REF! | F25: 线径 | G25: =VLOOKUP(I22,数据库!$A$1:$J$64584,5,FALSE) -> 0.5黑 | H25: 组装 | I25: =VLOOKUP(I22,数据库!$A$1:$J$64584,11,FALSE) -> #REF! | K25: 线径 | L25: =VLOOKUP(N22,数据库!$A$1:$J$64584,5,FALSE) -> 0.5黑 | M25: 组装 | N25: =VLOOKUP(N22,数据库!$A$1:$J$64584,11,FALSE) -> #REF!
A26: 线长 | B26: =VLOOKUP(D22,数据库!$A$1:$J$64584,10,FALSE) -> KC/12 | C26: 数量 | D26: 20 | F26: 线长 | G26: =VLOOKUP(I22,数据库!$A$1:$J$64584,10,FALSE) -> KC/13 | H26: 数量 | I26: 20 | K26: 线长 | L26: =VLOOKUP(N22,数据库!$A$1:$J$64584,10,FALSE) -> KC/13 | M26: 数量 | N26: 20
A27: 作业 | B27: =VLOOKUP(D22,数据库!$A$1:$J$64584,4,FALSE) -> 标准 | F27: 作业 | G27: =VLOOKUP(I22,数据库!$A$1:$J$64584,4,FALSE) -> 非钢带梯/非异步货梯 | K27: 作业 | L27: =VLOOKUP(N22,数据库!$A$1:$J$64584,4,FALSE) -> 钢带梯/异步货梯
A29: 三贯货梯大功率有机房（K1570）V0010 | C29: 编号 | D29: =D22+3 -> 13 | F29: 三贯货梯大功率有机房（K1570）V0010 | H29: 编号 | I29: =I22+3 -> 14 | K29: 三贯货梯大功率有机房（K1570）V0010 | M29: 编号 | N29: =N22+3 -> 15
A30: 始端 | B30: =VLOOKUP(D29,数据库!$A$1:$J$64584,2,FALSE) -> KC/15 | C30: 末端 | D30: =VLOOKUP(D29,数据库!$A$1:$J$64584,3,FALSE) -> FJK/14 | F30: 始端 | G30: =VLOOKUP(I29,数据库!$A$1:$J$64584,2,FALSE) -> KC/18 | H30: 末端 | I30: =VLOOKUP(I29,数据库!$A$1:$J$64584,3,FALSE) -> FJA/13 | K30: 始端 | L30: =VLOOKUP(N29,数据库!$A$1:$J$64584,2,FALSE) -> KD/1 | M30: 末端 | N30: =VLOOKUP(N29,数据库!$A$1:$J$64584,3,FALSE) -> FJSA/4
A31: 始端处理 | B31: =VLOOKUP(D29,数据库!$A$1:$J$64584,6,FALSE) -> 5556T | C31: 末端处理 | D31: =VLOOKUP(D29,数据库!$A$1:$J$64584,7,FALSE) -> 红4 | F31: 始端处理 | G31: =VLOOKUP(I29,数据库!$A$1:$J$64584,6,FALSE) -> 5556T | H31: 末端处理 | I31: =VLOOKUP(I29,数据库!$A$1:$J$64584,7,FALSE) -> 红4 | K31: 始端处理 | L31: =VLOOKUP(N29,数据库!$A$1:$J$64584,6,FALSE) -> 5556T | M31: 末端处理 | N31: =VLOOKUP(N29,数据库!$A$1:$J$64584,7,FALSE) -> 红4
A32: 线径 | B32: =VLOOKUP(D29,数据库!$A$1:$J$64584,5,FALSE) -> 0.5黑 | C32: 组装 | D32: =VLOOKUP(D29,数据库!A:J,11,FALSE) -> #REF! | F32: 线径 | G32: =VLOOKUP(I29,数据库!$A$1:$J$64584,5,FALSE) -> 0.5黑 | H32: 组装 | I32: =VLOOKUP(I29,数据库!$A$1:$J$64584,11,FALSE) -> #REF! | K32: 线径 | L32: =VLOOKUP(N29,数据库!$A$1:$J$64584,5,FALSE) -> 0.5黑 | M32: 组装 | N32: =VLOOKUP(N29,数据库!$A$1:$J$64584,11,FALSE) -> #REF!
A33: 线长 | B33: =VLOOKUP(D29,数据库!$A$1:$J$64584,10,FALSE) -> KC/15 | C33: 数量 | D33: 20 | F33: 线长 | G33: =VLOOKUP(I29,数据库!$A$1:$J$64584,10,FALSE) -> KC/18 | H33: 数量 | I33: 20 | K33: 线长 | L33: =VLOOKUP(N29,数据库!$A$1:$J$64584,10,FALSE) -> KD/1 | M33: 数量 | N33: 20
A34: 作业 | B34: =VLOOKUP(D29,数据库!$A$1:$J$64584,4,FALSE) -> 标准 | F34: 作业 | G34: =VLOOKUP(I29,数据库!$A$1:$J$64584,4,FALSE) -> 标准 | K34: 作业 | L34: =VLOOKUP(N29,数据库!$A$1:$J$64584,4,FALSE) -> 标准
A36: 三贯货梯大功率有机房（K1570）V0010 | C36: 编号 | D36: =D29+3 -> 16 | F36: 三贯货梯大功率有机房（K1570）V0010 | H36: 编号 | I36: =I29+3 -> 17 | K36: 三贯货梯大功率有机房（K1570）V0010 | M36: 编号 | N36: =N29+3 -> 18
A37: 始端 | B37: =VLOOKUP(D36,数据库!$A$1:$J$64584,2,FALSE) -> KD/2 | C37: 末端 | D37: =VLOOKUP(D36,数据库!$A$1:$J$64584,3,FALSE) -> FJXA/4 | F37: 始端 | G37: =VLOOKUP(I36,数据库!$A$1:$J$64584,2,FALSE) -> KD/3 | H37: 末端 | I37: =VLOOKUP(I36,数据库!$A$1:$J$64584,3,FALSE) -> FJK/1 | K37: 始端 | L37: =VLOOKUP(N36,数据库!$A$1:$J$64584,2,FALSE) -> KD/4 | M37: 末端 | N37: =VLOOKUP(N36,数据库!$A$1:$J$64584,3,FALSE) -> FJK/2
A38: 始端处理 | B38: =VLOOKUP(D36,数据库!$A$1:$J$64584,6,FALSE) -> 5556T | C38: 末端处理 | D38: =VLOOKUP(D36,数据库!$A$1:$J$64584,7,FALSE) -> 红4 | F38: 始端处理 | G38: =VLOOKUP(I36,数据库!$A$1:$J$64584,6,FALSE) -> 5556T | H38: 末端处理 | I38: =VLOOKUP(I36,数据库!$A$1:$J$64584,7,FALSE) -> 红4 | K38: 始端处理 | L38: =VLOOKUP(N36,数据库!$A$1:$J$64584,6,FALSE) -> 5556T | M38: 末端处理 | N38: =VLOOKUP(N36,数据库!$A$1:$J$64584,7,FALSE) -> 红4
A39: 线径 | B39: =VLOOKUP(D36,数据库!$A$1:$J$64584,5,FALSE) -> 0.5黑 | C39: 组装 | D39: =VLOOKUP(D36,数据库!A:J,11,FALSE) -> #REF! | F39: 线径 | G39: =VLOOKUP(I36,数据库!$A$1:$J$64584,5,FALSE) -> 0.5黑 | H39: 组装 | I39: =VLOOKUP(I36,数据库!$A$1:$J$64584,11,FALSE) -> #REF! | K39: 线径 | L39: =VLOOKUP(N36,数据库!$A$1:$J$64584,5,FALSE) -> 0.5黑 | M39: 组装 | N39: =VLOOKUP(N36,数据库!$A$1:$J$64584,11,FALSE) -> #REF!
A40: 线长 | B40: =VLOOKUP(D36,数据库!$A$1:$J$64584,10,FALSE) -> KD/2 | C40: 数量 | D40: 20 | F40: 线长 | G40: =VLOOKUP(I36,数据库!$A$1:$J$64584,10,FALSE) -> 0 | H40: 数量 | I40: 20 | K40: 线长 | L40: =VLOOKUP(N36,数据库!$A$1:$J$64584,10,FALSE) -> KD/4 | M40: 数量 | N40: 20
A41: 作业 | B41: =VLOOKUP(D36,数据库!$A$1:$J$64584,4,FALSE) -> 标准 | F41: 作业 | G41: =VLOOKUP(I36,数据库!$A$1:$J$64584,4,FALSE) -> 非G20时 | K41: 作业 | L41: =VLOOKUP(N36,数据库!$A$1:$J$64584,4,FALSE) -> 标准
A43: 三贯货梯大功率有机房（K1570）V0010 | C43: 编号 | D43: =D36+3 -> 19 | F43: 三贯货梯大功率有机房（K1570）V0010 | H43: 编号 | I43: =I36+3 -> 20 | K43: 三贯货梯大功率有机房（K1570）V0010 | M43: 编号 | N43: =N36+3 -> 21
A44: 始端 | B44: =VLOOKUP(D43,数据库!$A$1:$J$64584,2,FALSE) -> KD/8 | C44: 末端 | D44: =VLOOKUP(D43,数据库!$A$1:$J$64584,3,FALSE) -> MC1/54 | F44: 始端 | G44: =VLOOKUP(I43,数据库!$A$1:$J$64584,2,FALSE) -> KD/8 | H44: 末端 | I44: =VLOOKUP(I43,数据库!$A$1:$J$64584,3,FALSE) -> MC1/62 | K44: 始端 | L44: =VLOOKUP(N43,数据库!$A$1:$J$64584,2,FALSE) -> KD/9 | M44: 末端 | N44: =VLOOKUP(N43,数据库!$A$1:$J$64584,3,FALSE) -> BZC/62(22)
A45: 始端处理 | B45: =VLOOKUP(D43,数据库!$A$1:$J$64584,6,FALSE) -> 5556T | C45: 末端处理 | D45: =VLOOKUP(D43,数据库!$A$1:$J$64584,7,FALSE) -> 红4 | F45: 始端处理 | G45: =VLOOKUP(I43,数据库!$A$1:$J$64584,6,FALSE) -> 5556T | H45: 末端处理 | I45: =VLOOKUP(I43,数据库!$A$1:$J$64584,7,FALSE) -> 红4 | K45: 始端处理 | L45: =VLOOKUP(N43,数据库!$A$1:$J$64584,6,FALSE) -> 5556T | M45: 末端处理 | N45: =VLOOKUP(N43,数据库!$A$1:$J$64584,7,FALSE) -> 红4
A46: 线径 | B46: =VLOOKUP(D43,数据库!$A$1:$J$64584,5,FALSE) -> 0.5黑 | C46: 组装 | D46: =VLOOKUP(D43,数据库!A:J,11,FALSE) -> #REF! | F46: 线径 | G46: =VLOOKUP(I43,数据库!$A$1:$J$64584,5,FALSE) -> 0.5黑 | H46: 组装 | I46: =VLOOKUP(I43,数据库!$A$1:$J$64584,11,FALSE) -> #REF! | K46: 线径 | L46: =VLOOKUP(N43,数据库!$A$1:$J$64584,5,FALSE) -> 0.5黑 | M46: 组装 | N46: =VLOOKUP(N43,数据库!$A$1:$J$64584,11,FALSE) -> #REF!
A47: 线长 | B47: =VLOOKUP(D43,数据库!$A$1:$J$64584,10,FALSE) -> KD/8 | C47: 数量 | D47: 20 | F47: 线长 | G47: =VLOOKUP(I43,数据库!$A$1:$J$64584,10,FALSE) -> 0 | H47: 数量 | I47: 20 | K47: 线长 | L47: =VLOOKUP(N43,数据库!$A$1:$J$64584,10,FALSE) -> KD/9 | M47: 数量 | N47: 20
A48: 作业 | B48: =VLOOKUP(D43,数据库!$A$1:$J$64584,4,FALSE) -> 有封星接触器+速度≤2.5M/S | F48: 作业 | G48: =VLOOKUP(I43,数据库!$A$1:$J$64584,4,FALSE) -> 有封星接触器+梯速＞2.5M/S | K48: 作业 | L48: =VLOOKUP(N43,数据库!$A$1:$J$64584,4,FALSE) -> 标准
A50: 三贯货梯大功率有机房（K1570）V0010 | C50: 编号 | D50: =D43+3 -> 22 | F50: 三贯货梯大功率有机房（K1570）V0010 | H50: 编号 | I50: =I43+3 -> 23 | K50: 三贯货梯大功率有机房（K1570）V0010 | M50: 编号 | N50: =N43+3 -> 24
A51: 始端 | B51: =VLOOKUP(D50,数据库!$A$1:$J$64584,2,FALSE) -> KD/10 | C51: 末端 | D51: =VLOOKUP(D50,数据库!$A$1:$J$64584,3,FALSE) -> MC/62(22) | F51: 始端 | G51: =VLOOKUP(I50,数据库!$A$1:$J$64584,2,FALSE) -> KD/11 | H51: 末端 | I51: =VLOOKUP(I50,数据库!$A$1:$J$64584,3,FALSE) -> MSC/62(22) | K51: 始端 | L51: =VLOOKUP(N50,数据库!$A$1:$J$64584,2,FALSE) -> KD/13 | M51: 末端 | N51: =VLOOKUP(N50,数据库!$A$1:$J$64584,3,FALSE) -> MSC/61(21)
A52: 始端处理 | B52: =VLOOKUP(D50,数据库!$A$1:$J$64584,6,FALSE) -> 5556T | C52: 末端处理 | D52: =VLOOKUP(D50,数据库!$A$1:$J$64584,7,FALSE) -> 红4 | F52: 始端处理 | G52: =VLOOKUP(I50,数据库!$A$1:$J$64584,6,FALSE) -> 5556T | H52: 末端处理 | I52: =VLOOKUP(I50,数据库!$A$1:$J$64584,7,FALSE) -> 红4 | K52: 始端处理 | L52: =VLOOKUP(N50,数据库!$A$1:$J$64584,6,FALSE) -> 5556T | M52: 末端处理 | N52: =VLOOKUP(N50,数据库!$A$1:$J$64584,7,FALSE) -> 红4
A53: 线径 | B53: =VLOOKUP(D50,数据库!$A$1:$J$64584,5,FALSE) -> 0.5黑 | C53: 组装 | D53: =VLOOKUP(D50,数据库!A:J,11,FALSE) -> #REF! | F53: 线径 | G53: =VLOOKUP(I50,数据库!$A$1:$J$64584,5,FALSE) -> 0.5黑 | H53: 组装 | I53: =VLOOKUP(I50,数据库!$A$1:$J$64584,11,FALSE) -> #REF! | K53: 线径 | L53: =VLOOKUP(N50,数据库!$A$1:$J$64584,5,FALSE) -> 0.5黑 | M53: 组装 | N53: =VLOOKUP(N50,数据库!$A$1:$J$64584,11,FALSE) -> #REF!
A54: 线长 | B54: =VLOOKUP(D50,数据库!$A$1:$J$64584,10,FALSE) -> KD/10 | C54: 数量 | D54: 20 | F54: 线长 | G54: =VLOOKUP(I50,数据库!$A$1:$J$64584,10,FALSE) -> KD/11 | H54: 数量 | I54: 20 | K54: 线长 | L54: =VLOOKUP(N50,数据库!$A$1:$J$64584,10,FALSE) -> KD/13 | M54: 数量 | N54: 20
A55: 作业 | B55: =VLOOKUP(D50,数据库!$A$1:$J$64584,4,FALSE) -> 标准 | F55: 作业 | G55: =VLOOKUP(I50,数据库!$A$1:$J$64584,4,FALSE) -> 标准 | K55: 作业 | L55: =VLOOKUP(N50,数据库!$A$1:$J$64584,4,FALSE) -> 无接地保护装置时
A57: 三贯货梯大功率有机房（K1570）V0010 | C57: 编号 | D57: =D50+3 -> 25 | F57: 三贯货梯大功率有机房（K1570）V0010 | H57: 编号 | I57: =I50+3 -> 26 | K57: 三贯货梯大功率有机房（K1570）V0010 | M57: 编号 | N57: =N50+3 -> 27
A58: 始端 | B58: =VLOOKUP(D57,数据库!$A$1:$J$64584,2,FALSE) -> KD/19 | C58: 末端 | D58: =VLOOKUP(D57,数据库!$A$1:$J$64584,3,FALSE) -> FJK/1 | F58: 始端 | G58: =VLOOKUP(I57,数据库!$A$1:$J$64584,2,FALSE) -> KB/2 | H58: 末端 | I58: =VLOOKUP(I57,数据库!$A$1:$J$64584,3,FALSE) -> CE6 | K58: 始端 | L58: =VLOOKUP(N57,数据库!$A$1:$J$64584,2,FALSE) -> KB/3 | M58: 末端 | N58: =VLOOKUP(N57,数据库!$A$1:$J$64584,3,FALSE) -> CE6
A59: 始端处理 | B59: =VLOOKUP(D57,数据库!$A$1:$J$64584,6,FALSE) -> 5556T | C59: 末端处理 | D59: =VLOOKUP(D57,数据库!$A$1:$J$64584,7,FALSE) -> 红4 | F59: 始端处理 | G59: =VLOOKUP(I57,数据库!$A$1:$J$64584,6,FALSE) -> 5556T | H59: 末端处理 | I59: =VLOOKUP(I57,数据库!$A$1:$J$64584,7,FALSE) -> 红4 | K59: 始端处理 | L59: =VLOOKUP(N57,数据库!$A$1:$J$64584,6,FALSE) -> 5556T | M59: 末端处理 | N59: =VLOOKUP(N57,数据库!$A$1:$J$64584,7,FALSE) -> 红4
A60: 线径 | B60: =VLOOKUP(D57,数据库!$A$1:$J$64584,5,FALSE) -> 0.5黑 | C60: 组装 | D60: =VLOOKUP(D57,数据库!A:J,11,FALSE) -> #REF! | F60: 线径 | G60: =VLOOKUP(I57,数据库!$A$1:$J$64584,5,FALSE) -> 0.5黑 | H60: 组装 | I60: =VLOOKUP(I57,数据库!$A$1:$J$64584,11,FALSE) -> #REF! | K60: 线径 | L60: =VLOOKUP(N57,数据库!$A$1:$J$64584,5,FALSE) -> 0.5黑 | M60: 组装 | N60: =VLOOKUP(N57,数据库!$A$1:$J$64584,11,FALSE) -> #REF!
A61: 线长 | B61: =VLOOKUP(D57,数据库!$A$1:$J$64584,10,FALSE) -> 0 | C61: 数量 | D61: 20 | F61: 线长 | G61: =VLOOKUP(I57,数据库!$A$1:$J$64584,10,FALSE) -> KB/2 | H61: 数量 | I61: 20 | K61: 线长 | L61: =VLOOKUP(N57,数据库!$A$1:$J$64584,10,FALSE) -> KB/3 | M61: 数量 | N61: 20
A62: 作业 | B62: =VLOOKUP(D57,数据库!$A$1:$J$64584,4,FALSE) -> G20系统时 | F62: 作业 | G62: =VLOOKUP(I57,数据库!$A$1:$J$64584,4,FALSE) -> 标准（无机房） | K62: 作业 | L62: =VLOOKUP(N57,数据库!$A$1:$J$64584,4,FALSE) -> 标准（无机房）
A64: 三贯货梯大功率有机房（K1570）V0010 | C64: 编号 | D64: =D57+3 -> 28 | F64: 三贯货梯大功率有机房（K1570）V0010 | H64: 编号 | I64: =I57+3 -> 29 | K64: 三贯货梯大功率有机房（K1570）V0010 | M64: 编号 | N64: =N57+3 -> 30
A65: 始端 | B65: =VLOOKUP(D64,数据库!$A$1:$J$64584,2,FALSE) -> KB/10 | C65: 末端 | D65: =VLOOKUP(D64,数据库!$A$1:$J$64584,3,FALSE) -> MC/53(13) | F65: 始端 | G65: =VLOOKUP(I64,数据库!$A$1:$J$64584,2,FALSE) -> KDP2/1 | H65: 末端 | I65: =VLOOKUP(I64,数据库!$A$1:$J$64584,3,FALSE) -> BZC/61(21) | K65: 始端 | L65: =VLOOKUP(N64,数据库!$A$1:$J$64584,2,FALSE) -> KP/5 | M65: 末端 | N65: =VLOOKUP(N64,数据库!$A$1:$J$64584,3,FALSE) -> LBQ1/负载1
A66: 始端处理 | B66: =VLOOKUP(D64,数据库!$A$1:$J$64584,6,FALSE) -> 5556T | C66: 末端处理 | D66: =VLOOKUP(D64,数据库!$A$1:$J$64584,7,FALSE) -> 红4 | F66: 始端处理 | G66: =VLOOKUP(I64,数据库!$A$1:$J$64584,6,FALSE) -> 5556T | H66: 末端处理 | I66: =VLOOKUP(I64,数据库!$A$1:$J$64584,7,FALSE) -> 红4 | K66: 始端处理 | L66: =VLOOKUP(N64,数据库!$A$1:$J$64584,6,FALSE) -> 5556T | M66: 末端处理 | N66: =VLOOKUP(N64,数据库!$A$1:$J$64584,7,FALSE) -> 红全封
A67: 线径 | B67: =VLOOKUP(D64,数据库!$A$1:$J$64584,5,FALSE) -> 0.5黑 | C67: 组装 | D67: =VLOOKUP(D64,数据库!A:J,11,FALSE) -> #REF! | F67: 线径 | G67: =VLOOKUP(I64,数据库!$A$1:$J$64584,5,FALSE) -> 0.5黑 | H67: 组装 | I67: =VLOOKUP(I64,数据库!$A$1:$J$64584,11,FALSE) -> #REF! | K67: 线径 | L67: =VLOOKUP(N64,数据库!$A$1:$J$64584,5,FALSE) -> 0.75黑 | M67: 组装 | N67: =VLOOKUP(N64,数据库!$A$1:$J$64584,11,FALSE) -> #REF!
A68: 线长 | B68: =VLOOKUP(D64,数据库!$A$1:$J$64584,10,FALSE) -> KB/10 | C68: 数量 | D68: 20 | F68: 线长 | G68: =VLOOKUP(I64,数据库!$A$1:$J$64584,10,FALSE) -> KDP2/1 | H68: 数量 | I68: 20 | K68: 线长 | L68: =VLOOKUP(N64,数据库!$A$1:$J$64584,10,FALSE) -> KP/5 | M68: 数量 | N68: 20
A69: 作业 | B69: =VLOOKUP(D64,数据库!$A$1:$J$64584,4,FALSE) -> 标准 | F69: 作业 | G69: =VLOOKUP(I64,数据库!$A$1:$J$64584,4,FALSE) -> 标准 | K69: 作业 | L69: =VLOOKUP(N64,数据库!$A$1:$J$64584,4,FALSE) -> 标准
A71: 三贯货梯大功率有机房（K1570）V0010 | C71: 编号 | D71: =D64+3 -> 31 | F71: 三贯货梯大功率有机房（K1570）V0010 | H71: 编号 | I71: =I64+3 -> 32 | K71: 三贯货梯大功率有机房（K1570）V0010 | M71: 编号 | N71: =N64+3 -> 33
A72: 始端 | B72: =VLOOKUP(D71,数据库!$A$1:$J$64584,2,FALSE) -> KP/7 | C72: 末端 | D72: =VLOOKUP(D71,数据库!$A$1:$J$64584,3,FALSE) -> LBQ1/负载2 | F72: 始端 | G72: =VLOOKUP(I71,数据库!$A$1:$J$64584,2,FALSE) -> KP/9 | H72: 末端 | I72: =VLOOKUP(I71,数据库!$A$1:$J$64584,3,FALSE) -> LBQ1/线路1 | K72: 始端 | L72: =VLOOKUP(N71,数据库!$A$1:$J$64584,2,FALSE) -> KP/10 | M72: 末端 | N72: =VLOOKUP(N71,数据库!$A$1:$J$64584,3,FALSE) -> LBQ1/线路2
A73: 始端处理 | B73: =VLOOKUP(D71,数据库!$A$1:$J$64584,6,FALSE) -> 5556T | C73: 末端处理 | D73: =VLOOKUP(D71,数据库!$A$1:$J$64584,7,FALSE) -> 红全封 | F73: 始端处理 | G73: =VLOOKUP(I71,数据库!$A$1:$J$64584,6,FALSE) -> 5556T | H73: 末端处理 | I73: =VLOOKUP(I71,数据库!$A$1:$J$64584,7,FALSE) -> 红全封 | K73: 始端处理 | L73: =VLOOKUP(N71,数据库!$A$1:$J$64584,6,FALSE) -> 5556T | M73: 末端处理 | N73: =VLOOKUP(N71,数据库!$A$1:$J$64584,7,FALSE) -> 红全封
A74: 线径 | B74: =VLOOKUP(D71,数据库!$A$1:$J$64584,5,FALSE) -> 0.75黑 | C74: 组装 | D74: =VLOOKUP(D71,数据库!A:J,11,FALSE) -> #REF! | F74: 线径 | G74: =VLOOKUP(I71,数据库!$A$1:$J$64584,5,FALSE) -> 0.75黑 | H74: 组装 | I74: =VLOOKUP(I71,数据库!$A$1:$J$64584,11,FALSE) -> #REF! | K74: 线径 | L74: =VLOOKUP(N71,数据库!$A$1:$J$64584,5,FALSE) -> 0.75黑 | M74: 组装 | N74: =VLOOKUP(N71,数据库!$A$1:$J$64584,11,FALSE) -> #REF!
A75: 线长 | B75: =VLOOKUP(D71,数据库!$A$1:$J$64584,10,FALSE) -> KP/7 | C75: 数量 | D75: 20 | F75: 线长 | G75: =VLOOKUP(I71,数据库!$A$1:$J$64584,10,FALSE) -> KP/9 | H75: 数量 | I75: 20 | K75: 线长 | L75: =VLOOKUP(N71,数据库!$A$1:$J$64584,10,FALSE) -> KP/10 | M75: 数量 | N75: 20
A76: 作业 | B76: =VLOOKUP(D71,数据库!$A$1:$J$64584,4,FALSE) -> 标准 | F76: 作业 | G76: =VLOOKUP(I71,数据库!$A$1:$J$64584,4,FALSE) -> 标准 | K76: 作业 | L76: =VLOOKUP(N71,数据库!$A$1:$J$64584,4,FALSE) -> 标准
A78: 三贯货梯大功率有机房（K1570）V0010 | C78: 编号 | D78: =D71+3 -> 34 | F78: 三贯货梯大功率有机房（K1570）V0010 | H78: 编号 | I78: =I71+3 -> 35 | K78: 三贯货梯大功率有机房（K1570）V0010 | M78: 编号 | N78: =N71+3 -> 36
A79: 始端 | B79: =VLOOKUP(D78,数据库!$A$1:$J$64584,2,FALSE) -> KP/12 | C79: 末端 | D79: =VLOOKUP(D78,数据库!$A$1:$J$64584,3,FALSE) -> DYK/14 | F79: 始端 | G79: =VLOOKUP(I78,数据库!$A$1:$J$64584,2,FALSE) -> KP/14 | H79: 末端 | I79: =VLOOKUP(I78,数据库!$A$1:$J$64584,3,FALSE) -> DYK/24 | K79: 始端 | L79: =VLOOKUP(N78,数据库!$A$1:$J$64584,2,FALSE) -> KZ/1 | M79: 末端 | N79: =VLOOKUP(N78,数据库!$A$1:$J$64584,3,FALSE) -> 对讲机/+
A80: 始端处理 | B80: =VLOOKUP(D78,数据库!$A$1:$J$64584,6,FALSE) -> 5556T | C80: 末端处理 | D80: =VLOOKUP(D78,数据库!$A$1:$J$64584,7,FALSE) -> 红4 | F80: 始端处理 | G80: =VLOOKUP(I78,数据库!$A$1:$J$64584,6,FALSE) -> 5556T | H80: 末端处理 | I80: =VLOOKUP(I78,数据库!$A$1:$J$64584,7,FALSE) -> 红4 | K80: 始端处理 | L80: =VLOOKUP(N78,数据库!$A$1:$J$64584,6,FALSE) -> 5556T | M80: 末端处理 | N80: =VLOOKUP(N78,数据库!$A$1:$J$64584,7,FALSE) -> 红4
A81: 线径 | B81: =VLOOKUP(D78,数据库!$A$1:$J$64584,5,FALSE) -> 0.75黑 | C81: 组装 | D81: =VLOOKUP(D78,数据库!A:J,11,FALSE) -> #REF! | F81: 线径 | G81: =VLOOKUP(I78,数据库!$A$1:$J$64584,5,FALSE) -> 0.75黑 | H81: 组装 | I81: =VLOOKUP(I78,数据库!$A$1:$J$64584,11,FALSE) -> #REF! | K81: 线径 | L81: =VLOOKUP(N78,数据库!$A$1:$J$64584,5,FALSE) -> 0.5黑 | M81: 组装 | N81: =VLOOKUP(N78,数据库!$A$1:$J$64584,11,FALSE) -> #REF!
A82: 线长 | B82: =VLOOKUP(D78,数据库!$A$1:$J$64584,10,FALSE) -> KP/12 | C82: 数量 | D82: 20 | F82: 线长 | G82: =VLOOKUP(I78,数据库!$A$1:$J$64584,10,FALSE) -> KP/14 | H82: 数量 | I82: 20 | K82: 线长 | L82: =VLOOKUP(N78,数据库!$A$1:$J$64584,10,FALSE) -> KZ/1 | M82: 数量 | N82: 20
A83: 作业 | B83: =VLOOKUP(D78,数据库!$A$1:$J$64584,4,FALSE) -> 无机房 | F83: 作业 | G83: =VLOOKUP(I78,数据库!$A$1:$J$64584,4,FALSE) -> 无机房 | K83: 作业 | L83: =VLOOKUP(N78,数据库!$A$1:$J$64584,4,FALSE) -> 标准
A85: 三贯货梯大功率有机房（K1570）V0010 | C85: 编号 | D85: =D78+3 -> 37 | F85: 三贯货梯大功率有机房（K1570）V0010 | H85: 编号 | I85: =I78+3 -> 38 | K85: 三贯货梯大功率有机房（K1570）V0010 | M85: 编号 | N85: =N78+3 -> 39
A86: 始端 | B86: =VLOOKUP(D85,数据库!$A$1:$J$64584,2,FALSE) -> KZ/3 | C86: 末端 | D86: =VLOOKUP(D85,数据库!$A$1:$J$64584,3,FALSE) -> 对讲机/- | F86: 始端 | G86: =VLOOKUP(I85,数据库!$A$1:$J$64584,2,FALSE) -> KZ/4 | H86: 末端 | I86: =VLOOKUP(I85,数据库!$A$1:$J$64584,3,FALSE) -> 对讲机/R | K86: 始端 | L86: =VLOOKUP(N85,数据库!$A$1:$J$64584,2,FALSE) -> KZ/5 | M86: 末端 | N86: =VLOOKUP(N85,数据库!$A$1:$J$64584,3,FALSE) -> 对讲机/L
A87: 始端处理 | B87: =VLOOKUP(D85,数据库!$A$1:$J$64584,6,FALSE) -> 5556T | C87: 末端处理 | D87: =VLOOKUP(D85,数据库!$A$1:$J$64584,7,FALSE) -> 红4 | F87: 始端处理 | G87: =VLOOKUP(I85,数据库!$A$1:$J$64584,6,FALSE) -> 5556T | H87: 末端处理 | I87: =VLOOKUP(I85,数据库!$A$1:$J$64584,7,FALSE) -> 红4(遥/371:蓝4) | K87: 始端处理 | L87: =VLOOKUP(N85,数据库!$A$1:$J$64584,6,FALSE) -> 5556T | M87: 末端处理 | N87: =VLOOKUP(N85,数据库!$A$1:$J$64584,7,FALSE) -> 红4(遥/372:蓝4)
A88: 线径 | B88: =VLOOKUP(D85,数据库!$A$1:$J$64584,5,FALSE) -> 0.5黑 | C88: 组装 | D88: =VLOOKUP(D85,数据库!A:J,11,FALSE) -> #REF! | F88: 线径 | G88: =VLOOKUP(I85,数据库!$A$1:$J$64584,5,FALSE) -> 0.5黑 | H88: 组装 | I88: =VLOOKUP(I85,数据库!$A$1:$J$64584,11,FALSE) -> #REF! | K88: 线径 | L88: =VLOOKUP(N85,数据库!$A$1:$J$64584,5,FALSE) -> 0.5黑 | M88: 组装 | N88: =VLOOKUP(N85,数据库!$A$1:$J$64584,11,FALSE) -> #REF!
A89: 线长 | B89: =VLOOKUP(D85,数据库!$A$1:$J$64584,10,FALSE) -> KZ/3 | C89: 数量 | D89: 20 | F89: 线长 | G89: =VLOOKUP(I85,数据库!$A$1:$J$64584,10,FALSE) -> KZ/4 | H89: 数量 | I89: 20 | K89: 线长 | L89: =VLOOKUP(N85,数据库!$A$1:$J$64584,10,FALSE) -> KZ/5 | M89: 数量 | N89: 20
A90: 作业 | B90: =VLOOKUP(D85,数据库!$A$1:$J$64584,4,FALSE) -> 标准 | F90: 作业 | G90: =VLOOKUP(I85,数据库!$A$1:$J$64584,4,FALSE) -> 标准 | K90: 作业 | L90: =VLOOKUP(N85,数据库!$A$1:$J$64584,4,FALSE) -> 标准
A92: 三贯货梯大功率有机房（K1570）V0010 | C92: 编号 | D92: =D85+3 -> 40 | F92: 三贯货梯大功率有机房（K1570）V0010 | H92: 编号 | I92: =I85+3 -> 41 | K92: 三贯货梯大功率有机房（K1570）V0010 | M92: 编号 | N92: =N85+3 -> 42
A93: 始端 | B93: =VLOOKUP(D92,数据库!$A$1:$J$64584,2,FALSE) -> J1/1 | C93: 末端 | D93: =VLOOKUP(D92,数据库!$A$1:$J$64584,3,FALSE) -> PE | F93: 始端 | G93: =VLOOKUP(I92,数据库!$A$1:$J$64584,2,FALSE) -> J1/3 | H93: 末端 | I93: =VLOOKUP(I92,数据库!$A$1:$J$64584,3,FALSE) -> LBQ/L3'(7) | K93: 始端 | L93: =VLOOKUP(N92,数据库!$A$1:$J$64584,2,FALSE) -> J1/3 | M93: 末端 | N93: =VLOOKUP(N92,数据库!$A$1:$J$64584,3,FALSE) -> 端子排/T
A94: 始端处理 | B94: =VLOOKUP(D92,数据库!$A$1:$J$64584,6,FALSE) -> 5556T | C94: 末端处理 | D94: =VLOOKUP(D92,数据库!$A$1:$J$64584,7,FALSE) -> 红6圆 | F94: 始端处理 | G94: =VLOOKUP(I92,数据库!$A$1:$J$64584,6,FALSE) -> 5556T | H94: 末端处理 | I94: =VLOOKUP(I92,数据库!$A$1:$J$64584,7,FALSE) -> 红6圆 | K94: 始端处理 | L94: =VLOOKUP(N92,数据库!$A$1:$J$64584,6,FALSE) -> 5556T | M94: 末端处理 | N94: =VLOOKUP(N92,数据库!$A$1:$J$64584,7,FALSE) -> 半剥13
A95: 线径 | B95: =VLOOKUP(D92,数据库!$A$1:$J$64584,5,FALSE) -> 0.75黄绿 | C95: 组装 | D95: =VLOOKUP(D92,数据库!A:J,11,FALSE) -> #REF! | F95: 线径 | G95: =VLOOKUP(I92,数据库!$A$1:$J$64584,5,FALSE) -> 0.75黑 | H95: 组装 | I95: =VLOOKUP(I92,数据库!$A$1:$J$64584,11,FALSE) -> #REF! | K95: 线径 | L95: =VLOOKUP(N92,数据库!$A$1:$J$64584,5,FALSE) -> 0.75黑 | M95: 组装 | N95: =VLOOKUP(N92,数据库!$A$1:$J$64584,11,FALSE) -> #REF!
A96: 线长 | B96: =VLOOKUP(D92,数据库!$A$1:$J$64584,10,FALSE) -> 0 | C96: 数量 | D96: 20 | F96: 线长 | G96: =VLOOKUP(I92,数据库!$A$1:$J$64584,10,FALSE) -> 0 | H96: 数量 | I96: 20 | K96: 线长 | L96: =VLOOKUP(N92,数据库!$A$1:$J$64584,10,FALSE) -> 0 | M96: 数量 | N96: 20
A97: 作业 | B97: =VLOOKUP(D92,数据库!$A$1:$J$64584,4,FALSE) -> 标准 | F97: 作业 | G97: =VLOOKUP(I92,数据库!$A$1:$J$64584,4,FALSE) -> 有滤波器时 | K97: 作业 | L97: =VLOOKUP(N92,数据库!$A$1:$J$64584,4,FALSE) -> 无滤波器时
A99: 三贯货梯大功率有机房（K1570）V0010 | C99: 编号 | D99: =D92+3 -> 43 | F99: 三贯货梯大功率有机房（K1570）V0010 | H99: 编号 | I99: =I92+3 -> 44 | K99: 三贯货梯大功率有机房（K1570）V0010 | M99: 编号 | N99: =N92+3 -> 45
A100: 始端 | B100: =VLOOKUP(D99,数据库!$A$1:$J$64584,2,FALSE) -> J1/4 | C100: 末端 | D100: =VLOOKUP(D99,数据库!$A$1:$J$64584,3,FALSE) -> FJK/24 | F100: 始端 | G100: =VLOOKUP(I99,数据库!$A$1:$J$64584,2,FALSE) -> J1/6 | H100: 末端 | I100: =VLOOKUP(I99,数据库!$A$1:$J$64584,3,FALSE) -> BZC/4 | K100: 始端 | L100: =VLOOKUP(N99,数据库!$A$1:$J$64584,2,FALSE) -> J1/9 | M100: 末端 | N100: =VLOOKUP(N99,数据库!$A$1:$J$64584,3,FALSE) -> LBQ/N'(8)
A101: 始端处理 | B101: =VLOOKUP(D99,数据库!$A$1:$J$64584,6,FALSE) -> 5556T | C101: 末端处理 | D101: =VLOOKUP(D99,数据库!$A$1:$J$64584,7,FALSE) -> 红4 | F101: 始端处理 | G101: =VLOOKUP(I99,数据库!$A$1:$J$64584,6,FALSE) -> 红4 | H101: 末端处理 | I101: =VLOOKUP(I99,数据库!$A$1:$J$64584,7,FALSE) -> 红4 | K101: 始端处理 | L101: =VLOOKUP(N99,数据库!$A$1:$J$64584,6,FALSE) -> 5556T | M101: 末端处理 | N101: =VLOOKUP(N99,数据库!$A$1:$J$64584,7,FALSE) -> 红6圆
A102: 线径 | B102: =VLOOKUP(D99,数据库!$A$1:$J$64584,5,FALSE) -> 0.75黑 | C102: 组装 | D102: =VLOOKUP(D99,数据库!A:J,11,FALSE) -> #REF! | F102: 线径 | G102: =VLOOKUP(I99,数据库!$A$1:$J$64584,5,FALSE) -> 0.5黑 | H102: 组装 | I102: =VLOOKUP(I99,数据库!$A$1:$J$64584,11,FALSE) -> #REF! | K102: 线径 | L102: =VLOOKUP(N99,数据库!$A$1:$J$64584,5,FALSE) -> 0.75黑 | M102: 组装 | N102: =VLOOKUP(N99,数据库!$A$1:$J$64584,11,FALSE) -> #REF!
A103: 线长 | B103: =VLOOKUP(D99,数据库!$A$1:$J$64584,10,FALSE) -> 0 | C103: 数量 | D103: 20 | F103: 线长 | G103: =VLOOKUP(I99,数据库!$A$1:$J$64584,10,FALSE) -> 0 | H103: 数量 | I103: 20 | K103: 线长 | L103: =VLOOKUP(N99,数据库!$A$1:$J$64584,10,FALSE) -> 0 | M103: 数量 | N103: 20
A104: 作业 | B104: =VLOOKUP(D99,数据库!$A$1:$J$64584,4,FALSE) -> 标准 | F104: 作业 | G104: =VLOOKUP(I99,数据库!$A$1:$J$64584,4,FALSE) -> 标准 | K104: 作业 | L104: =VLOOKUP(N99,数据库!$A$1:$J$64584,4,FALSE) -> 有滤波器时
A106: 三贯货梯大功率有机房（K1570）V0010 | C106: 编号 | D106: =D99+3 -> 46 | F106: 三贯货梯大功率有机房（K1570）V0010 | H106: 编号 | I106: =I99+3 -> 47 | K106: 三贯货梯大功率有机房（K1570）V0010 | M106: 编号 | N106: =N99+3 -> 48
A107: 始端 | B107: =VLOOKUP(D106,数据库!$A$1:$J$64584,2,FALSE) -> J1/9 | C107: 末端 | D107: =VLOOKUP(D106,数据库!$A$1:$J$64584,3,FALSE) -> 端子排/N | F107: 始端 | G107: =VLOOKUP(I106,数据库!$A$1:$J$64584,2,FALSE) -> J1/12 | H107: 末端 | I107: =VLOOKUP(I106,数据库!$A$1:$J$64584,3,FALSE) -> BZC/2 | K107: 始端 | L107: =VLOOKUP(N106,数据库!$A$1:$J$64584,2,FALSE) -> J2/1 | M107: 末端 | N107: =VLOOKUP(N106,数据库!$A$1:$J$64584,3,FALSE) -> KDP1/2
A108: 始端处理 | B108: =VLOOKUP(D106,数据库!$A$1:$J$64584,6,FALSE) -> 5556T | C108: 末端处理 | D108: =VLOOKUP(D106,数据库!$A$1:$J$64584,7,FALSE) -> 101蓝针 | F108: 始端处理 | G108: =VLOOKUP(I106,数据库!$A$1:$J$64584,6,FALSE) -> 红4 | H108: 末端处理 | I108: =VLOOKUP(I106,数据库!$A$1:$J$64584,7,FALSE) -> 红4 | K108: 始端处理 | L108: =VLOOKUP(N106,数据库!$A$1:$J$64584,6,FALSE) -> 5556T | M108: 末端处理 | N108: =VLOOKUP(N106,数据库!$A$1:$J$64584,7,FALSE) -> 5556T
A109: 线径 | B109: =VLOOKUP(D106,数据库!$A$1:$J$64584,5,FALSE) -> 0.75黑 | C109: 组装 | D109: =VLOOKUP(D106,数据库!A:J,11,FALSE) -> #REF! | F109: 线径 | G109: =VLOOKUP(I106,数据库!$A$1:$J$64584,5,FALSE) -> 0.5黑 | H109: 组装 | I109: =VLOOKUP(I106,数据库!$A$1:$J$64584,11,FALSE) -> #REF! | K109: 线径 | L109: =VLOOKUP(N106,数据库!$A$1:$J$64584,5,FALSE) -> 0.5黑 | M109: 组装 | N109: =VLOOKUP(N106,数据库!$A$1:$J$64584,11,FALSE) -> #REF!
A110: 线长 | B110: =VLOOKUP(D106,数据库!$A$1:$J$64584,10,FALSE) -> 0 | C110: 数量 | D110: 20 | F110: 线长 | G110: =VLOOKUP(I106,数据库!$A$1:$J$64584,10,FALSE) -> 0 | H110: 数量 | I110: 20 | K110: 线长 | L110: =VLOOKUP(N106,数据库!$A$1:$J$64584,10,FALSE) -> KDP1/2 | M110: 数量 | N110: 20
A111: 作业 | B111: =VLOOKUP(D106,数据库!$A$1:$J$64584,4,FALSE) -> 无滤波器时 | F111: 作业 | G111: =VLOOKUP(I106,数据库!$A$1:$J$64584,4,FALSE) -> 标准 | K111: 作业 | L111: =VLOOKUP(N106,数据库!$A$1:$J$64584,4,FALSE) -> 标准（无机房）
A113: 三贯货梯大功率有机房（K1570）V0010 | C113: 编号 | D113: =D106+3 -> 49 | F113: 三贯货梯大功率有机房（K1570）V0010 | H113: 编号 | I113: =I106+3 -> 50 | K113: 三贯货梯大功率有机房（K1570）V0010 | M113: 编号 | N113: =N106+3 -> 51
A114: 始端 | B114: =VLOOKUP(D113,数据库!$A$1:$J$64584,2,FALSE) -> J2/3 | C114: 末端 | D114: =VLOOKUP(D113,数据库!$A$1:$J$64584,3,FALSE) -> KDP2/2 | F114: 始端 | G114: =VLOOKUP(I113,数据库!$A$1:$J$64584,2,FALSE) -> J2/5 | H114: 末端 | I114: =VLOOKUP(I113,数据库!$A$1:$J$64584,3,FALSE) -> CE24 | K114: 始端 | L114: =VLOOKUP(N113,数据库!$A$1:$J$64584,2,FALSE) -> J2/7 | M114: 末端 | N114: =VLOOKUP(N113,数据库!$A$1:$J$64584,3,FALSE) -> KDP1/1
A115: 始端处理 | B115: =VLOOKUP(D113,数据库!$A$1:$J$64584,6,FALSE) -> 5556T | C115: 末端处理 | D115: =VLOOKUP(D113,数据库!$A$1:$J$64584,7,FALSE) -> 5556T | F115: 始端处理 | G115: =VLOOKUP(I113,数据库!$A$1:$J$64584,6,FALSE) -> 半剥8 | H115: 末端处理 | I115: =VLOOKUP(I113,数据库!$A$1:$J$64584,7,FALSE) -> 半剥13 | K115: 始端处理 | L115: =VLOOKUP(N113,数据库!$A$1:$J$64584,6,FALSE) -> 5556T | M115: 末端处理 | N115: =VLOOKUP(N113,数据库!$A$1:$J$64584,7,FALSE) -> 5556T
A116: 线径 | B116: =VLOOKUP(D113,数据库!$A$1:$J$64584,5,FALSE) -> 0.5黑 | C116: 组装 | D116: =VLOOKUP(D113,数据库!A:J,11,FALSE) -> #REF! | F116: 线径 | G116: =VLOOKUP(I113,数据库!$A$1:$J$64584,5,FALSE) -> 0.5黑 | H116: 组装 | I116: =VLOOKUP(I113,数据库!$A$1:$J$64584,11,FALSE) -> #REF! | K116: 线径 | L116: =VLOOKUP(N113,数据库!$A$1:$J$64584,5,FALSE) -> 0.5黑 | M116: 组装 | N116: =VLOOKUP(N113,数据库!$A$1:$J$64584,11,FALSE) -> #REF!
...

Sheet 接线表
L1: 点号
G3: 文件编号：
G4: 版 本 号：000
A8: K3801707无机房控制柜作业指导书
A10: 仅适用于ESW(G20)
A12: 编 制： 袁 鹏 .
A14: 校 对： 桑 飞 .
A16: 审 核： 宋艾峰 .
A24: 广州广日电气（昆山）有限公司
A25: 2023 年 6 月
A30: 修改号 | C30: 修改内容 | G30: 日期 | H30: 签字
A31: =A8 -> K3801707无机房控制柜作业指导书
A32: 指导书使用说明
A33: 1 | B33: 本指导书依据电气规格表K3801707最新版编制；
A34: 2 | B34: 作业说明：双开门、物联网、停电柜、微动、地震管制、五方通话等为选配功能，提前开门功能等同于微动功能，请根据订单的选配信息选配；
A35: 3 | B35: 大线接线由装配人员接线；从协议转换板并线到其他功能的器件。
A36: 4 | B36: 接线表中采用的二极管参考对应明细表。
A37: 5 | B37: 线束压着、配线、装配作业规范参考SCX15-0025文件
A38: 5 | B38: 1、KB，型号：5557-10R，接触子：5556T 2、KC，型号：5557-24R，接触子：5556T 3、KD，型号：5557-20R，接触子：5556T 4、KP，型号：5557-18R，接触子：5556T 5、KZ，型号：5557-20R，接触子：5556T 6、KE，型号：5557-12R，接触子：5556T 7、KDP1，型号：5557-10R，接触子：5556T 8、KDP2，型号：5557-08R，接触子：5556T 9、KJ，型号：5557-04R，接触子：5556T 10、直流整合电源-J1,型号：5557-10R,接触子：5556T 11、直流整合电源-J2,型号：5557-8R,接触子：5556T 12、交流整合电源-J1,型号：5557-12R,接触子：5556T 13、交流整合电源-J2,型号：5557-14R,接触子：5556T 14、对讲机,型号：5557-6R,接触子：5556T 15、电子微动CN1,型号：5557-6R,接触子：5556T 16、电子微动CN2,型号：5557-10R,接触子：5556T 17、WD80,型号：12R头,接触子：218 18、XS，型号：5557-4R，接触子：5556T 19、JSQ，型号：9R，接触子：536 20、F26, 型号：5557-08R，接触子：5556T 21、F10, 型号：5557-04R，接触子：5556T 22、F3, 型号：04R，接触子：5556T 23、 E1, 型号：12R,接触子：218
A39: 6 | B39: 滤波器安装方位如右图所示，其中左边“LINE”为“线路”，右边“LOAD”为“负载”，标识“1”、“2”如图所示，按照该标识接线。
A40: 7 | B40: G·Plus，MAX-E,GVHⅡ或变频器使用G12C 或变频器大于30kw时增加相序继电器（XWJ）相关接线，1、MAX-E,G·Exc,G·Plus,GVHⅡ,G·Fre,GVH,G·wiz,G·wiz-B,ESW(G20)不配接地保护装置，其相关接线短接；2、G·Fre,GVH,不配封星接触器；
A41: 8 | B41: 空气开关接线端如右图所示，其中左边红圈处“进线端LINE”分别为“1、3、5”，右边红圈处“出线端LOAD”分别为“2、4、6”，按照该标识接线。
A42: 序号 | B42: 始端 | C42: 末端 | D42: 始端处理 | E42: 末端处理 | F42: 作业 | G42: 线径 | H42: 组装 | I42: G20线长 | J42: G12C小功率线长 | K42: 货梯大功率线长
A43: KC（24位）
A44: 1 | B44: =VLOOKUP(A44,数据库!A:H,2,FALSE) -> KC/1 | C44: =VLOOKUP(A44,数据库!A:H,3,FALSE) -> MSC/1 | D44: =VLOOKUP(A44,数据库!A:H,6,FALSE) -> 5556T | E44: =VLOOKUP(A44,数据库!A:H,7,FALSE) -> 红4 | F44: =VLOOKUP(A44,数据库!A:H,4,FALSE) -> 标准 | G44: =VLOOKUP(A44,数据库!A:H,5,FALSE) -> 0.5黑 | H44: =VLOOKUP(A44,数据库!A:J,12,FALSE) -> #REF! | I44: 640 | J44: =VLOOKUP(A44,数据库!A:I,9,FALSE) -> 0 | K44: =VLOOKUP(A44,数据库!A:I,10,FALSE) -> #REF!
A45: 2 | B45: =VLOOKUP(A45,数据库!A:H,2,FALSE) -> KC/2 | C45: =VLOOKUP(A45,数据库!A:H,3,FALSE) -> MC/A1 | D45: =VLOOKUP(A45,数据库!A:H,6,FALSE) -> 5556T | E45: =VLOOKUP(A45,数据库!A:H,7,FALSE) -> 红4 | F45: =VLOOKUP(A45,数据库!A:H,4,FALSE) -> 标准 | G45: =VLOOKUP(A45,数据库!A:H,5,FALSE) -> 0.5黑 | H45: =VLOOKUP(A45,数据库!A:J,12,FALSE) -> #REF! | I45: 790 | J45: =VLOOKUP(A45,数据库!A:I,9,FALSE) -> 0 | K45: =VLOOKUP(A45,数据库!A:I,10,FALSE) -> #REF!
A46: 3 | B46: =VLOOKUP(A46,数据库!A:H,2,FALSE) -> KC/3 | C46: =VLOOKUP(A46,数据库!A:H,3,FALSE) -> FJXA/13 | D46: =VLOOKUP(A46,数据库!A:H,6,FALSE) -> 5556T | E46: =VLOOKUP(A46,数据库!A:H,7,FALSE) -> 红4 | F46: =VLOOKUP(A46,数据库!A:H,4,FALSE) -> 标准 | G46: =VLOOKUP(A46,数据库!A:H,5,FALSE) -> 0.5黑 | H46: =VLOOKUP(A46,数据库!A:J,12,FALSE) -> #REF! | I46: =VLOOKUP(A46,数据库!A:I,8,FALSE) -> 1210 | J46: =VLOOKUP(A46,数据库!A:I,9,FALSE) -> 0 | K46: =VLOOKUP(A46,数据库!A:I,10,FALSE) -> #REF!
A47: 4 | B47: =VLOOKUP(A47,数据库!A:H,2,FALSE) -> KC/4 | C47: =VLOOKUP(A47,数据库!A:H,3,FALSE) -> MC/A2 | D47: =VLOOKUP(A47,数据库!A:H,6,FALSE) -> 5556T | E47: =VLOOKUP(A47,数据库!A:H,7,FALSE) -> 红4 | F47: =VLOOKUP(A47,数据库!A:H,4,FALSE) -> 标准 | G47: =VLOOKUP(A47,数据库!A:H,5,FALSE) -> 0.5黑 | H47: =VLOOKUP(A47,数据库!A:J,12,FALSE) -> #REF! | I47: =VLOOKUP(A47,数据库!A:I,8,FALSE) -> 890 | J47: =VLOOKUP(A47,数据库!A:I,9,FALSE) -> 0 | K47: =VLOOKUP(A47,数据库!A:I,10,FALSE) -> #REF!
A48: 5 | B48: =VLOOKUP(A48,数据库!A:H,2,FALSE) -> KC/5 | C48: =VLOOKUP(A48,数据库!A:H,3,FALSE) -> BZC/A2 | D48: =VLOOKUP(A48,数据库!A:H,6,FALSE) -> 5556T | E48: =VLOOKUP(A48,数据库!A:H,7,FALSE) -> 红4 | F48: =VLOOKUP(A48,数据库!A:H,4,FALSE) -> 标准 | G48: =VLOOKUP(A48,数据库!A:H,5,FALSE) -> 0.5黑 | H48: =VLOOKUP(A48,数据库!A:J,12,FALSE) -> #REF! | I48: =VLOOKUP(A48,数据库!A:I,8,FALSE) -> 710 | J48: =VLOOKUP(A48,数据库!A:I,9,FALSE) -> 0 | K48: =VLOOKUP(A48,数据库!A:I,10,FALSE) -> #REF!
A49: 6 | B49: =VLOOKUP(A49,数据库!A:H,2,FALSE) -> KC/6 | C49: =VLOOKUP(A49,数据库!A:H,3,FALSE) -> MC1/A2 | D49: =VLOOKUP(A49,数据库!A:H,6,FALSE) -> 5556T | E49: =VLOOKUP(A49,数据库!A:H,7,FALSE) -> 红4 | F49: =VLOOKUP(A49,数据库!A:H,4,FALSE) -> 有封星接触器时 | G49: =VLOOKUP(A49,数据库!A:H,5,FALSE) -> 0.5黑 | H49: =VLOOKUP(A49,数据库!A:J,12,FALSE) -> #REF! | I49: =VLOOKUP(A49,数据库!A:I,8,FALSE) -> 830 | J49: =VLOOKUP(A49,数据库!A:I,9,FALSE) -> 0 | K49: =VLOOKUP(A49,数据库!A:I,10,FALSE) -> #REF!
A50: 7 | B50: =VLOOKUP(A50,数据库!A:H,2,FALSE) -> KC/7 | C50: =VLOOKUP(A50,数据库!A:H,3,FALSE) -> MSC/A1 | D50: =VLOOKUP(A50,数据库!A:H,6,FALSE) -> 5556T | E50: =VLOOKUP(A50,数据库!A:H,7,FALSE) -> 红4 | F50: =VLOOKUP(A50,数据库!A:H,4,FALSE) -> 标准 | G50: =VLOOKUP(A50,数据库!A:H,5,FALSE) -> 0.5黑 | H50: =VLOOKUP(A50,数据库!A:J,12,FALSE) -> #REF! | I50: =VLOOKUP(A50,数据库!A:I,8,FALSE) -> 640 | J50: =VLOOKUP(A50,数据库!A:I,9,FALSE) -> 0 | K50: =VLOOKUP(A50,数据库!A:I,10,FALSE) -> #REF!
A51: 8 | B51: =VLOOKUP(A51,数据库!A:H,2,FALSE) -> KC/8 | C51: =VLOOKUP(A51,数据库!A:H,3,FALSE) -> MSC/A2 | D51: =VLOOKUP(A51,数据库!A:H,6,FALSE) -> 5556T | E51: =VLOOKUP(A51,数据库!A:H,7,FALSE) -> 红4 | F51: =VLOOKUP(A51,数据库!A:H,4,FALSE) -> 标准 | G51: =VLOOKUP(A51,数据库!A:H,5,FALSE) -> 0.5黑 | H51: =VLOOKUP(A51,数据库!A:J,12,FALSE) -> #REF! | I51: =VLOOKUP(A51,数据库!A:I,8,FALSE) -> 760 | J51: =VLOOKUP(A51,数据库!A:I,9,FALSE) -> 0 | K51: =VLOOKUP(A51,数据库!A:I,10,FALSE) -> #REF!
A52: 9 | B52: =VLOOKUP(A52,数据库!A:H,2,FALSE) -> KC/9 | C52: =VLOOKUP(A52,数据库!A:H,3,FALSE) -> MC1/A1 | D52: =VLOOKUP(A52,数据库!A:H,6,FALSE) -> 5556T | E52: =VLOOKUP(A52,数据库!A:H,7,FALSE) -> 红4 | F52: =VLOOKUP(A52,数据库!A:H,4,FALSE) -> 有封星接触器时 | G52: =VLOOKUP(A52,数据库!A:H,5,FALSE) -> 0.5黑 | H52: =VLOOKUP(A52,数据库!A:J,12,FALSE) -> #REF! | I52: =VLOOKUP(A52,数据库!A:I,8,FALSE) -> 680 | J52: =VLOOKUP(A52,数据库!A:I,9,FALSE) -> 0 | K52: =VLOOKUP(A52,数据库!A:I,10,FALSE) -> #REF!
A53: 10 | B53: =VLOOKUP(A53,数据库!A:H,2,FALSE) -> KC/12 | C53: =VLOOKUP(A53,数据库!A:H,3,FALSE) -> FJA/24 | D53: =VLOOKUP(A53,数据库!A:H,6,FALSE) -> 5556T | E53: =VLOOKUP(A53,数据库!A:H,7,FALSE) -> 红4 | F53: =VLOOKUP(A53,数据库!A:H,4,FALSE) -> 标准 | G53: =VLOOKUP(A53,数据库!A:H,5,FALSE) -> 0.5黑 | H53: =VLOOKUP(A53,数据库!A:J,12,FALSE) -> #REF! | I53: =VLOOKUP(A53,数据库!A:I,8,FALSE) -> 1110 | J53: =VLOOKUP(A53,数据库!A:I,9,FALSE) -> 0 | K53: =VLOOKUP(A53,数据库!A:I,10,FALSE) -> #REF!
A54: 11 | B54: =VLOOKUP(A54,数据库!A:H,2,FALSE) -> KC/13 | C54: =VLOOKUP(A54,数据库!A:H,3,FALSE) -> FTK/1 | D54: =VLOOKUP(A54,数据库!A:H,6,FALSE) -> 5556T | E54: =VLOOKUP(A54,数据库!A:H,7,FALSE) -> 红4 | F54: =VLOOKUP(A54,数据库!A:H,4,FALSE) -> 非钢带梯/非异步货梯 | G54: =VLOOKUP(A54,数据库!A:H,5,FALSE) -> 0.5黑 | H54: =VLOOKUP(A54,数据库!A:J,12,FALSE) -> #REF! | I54: =VLOOKUP(A54,数据库!A:I,8,FALSE) -> 1090 | J54: =VLOOKUP(A54,数据库!A:I,9,FALSE) -> 0 | K54: =VLOOKUP(A54,数据库!A:I,10,FALSE) -> #REF!
A55: 12 | B55: =VLOOKUP(A55,数据库!A:H,2,FALSE) -> KC/13 | C55: =VLOOKUP(A55,数据库!A:H,3,FALSE) -> CE5 | D55: =VLOOKUP(A55,数据库!A:H,6,FALSE) -> 5556T | E55: =VLOOKUP(A55,数据库!A:H,7,FALSE) -> 半剥8 | F55: =VLOOKUP(A55,数据库!A:H,4,FALSE) -> 钢带梯/异步货梯 | G55: =VLOOKUP(A55,数据库!A:H,5,FALSE) -> 0.5黑 | H55: =VLOOKUP(A55,数据库!A:J,12,FALSE) -> #REF! | I55: =VLOOKUP(A55,数据库!A:I,8,FALSE) -> 无 | J55: =VLOOKUP(A55,数据库!A:I,9,FALSE) -> 随设计书 | K55: =VLOOKUP(A55,数据库!A:I,10,FALSE) -> #REF!
A56: 13 | B56: =VLOOKUP(A56,数据库!A:H,2,FALSE) -> KC/15 | C56: =VLOOKUP(A56,数据库!A:H,3,FALSE) -> FJK/14 | D56: =VLOOKUP(A56,数据库!A:H,6,FALSE) -> 5556T | E56: =VLOOKUP(A56,数据库!A:H,7,FALSE) -> 红4 | F56: =VLOOKUP(A56,数据库!A:H,4,FALSE) -> 标准 | G56: =VLOOKUP(A56,数据库!A:H,5,FALSE) -> 0.5黑 | H56: =VLOOKUP(A56,数据库!A:J,12,FALSE) -> #REF! | I56: =VLOOKUP(A56,数据库!A:I,8,FALSE) -> 1000 | J56: =VLOOKUP(A56,数据库!A:I,9,FALSE) -> 0 | K56: =VLOOKUP(A56,数据库!A:I,10,FALSE) -> #REF!
A57: 14 | B57: =VLOOKUP(A57,数据库!A:H,2,FALSE) -> KC/18 | C57: =VLOOKUP(A57,数据库!A:H,3,FALSE) -> FJA/13 | D57: =VLOOKUP(A57,数据库!A:H,6,FALSE) -> 5556T | E57: =VLOOKUP(A57,数据库!A:H,7,FALSE) -> 红4 | F57: =VLOOKUP(A57,数据库!A:H,4,FALSE) -> 标准 | G57: =VLOOKUP(A57,数据库!A:H,5,FALSE) -> 0.5黑 | H57: =VLOOKUP(A57,数据库!A:J,12,FALSE) -> #REF! | I57: =VLOOKUP(A57,数据库!A:I,8,FALSE) -> 1130 | J57: =VLOOKUP(A57,数据库!A:I,9,FALSE) -> 0 | K57: =VLOOKUP(A57,数据库!A:I,10,FALSE) -> #REF!
A58: KD（20位）
A59: 15 | B59: =VLOOKUP(A59,数据库!A:H,2,FALSE) -> KD/1 | C59: =VLOOKUP(A59,数据库!A:H,3,FALSE) -> FJSA/4 | D59: =VLOOKUP(A59,数据库!A:H,6,FALSE) -> 5556T | E59: =VLOOKUP(A59,数据库!A:H,7,FALSE) -> 红4 | F59: =VLOOKUP(A59,数据库!A:H,4,FALSE) -> 标准 | G59: =VLOOKUP(A59,数据库!A:H,5,FALSE) -> 0.5黑 | H59: =VLOOKUP(A59,数据库!A:J,12,FALSE) -> #REF! | I59: =VLOOKUP(A59,数据库!A:I,8,FALSE) -> 1130 | J59: =VLOOKUP(A59,数据库!A:I,9,FALSE) -> 0 | K59: =VLOOKUP(A59,数据库!A:I,10,FALSE) -> #REF!
A60: 16 | B60: =VLOOKUP(A60,数据库!A:H,2,FALSE) -> KD/2 | C60: =VLOOKUP(A60,数据库!A:H,3,FALSE) -> FJXA/4 | D60: =VLOOKUP(A60,数据库!A:H,6,FALSE) -> 5556T | E60: =VLOOKUP(A60,数据库!A:H,7,FALSE) -> 红4 | F60: =VLOOKUP(A60,数据库!A:H,4,FALSE) -> 标准 | G60: =VLOOKUP(A60,数据库!A:H,5,FALSE) -> 0.5黑 | H60: =VLOOKUP(A60,数据库!A:J,12,FALSE) -> #REF! | I60: =VLOOKUP(A60,数据库!A:I,8,FALSE) -> 1200 | J60: =VLOOKUP(A60,数据库!A:I,9,FALSE) -> 0 | K60: =VLOOKUP(A60,数据库!A:I,10,FALSE) -> #REF!
A61: 17 | B61: =VLOOKUP(A61,数据库!A:H,2,FALSE) -> KD/3 | C61: =VLOOKUP(A61,数据库!A:H,3,FALSE) -> FJK/1 | D61: =VLOOKUP(A61,数据库!A:H,6,FALSE) -> 5556T | E61: =VLOOKUP(A61,数据库!A:H,7,FALSE) -> 红4 | F61: =VLOOKUP(A61,数据库!A:H,4,FALSE) -> 非G20时 | G61: =VLOOKUP(A61,数据库!A:H,5,FALSE) -> 0.5黑 | H61: =VLOOKUP(A61,数据库!A:J,12,FALSE) -> #REF! | I61: =VLOOKUP(A61,数据库!A:I,8,FALSE) -> 无 | J61: =VLOOKUP(A61,数据库!A:I,9,FALSE) -> 随设计书 | K61: =VLOOKUP(A61,数据库!A:I,10,FALSE) -> #REF!
A62: 18 | B62: =VLOOKUP(A62,数据库!A:H,2,FALSE) -> KD/4 | C62: =VLOOKUP(A62,数据库!A:H,3,FALSE) -> FJK/2 | D62: =VLOOKUP(A62,数据库!A:H,6,FALSE) -> 5556T | E62: =VLOOKUP(A62,数据库!A:H,7,FALSE) -> 红4 | F62: =VLOOKUP(A62,数据库!A:H,4,FALSE) -> 标准 | G62: =VLOOKUP(A62,数据库!A:H,5,FALSE) -> 0.5黑 | H62: =VLOOKUP(A62,数据库!A:J,12,FALSE) -> #REF! | I62: =VLOOKUP(A62,数据库!A:I,8,FALSE) -> 1070 | J62: =VLOOKUP(A62,数据库!A:I,9,FALSE) -> 0 | K62: =VLOOKUP(A62,数据库!A:I,10,FALSE) -> #REF!
A63: 19 | B63: =VLOOKUP(A63,数据库!A:H,2,FALSE) -> KD/8 | C63: =VLOOKUP(A63,数据库!A:H,3,FALSE) -> MC1/54 | D63: =VLOOKUP(A63,数据库!A:H,6,FALSE) -> 5556T | E63: =VLOOKUP(A63,数据库!A:H,7,FALSE) -> 红4 | F63: =VLOOKUP(A63,数据库!A:H,4,FALSE) -> 有封星接触器+速度≤2.5M/S | G63: =VLOOKUP(A63,数据库!A:H,5,FALSE) -> 0.5黑 | H63: =VLOOKUP(A63,数据库!A:J,12,FALSE) -> #REF! | I63: =VLOOKUP(A63,数据库!A:I,8,FALSE) -> 870 | J63: =VLOOKUP(A63,数据库!A:I,9,FALSE) -> 随设计书 | K63: =VLOOKUP(A63,数据库!A:I,10,FALSE) -> #REF!
A64: 20 | B64: =VLOOKUP(A64,数据库!A:H,2,FALSE) -> KD/8 | C64: =VLOOKUP(A64,数据库!A:H,3,FALSE) -> MC1/62 | D64: =VLOOKUP(A64,数据库!A:H,6,FALSE) -> 5556T | E64: =VLOOKUP(A64,数据库!A:H,7,FALSE) -> 红4 | F64: =VLOOKUP(A64,数据库!A:H,4,FALSE) -> 有封星接触器+梯速＞2.5M/S | G64: =VLOOKUP(A64,数据库!A:H,5,FALSE) -> 0.5黑 | H64: =VLOOKUP(A64,数据库!A:J,12,FALSE) -> #REF! | I64: =VLOOKUP(A64,数据库!A:I,8,FALSE) -> 0 | J64: =VLOOKUP(A64,数据库!A:I,9,FALSE) -> 随设计书 | K64: =VLOOKUP(A64,数据库!A:I,10,FALSE) -> #REF!
A65: 21 | B65: =VLOOKUP(A65,数据库!A:H,2,FALSE) -> KD/9 | C65: =VLOOKUP(A65,数据库!A:H,3,FALSE) -> BZC/62(22) | D65: =VLOOKUP(A65,数据库!A:H,6,FALSE) -> 5556T | E65: =VLOOKUP(A65,数据库!A:H,7,FALSE) -> 红4 | F65: =VLOOKUP(A65,数据库!A:H,4,FALSE) -> 标准 | G65: =VLOOKUP(A65,数据库!A:H,5,FALSE) -> 0.5黑 | H65: =VLOOKUP(A65,数据库!A:J,12,FALSE) -> #REF! | I65: =VLOOKUP(A65,数据库!A:I,8,FALSE) -> 740 | J65: =VLOOKUP(A65,数据库!A:I,9,FALSE) -> 0 | K65: =VLOOKUP(A65,数据库!A:I,10,FALSE) -> #REF!
A66: 22 | B66: =VLOOKUP(A66,数据库!A:H,2,FALSE) -> KD/10 | C66: =VLOOKUP(A66,数据库!A:H,3,FALSE) -> MC/62(22) | D66: =VLOOKUP(A66,数据库!A:H,6,FALSE) -> 5556T | E66: =VLOOKUP(A66,数据库!A:H,7,FALSE) -> 红4 | F66: =VLOOKUP(A66,数据库!A:H,4,FALSE) -> 标准 | G66: =VLOOKUP(A66,数据库!A:H,5,FALSE) -> 0.5黑 | H66: =VLOOKUP(A66,数据库!A:J,12,FALSE) -> #REF! | I66: =VLOOKUP(A66,数据库!A:I,8,FALSE) -> 900 | J66: =VLOOKUP(A66,数据库!A:I,9,FALSE) -> 0 | K66: =VLOOKUP(A66,数据库!A:I,10,FALSE) -> #REF!
A67: 23 | B67: =VLOOKUP(A67,数据库!A:H,2,FALSE) -> KD/11 | C67: =VLOOKUP(A67,数据库!A:H,3,FALSE) -> MSC/62(22) | D67: =VLOOKUP(A67,数据库!A:H,6,FALSE) -> 5556T | E67: =VLOOKUP(A67,数据库!A:H,7,FALSE) -> 红4 | F67: =VLOOKUP(A67,数据库!A:H,4,FALSE) -> 标准 | G67: =VLOOKUP(A67,数据库!A:H,5,FALSE) -> 0.5黑 | H67: =VLOOKUP(A67,数据库!A:J,12,FALSE) -> #REF! | I67: =VLOOKUP(A67,数据库!A:I,8,FALSE) -> 830 | J67: =VLOOKUP(A67,数据库!A:I,9,FALSE) -> 0 | K67: =VLOOKUP(A67,数据库!A:I,10,FALSE) -> #REF!
A68: 24 | B68: =VLOOKUP(A68,数据库!A:H,2,FALSE) -> KD/13 | C68: =VLOOKUP(A68,数据库!A:H,3,FALSE) -> MSC/61(21) | D68: =VLOOKUP(A68,数据库!A:H,6,FALSE) -> 5556T | E68: =VLOOKUP(A68,数据库!A:H,7,FALSE) -> 红4 | F68: =VLOOKUP(A68,数据库!A:H,4,FALSE) -> 无接地保护装置时 | G68: =VLOOKUP(A68,数据库!A:H,5,FALSE) -> 0.5黑 | H68: =VLOOKUP(A68,数据库!A:J,12,FALSE) -> #REF! | I68: =VLOOKUP(A68,数据库!A:I,8,FALSE) -> 840 | J68: =VLOOKUP(A68,数据库!A:I,9,FALSE) -> 0 | K68: =VLOOKUP(A68,数据库!A:I,10,FALSE) -> #REF!
A69: 25 | B69: =VLOOKUP(A69,数据库!A:H,2,FALSE) -> KD/19 | C69: =VLOOKUP(A69,数据库!A:H,3,FALSE) -> FJK/1 | D69: =VLOOKUP(A69,数据库!A:H,6,FALSE) -> 5556T | E69: =VLOOKUP(A69,数据库!A:H,7,FALSE) -> 红4 | F69: =VLOOKUP(A69,数据库!A:H,4,FALSE) -> G20系统时 | G69: =VLOOKUP(A69,数据库!A:H,5,FALSE) -> 0.5黑 | H69: =VLOOKUP(A69,数据库!A:J,12,FALSE) -> #REF! | I69: =VLOOKUP(A69,数据库!A:I,8,FALSE) -> 1120 | J69: =VLOOKUP(A69,数据库!A:I,9,FALSE) -> 0 | K69: =VLOOKUP(A69,数据库!A:I,10,FALSE) -> #REF!
A70: KB（10位）
A71: 26 | B71: =VLOOKUP(A71,数据库!A:H,2,FALSE) -> KB/2 | C71: =VLOOKUP(A71,数据库!A:H,3,FALSE) -> CE6 | D71: =VLOOKUP(A71,数据库!A:H,6,FALSE) -> 5556T | E71: =VLOOKUP(A71,数据库!A:H,7,FALSE) -> 红4 | F71: =VLOOKUP(A71,数据库!A:H,4,FALSE) -> 标准（无机房） | G71: =VLOOKUP(A71,数据库!A:H,5,FALSE) -> 0.5黑 | H71: =VLOOKUP(A71,数据库!A:J,12,FALSE) -> #REF! | I71: =VLOOKUP(A71,数据库!A:I,8,FALSE) -> 580 | J71: =VLOOKUP(A71,数据库!A:I,9,FALSE) -> CE6短接 | K71: =VLOOKUP(A71,数据库!A:I,10,FALSE) -> #REF!
A72: 27 | B72: =VLOOKUP(A72,数据库!A:H,2,FALSE) -> KB/3 | C72: =VLOOKUP(A72,数据库!A:H,3,FALSE) -> CE6 | D72: =VLOOKUP(A72,数据库!A:H,6,FALSE) -> 5556T | E72: =VLOOKUP(A72,数据库!A:H,7,FALSE) -> 红4 | F72: =VLOOKUP(A72,数据库!A:H,4,FALSE) -> 标准（无机房） | G72: =VLOOKUP(A72,数据库!A:H,5,FALSE) -> 0.5黑 | H72: =VLOOKUP(A72,数据库!A:J,12,FALSE) -> #REF! | I72: =VLOOKUP(A72,数据库!A:I,8,FALSE) -> 590 | J72: =VLOOKUP(A72,数据库!A:I,9,FALSE) -> 0 | K72: =VLOOKUP(A72,数据库!A:I,10,FALSE) -> #REF!
A73: 28 | B73: =VLOOKUP(A73,数据库!A:H,2,FALSE) -> KB/10 | C73: =VLOOKUP(A73,数据库!A:H,3,FALSE) -> MC/53(13) | D73: =VLOOKUP(A73,数据库!A:H,6,FALSE) -> 5556T | E73: =VLOOKUP(A73,数据库!A:H,7,FALSE) -> 红4 | F73: =VLOOKUP(A73,数据库!A:H,4,FALSE) -> 标准 | G73: =VLOOKUP(A73,数据库!A:H,5,FALSE) -> 0.5黑 | H73: =VLOOKUP(A73,数据库!A:J,12,FALSE) -> #REF! | I73: =VLOOKUP(A73,数据库!A:I,8,FALSE) -> 810 | J73: =VLOOKUP(A73,数据库!A:I,9,FALSE) -> 0 | K73: =VLOOKUP(A73,数据库!A:I,10,FALSE) -> #REF!
A74: KDP1（10位）
A75: 29 | B75: =VLOOKUP(A75,数据库!A:H,2,FALSE) -> KDP2/1 | C75: =VLOOKUP(A75,数据库!A:H,3,FALSE) -> BZC/61(21) | D75: =VLOOKUP(A75,数据库!A:H,6,FALSE) -> 5556T | E75: =VLOOKUP(A75,数据库!A:H,7,FALSE) -> 红4 | F75: =VLOOKUP(A75,数据库!A:H,4,FALSE) -> 标准 | G75: =VLOOKUP(A75,数据库!A:H,5,FALSE) -> 0.5黑 | H75: =VLOOKUP(A75,数据库!A:J,12,FALSE) -> #REF! | I75: =VLOOKUP(A75,数据库!A:I,8,FALSE) -> 880 | J75: =VLOOKUP(A75,数据库!A:I,9,FALSE) -> 0 | K75: =VLOOKUP(A75,数据库!A:I,10,FALSE) -> #REF!
A76: 30 | B76: =VLOOKUP(A76,数据库!A:H,2,FALSE) -> KP/5 | C76: =VLOOKUP(A76,数据库!A:H,3,FALSE) -> LBQ1/负载1 | D76: =VLOOKUP(A76,数据库!A:H,6,FALSE) -> 5556T | E76: =VLOOKUP(A76,数据库!A:H,7,FALSE) -> 红全封 | F76: =VLOOKUP(A76,数据库!A:H,4,FALSE) -> 标准 | G76: =VLOOKUP(A76,数据库!A:H,5,FALSE) -> 0.75黑 | H76: =VLOOKUP(A76,数据库!A:J,12,FALSE) -> #REF! | I76: =VLOOKUP(A76,数据库!A:I,8,FALSE) -> 690 | J76: =VLOOKUP(A76,数据库!A:I,9,FALSE) -> 0 | K76: =VLOOKUP(A76,数据库!A:I,10,FALSE) -> #REF!
A77: 31 | B77: =VLOOKUP(A77,数据库!A:H,2,FALSE) -> KP/7 | C77: =VLOOKUP(A77,数据库!A:H,3,FALSE) -> LBQ1/负载2 | D77: =VLOOKUP(A77,数据库!A:H,6,FALSE) -> 5556T | E77: =VLOOKUP(A77,数据库!A:H,7,FALSE) -> 红全封 | F77: =VLOOKUP(A77,数据库!A:H,4,FALSE) -> 标准 | G77: =VLOOKUP(A77,数据库!A:H,5,FALSE) -> 0.75黑 | H77: =VLOOKUP(A77,数据库!A:J,12,FALSE) -> #REF! | I77: =VLOOKUP(A77,数据库!A:I,8,FALSE) -> 690 | J77: =VLOOKUP(A77,数据库!A:I,9,FALSE) -> 0 | K77: =VLOOKUP(A77,数据库!A:I,10,FALSE) -> #REF!
A78: 32 | B78: =VLOOKUP(A78,数据库!A:H,2,FALSE) -> KP/9 | C78: =VLOOKUP(A78,数据库!A:H,3,FALSE) -> LBQ1/线路1 | D78: =VLOOKUP(A78,数据库!A:H,6,FALSE) -> 5556T | E78: =VLOOKUP(A78,数据库!A:H,7,FALSE) -> 红全封 | F78: =VLOOKUP(A78,数据库!A:H,4,FALSE) -> 标准 | G78: =VLOOKUP(A78,数据库!A:H,5,FALSE) -> 0.75黑 | H78: =VLOOKUP(A78,数据库!A:J,12,FALSE) -> #REF! | I78: =VLOOKUP(A78,数据库!A:I,8,FALSE) -> 560 | J78: =VLOOKUP(A78,数据库!A:I,9,FALSE) -> 0 | K78: =VLOOKUP(A78,数据库!A:I,10,FALSE) -> #REF!
A79: KDP2（8位）
A80: 33 | B80: =VLOOKUP(A80,数据库!A:H,2,FALSE) -> KP/10 | C80: =VLOOKUP(A80,数据库!A:H,3,FALSE) -> LBQ1/线路2 | D80: =VLOOKUP(A80,数据库!A:H,6,FALSE) -> 5556T | E80: =VLOOKUP(A80,数据库!A:H,7,FALSE) -> 红全封 | F80: =VLOOKUP(A80,数据库!A:H,4,FALSE) -> 标准 | G80: =VLOOKUP(A80,数据库!A:H,5,FALSE) -> 0.75黑 | H80: =VLOOKUP(A80,数据库!A:J,12,FALSE) -> #REF! | I80: =VLOOKUP(A80,数据库!A:I,8,FALSE) -> 580 | J80: =VLOOKUP(A80,数据库!A:I,9,FALSE) -> 0 | K80: =VLOOKUP(A80,数据库!A:I,10,FALSE) -> #REF!
A81: 34 | B81: =VLOOKUP(A81,数据库!A:H,2,FALSE) -> KP/12 | C81: =VLOOKUP(A81,数据库!A:H,3,FALSE) -> DYK/14 | D81: =VLOOKUP(A81,数据库!A:H,6,FALSE) -> 5556T | E81: =VLOOKUP(A81,数据库!A:H,7,FALSE) -> 红4 | F81: =VLOOKUP(A81,数据库!A:H,4,FALSE) -> 无机房 | G81: =VLOOKUP(A81,数据库!A:H,5,FALSE) -> 0.75黑 | H81: =VLOOKUP(A81,数据库!A:J,12,FALSE) -> #REF! | I81: =VLOOKUP(A81,数据库!A:I,8,FALSE) -> 1100 | J81: =VLOOKUP(A81,数据库!A:I,9,FALSE) -> 0 | K81: =VLOOKUP(A81,数据库!A:I,10,FALSE) -> #REF!
A82: KP（18位）
A83: 35 | B83: =VLOOKUP(A83,数据库!A:H,2,FALSE) -> KP/14 | C83: =VLOOKUP(A83,数据库!A:H,3,FALSE) -> DYK/24 | D83: =VLOOKUP(A83,数据库!A:H,6,FALSE) -> 5556T | E83: =VLOOKUP(A83,数据库!A:H,7,FALSE) -> 红4 | F83: =VLOOKUP(A83,数据库!A:H,4,FALSE) -> 无机房 | G83: =VLOOKUP(A83,数据库!A:H,5,FALSE) -> 0.75黑 | H83: =VLOOKUP(A83,数据库!A:J,12,FALSE) -> #REF! | I83: =VLOOKUP(A83,数据库!A:I,8,FALSE) -> 1120 | J83: =VLOOKUP(A83,数据库!A:I,9,FALSE) -> 0 | K83: =VLOOKUP(A83,数据库!A:I,10,FALSE) -> #REF!
A84: 36 | B84: =VLOOKUP(A84,数据库!A:H,2,FALSE) -> KZ/1 | C84: =VLOOKUP(A84,数据库!A:H,3,FALSE) -> 对讲机/+ | D84: =VLOOKUP(A84,数据库!A:H,6,FALSE) -> 5556T | E84: =VLOOKUP(A84,数据库!A:H,7,FALSE) -> 红4 | F84: =VLOOKUP(A84,数据库!A:H,4,FALSE) -> 标准 | G84: =VLOOKUP(A84,数据库!A:H,5,FALSE) -> 0.5黑 | H84: =VLOOKUP(A84,数据库!A:J,12,FALSE) -> #REF! | I84: =VLOOKUP(A84,数据库!A:I,8,FALSE) -> 1120 | J84: =VLOOKUP(A84,数据库!A:I,9,FALSE) -> 0 | K84: =VLOOKUP(A84,数据库!A:I,10,FALSE) -> #REF!
A85: 37 | B85: =VLOOKUP(A85,数据库!A:H,2,FALSE) -> KZ/3 | C85: =VLOOKUP(A85,数据库!A:H,3,FALSE) -> 对讲机/- | D85: =VLOOKUP(A85,数据库!A:H,6,FALSE) -> 5556T | E85: =VLOOKUP(A85,数据库!A:H,7,FALSE) -> 红4 | F85: =VLOOKUP(A85,数据库!A:H,4,FALSE) -> 标准 | G85: =VLOOKUP(A85,数据库!A:H,5,FALSE) -> 0.5黑 | H85: =VLOOKUP(A85,数据库!A:J,12,FALSE) -> #REF! | I85: =VLOOKUP(A85,数据库!A:I,8,FALSE) -> 1120 | J85: =VLOOKUP(A85,数据库!A:I,9,FALSE) -> 0 | K85: =VLOOKUP(A85,数据库!A:I,10,FALSE) -> #REF!
A86: 38 | B86: =VLOOKUP(A86,数据库!A:H,2,FALSE) -> KZ/4 | C86: =VLOOKUP(A86,数据库!A:H,3,FALSE) -> 对讲机/R | D86: =VLOOKUP(A86,数据库!A:H,6,FALSE) -> 5556T | E86: =VLOOKUP(A86,数据库!A:H,7,FALSE) -> 红4(遥/371:蓝4) | F86: =VLOOKUP(A86,数据库!A:H,4,FALSE) -> 标准 | G86: =VLOOKUP(A86,数据库!A:H,5,FALSE) -> 0.5黑 | H86: =VLOOKUP(A86,数据库!A:J,12,FALSE) -> #REF! | I86: =VLOOKUP(A86,数据库!A:I,8,FALSE) -> 1120 | J86: =VLOOKUP(A86,数据库!A:I,9,FALSE) -> 0 | K86: =VLOOKUP(A86,数据库!A:I,10,FALSE) -> #REF!
A87: 39 | B87: =VLOOKUP(A87,数据库!A:H,2,FALSE) -> KZ/5 | C87: =VLOOKUP(A87,数据库!A:H,3,FALSE) -> 对讲机/L | D87: =VLOOKUP(A87,数据库!A:H,6,FALSE) -> 5556T | E87: =VLOOKUP(A87,数据库!A:H,7,FALSE) -> 红4(遥/372:蓝4) | F87: =VLOOKUP(A87,数据库!A:H,4,FALSE) -> 标准 | G87: =VLOOKUP(A87,数据库!A:H,5,FALSE) -> 0.5黑 | H87: =VLOOKUP(A87,数据库!A:J,12,FALSE) -> #REF! | I87: =VLOOKUP(A87,数据库!A:I,8,FALSE) -> 1120 | J87: =VLOOKUP(A87,数据库!A:I,9,FALSE) -> 0 | K87: =VLOOKUP(A87,数据库!A:I,10,FALSE) -> #REF!
A88: 40 | B88: =VLOOKUP(A88,数据库!A:H,2,FALSE) -> J1/1 | C88: =VLOOKUP(A88,数据库!A:H,3,FALSE) -> PE | D88: =VLOOKUP(A88,数据库!A:H,6,FALSE) -> 5556T | E88: =VLOOKUP(A88,数据库!A:H,7,FALSE) -> 红6圆 | F88: =VLOOKUP(A88,数据库!A:H,4,FALSE) -> 标准 | G88: =VLOOKUP(A88,数据库!A:H,5,FALSE) -> 0.75黄绿 | H88: =VLOOKUP(A88,数据库!A:J,12,FALSE) -> #REF! | I88: =VLOOKUP(A88,数据库!A:I,8,FALSE) -> 1310 | J88: =VLOOKUP(A88,数据库!A:I,9,FALSE) -> 0 | K88: =VLOOKUP(A88,数据库!A:I,10,FALSE) -> #REF!
A89: 41 | B89: =VLOOKUP(A89,数据库!A:H,2,FALSE) -> J1/3 | C89: =VLOOKUP(A89,数据库!A:H,3,FALSE) -> LBQ/L3'(7) | D89: =VLOOKUP(A89,数据库!A:H,6,FALSE) -> 5556T | E89: =VLOOKUP(A89,数据库!A:H,7,FALSE) -> 红6圆 | F89: =VLOOKUP(A89,数据库!A:H,4,FALSE) -> 有滤波器时 | G89: =VLOOKUP(A89,数据库!A:H,5,FALSE) -> 0.75黑 | H89: =VLOOKUP(A89,数据库!A:J,12,FALSE) -> #REF! | I89: =VLOOKUP(A89,数据库!A:I,8,FALSE) -> 1660 | J89: =VLOOKUP(A89,数据库!A:I,9,FALSE) -> 随BOM明细表 | K89: =VLOOKUP(A89,数据库!A:I,10,FALSE) -> #REF!
A90: 42 | B90: =VLOOKUP(A90,数据库!A:H,2,FALSE) -> J1/3 | C90: =VLOOKUP(A90,数据库!A:H,3,FALSE) -> 端子排/T | D90: =VLOOKUP(A90,数据库!A:H,6,FALSE) -> 5556T | E90: =VLOOKUP(A90,数据库!A:H,7,FALSE) -> 半剥13 | F90: =VLOOKUP(A90,数据库!A:H,4,FALSE) -> 无滤波器时 | G90: =VLOOKUP(A90,数据库!A:H,5,FALSE) -> 0.75黑 | H90: =VLOOKUP(A90,数据库!A:J,12,FALSE) -> #REF! | I90: =VLOOKUP(A90,数据库!A:I,8,FALSE) -> 1660 | J90: =VLOOKUP(A90,数据库!A:I,9,FALSE) -> 0 | K90: =VLOOKUP(A90,数据库!A:I,10,FALSE) -> #REF!
A91: KZ（20位）
A92: 43 | B92: =VLOOKUP(A92,数据库!A:H,2,FALSE) -> J1/4 | C92: =VLOOKUP(A92,数据库!A:H,3,FALSE) -> FJK/24 | D92: =VLOOKUP(A92,数据库!A:H,6,FALSE) -> 5556T | E92: =VLOOKUP(A92,数据库!A:H,7,FALSE) -> 红4 | F92: =VLOOKUP(A92,数据库!A:H,4,FALSE) -> 标准 | G92: =VLOOKUP(A92,数据库!A:H,5,FALSE) -> 0.75黑 | H92: =VLOOKUP(A92,数据库!A:J,12,FALSE) -> #REF! | I92: =VLOOKUP(A92,数据库!A:I,8,FALSE) -> 430 | J92: =VLOOKUP(A92,数据库!A:I,9,FALSE) -> 0 | K92: =VLOOKUP(A92,数据库!A:I,10,FALSE) -> #REF!
A93: 44 | B93: =VLOOKUP(A93,数据库!A:H,2,FALSE) -> J1/6 | C93: =VLOOKUP(A93,数据库!A:H,3,FALSE) -> BZC/4 | D93: =VLOOKUP(A93,数据库!A:H,6,FALSE) -> 红4 | E93: =VLOOKUP(A93,数据库!A:H,7,FALSE) -> 红4 | F93: =VLOOKUP(A93,数据库!A:H,4,FALSE) -> 标准 | G93: =VLOOKUP(A93,数据库!A:H,5,FALSE) -> 0.5黑 | H93: =VLOOKUP(A93,数据库!A:J,12,FALSE) -> #REF! | I93: =VLOOKUP(A93,数据库!A:I,8,FALSE) -> 960 | J93: =VLOOKUP(A93,数据库!A:I,9,FALSE) -> 0 | K93: =VLOOKUP(A93,数据库!A:I,10,FALSE) -> #REF!
A94: 45 | B94: =VLOOKUP(A94,数据库!A:H,2,FALSE) -> J1/9 | C94: =VLOOKUP(A94,数据库!A:H,3,FALSE) -> LBQ/N'(8) | D94: =VLOOKUP(A94,数据库!A:H,6,FALSE) -> 5556T | E94: =VLOOKUP(A94,数据库!A:H,7,FALSE) -> 红6圆 | F94: =VLOOKUP(A94,数据库!A:H,4,FALSE) -> 有滤波器时 | G94: =VLOOKUP(A94,数据库!A:H,5,FALSE) -> 0.75黑 | H94: =VLOOKUP(A94,数据库!A:J,12,FALSE) -> #REF! | I94: =VLOOKUP(A94,数据库!A:I,8,FALSE) -> 1670 | J94: =VLOOKUP(A94,数据库!A:I,9,FALSE) -> 随BOM明细表 | K94: =VLOOKUP(A94,数据库!A:I,10,FALSE) -> #REF!
A95: 46 | B95: =VLOOKUP(A95,数据库!A:H,2,FALSE) -> J1/9 | C95: =VLOOKUP(A95,数据库!A:H,3,FALSE) -> 端子排/N | D95: =VLOOKUP(A95,数据库!A:H,6,FALSE) -> 5556T | E95: =VLOOKUP(A95,数据库!A:H,7,FALSE) -> 101蓝针 | F95: =VLOOKUP(A95,数据库!A:H,4,FALSE) -> 无滤波器时 | G95: =VLOOKUP(A95,数据库!A:H,5,FALSE) -> 0.75黑 | H95: =VLOOKUP(A95,数据库!A:J,12,FALSE) -> #REF! | I95: =VLOOKUP(A95,数据库!A:I,8,FALSE) -> 1670 | J95: =VLOOKUP(A95,数据库!A:I,9,FALSE) -> 0 | K95: =VLOOKUP(A95,数据库!A:I,10,FALSE) -> #REF!
A96: E1（12位）
A97: 47 | B97: =VLOOKUP(A97,数据库!A:H,2,FALSE) -> J1/12 | C97: =VLOOKUP(A97,数据库!A:H,3,FALSE) -> BZC/2 | D97: =VLOOKUP(A97,数据库!A:H,6,FALSE) -> 红4 | E97: =VLOOKUP(A97,数据库!A:H,7,FALSE) -> 红4 | F97: =VLOOKUP(A97,数据库!A:H,4,FALSE) -> 标准 | G97: =VLOOKUP(A97,数据库!A:H,5,FALSE) -> 0.5黑 | H97: =VLOOKUP(A97,数据库!A:J,12,FALSE) -> #REF! | I97: =VLOOKUP(A97,数据库!A:I,8,FALSE) -> 970 | J97: =VLOOKUP(A97,数据库!A:I,9,FALSE) -> 0 | K97: =VLOOKUP(A97,数据库!A:I,10,FALSE) -> #REF!
A98: 48 | B98: =VLOOKUP(A98,数据库!A:H,2,FALSE) -> J2/1 | C98: =VLOOKUP(A98,数据库!A:H,3,FALSE) -> KDP1/2 | D98: =VLOOKUP(A98,数据库!A:H,6,FALSE) -> 5556T | E98: =VLOOKUP(A98,数据库!A:H,7,FALSE) -> 5556T | F98: =VLOOKUP(A98,数据库!A:H,4,FALSE) -> 标准（无机房） | G98: =VLOOKUP(A98,数据库!A:H,5,FALSE) -> 0.5黑 | H98: =VLOOKUP(A98,数据库!A:J,12,FALSE) -> #REF! | I98: =VLOOKUP(A98,数据库!A:I,8,FALSE) -> 1050 | J98: =VLOOKUP(A98,数据库!A:I,9,FALSE) -> 0 | K98: =VLOOKUP(A98,数据库!A:I,10,FALSE) -> #REF!
A99: 49 | B99: =VLOOKUP(A99,数据库!A:H,2,FALSE) -> J2/3 | C99: =VLOOKUP(A99,数据库!A:H,3,FALSE) -> KDP2/2 | D99: =VLOOKUP(A99,数据库!A:H,6,FALSE) -> 5556T | E99: =VLOOKUP(A99,数据库!A:H,7,FALSE) -> 5556T | F99: =VLOOKUP(A99,数据库!A:H,4,FALSE) -> 标准 | G99: =VLOOKUP(A99,数据库!A:H,5,FALSE) -> 0.5黑 | H99: =VLOOKUP(A99,数据库!A:J,12,FALSE) -> #REF! | I99: =VLOOKUP(A99,数据库!A:I,8,FALSE) -> 1080 | J99: =VLOOKUP(A99,数据库!A:I,9,FALSE) -> 0 | K99: =VLOOKUP(A99,数据库!A:I,10,FALSE) -> #REF!
A100: 50 | B100: =VLOOKUP(A100,数据库!A:H,2,FALSE) -> J2/5 | C100: =VLOOKUP(A100,数据库!A:H,3,FALSE) -> CE24 | D100: =VLOOKUP(A100,数据库!A:H,6,FALSE) -> 半剥8 | E100: =VLOOKUP(A100,数据库!A:H,7,FALSE) -> 半剥13 | F100: =VLOOKUP(A100,数据库!A:H,4,FALSE) -> 标准 | G100: =VLOOKUP(A100,数据库!A:H,5,FALSE) -> 0.5黑 | H100: =VLOOKUP(A100,数据库!A:J,12,FALSE) -> #REF! | I100: =VLOOKUP(A100,数据库!A:I,8,FALSE) -> 760 | J100: =VLOOKUP(A100,数据库!A:I,9,FALSE) -> CE24短接 | K100: =VLOOKUP(A100,数据库!A:I,10,FALSE) -> #REF!
A101: 51 | B101: =VLOOKUP(A101,数据库!A:H,2,FALSE) -> J2/7 | C101: =VLOOKUP(A101,数据库!A:H,3,FALSE) -> KDP1/1 | D101: =VLOOKUP(A101,数据库!A:H,6,FALSE) -> 5556T | E101: =VLOOKUP(A101,数据库!A:H,7,FALSE) -> 5556T | F101: =VLOOKUP(A101,数据库!A:H,4,FALSE) -> 标准（无机房） | G101: =VLOOKUP(A101,数据库!A:H,5,FALSE) -> 0.5黑 | H101: =VLOOKUP(A101,数据库!A:J,12,FALSE) -> #REF! | I101: =VLOOKUP(A101,数据库!A:I,8,FALSE) -> 1050 | J101: =VLOOKUP(A101,数据库!A:I,9,FALSE) -> 0 | K101: =VLOOKUP(A101,数据库!A:I,10,FALSE) -> #REF!
A102: 52 | B102: =VLOOKUP(A102,数据库!A:H,2,FALSE) -> J2/8 | C102: =VLOOKUP(A102,数据库!A:H,3,FALSE) -> KDP1/7 | D102: =VLOOKUP(A102,数据库!A:H,6,FALSE) -> 5556T | E102: =VLOOKUP(A102,数据库!A:H,7,FALSE) -> 5556T | F102: =VLOOKUP(A102,数据库!A:H,4,FALSE) -> 标准（无机房） | G102: =VLOOKUP(A102,数据库!A:H,5,FALSE) -> 0.5黑 | H102: =VLOOKUP(A102,数据库!A:J,12,FALSE) -> #REF! | I102: =VLOOKUP(A102,数据库!A:I,8,FALSE) -> 1050 | J102: =VLOOKUP(A102,数据库!A:I,9,FALSE) -> 0 | K102: =VLOOKUP(A102,数据库!A:I,10,FALSE) -> #REF!
A103: 53 | B103: =VLOOKUP(A103,数据库!A:H,2,FALSE) -> J2/10 | C103: =VLOOKUP(A103,数据库!A:H,3,FALSE) -> KDP2/8 | D103: =VLOOKUP(A103,数据库!A:H,6,FALSE) -> 5556T | E103: =VLOOKUP(A103,数据库!A:H,7,FALSE) -> 5556T | F103: =VLOOKUP(A103,数据库!A:H,4,FALSE) -> 标准 | G103: =VLOOKUP(A103,数据库!A:H,5,FALSE) -> 0.5黑 | H103: =VLOOKUP(A103,数据库!A:J,12,FALSE) -> #REF! | I103: =VLOOKUP(A103,数据库!A:I,8,FALSE) -> 1080 | J103: =VLOOKUP(A103,数据库!A:I,9,FALSE) -> 0 | K103: =VLOOKUP(A103,数据库!A:I,10,FALSE) -> #REF!
A104: 54 | B104: =VLOOKUP(A104,数据库!A:H,2,FALSE) -> J2/11 | C104: =VLOOKUP(A104,数据库!A:H,3,FALSE) -> KDP2/5 | D104: =VLOOKUP(A104,数据库!A:H,6,FALSE) -> 5556T | E104: =VLOOKUP(A104,数据库!A:H,7,FALSE) -> 5556T | F104: =VLOOKUP(A104,数据库!A:H,4,FALSE) -> 标准 | G104: =VLOOKUP(A104,数据库!A:H,5,FALSE) -> 0.5黑 | H104: =VLOOKUP(A104,数据库!A:J,12,FALSE) -> #REF! | I104: =VLOOKUP(A104,数据库!A:I,8,FALSE) -> 1080 | J104: =VLOOKUP(A104,数据库!A:I,9,FALSE) -> 0 | K104: =VLOOKUP(A104,数据库!A:I,10,FALSE) -> #REF!
A105: 55 | B105: =VLOOKUP(A105,数据库!A:H,2,FALSE) -> J2/12 | C105: =VLOOKUP(A105,数据库!A:H,3,FALSE) -> KDP2/6 | D105: =VLOOKUP(A105,数据库!A:H,6,FALSE) -> 5556T | E105: =VLOOKUP(A105,数据库!A:H,7,FALSE) -> 5556T | F105: =VLOOKUP(A105,数据库!A:H,4,FALSE) -> 标准 | G105: =VLOOKUP(A105,数据库!A:H,5,FALSE) -> 0.5黑 | H105: =VLOOKUP(A105,数据库!A:J,12,FALSE) -> #REF! | I105: =VLOOKUP(A105,数据库!A:I,8,FALSE) -> 1080 | J105: =VLOOKUP(A105,数据库!A:I,9,FALSE) -> 0 | K105: =VLOOKUP(A105,数据库!A:I,10,FALSE) -> #REF!
A106: 56 | B106: =VLOOKUP(A106,数据库!A:H,2,FALSE) -> J2/14 | C106: =VLOOKUP(A106,数据库!A:H,3,FALSE) -> KDP1/6 | D106: =VLOOKUP(A106,数据库!A:H,6,FALSE) -> 5556T | E106: =VLOOKUP(A106,数据库!A:H,7,FALSE) -> 5556T | F106: =VLOOKUP(A106,数据库!A:H,4,FALSE) -> 标准（无机房） | G106: =VLOOKUP(A106,数据库!A:H,5,FALSE) -> 0.5黑 | H106: =VLOOKUP(A106,数据库!A:J,12,FALSE) -> #REF! | I106: =VLOOKUP(A106,数据库!A:I,8,FALSE) -> 1050 | J106: =VLOOKUP(A106,数据库!A:I,9,FALSE) -> 0 | K106: =VLOOKUP(A106,数据库!A:I,10,FALSE) -> #REF!
A107: 公共线
A108: 57 | B108: =VLOOKUP(A108,数据库!A:H,2,FALSE) -> SZDY/E1/3 | C108: =VLOOKUP(A108,数据库!A:H,3,FALSE) -> KP/3 | D108: =VLOOKUP(A108,数据库!A:H,6,FALSE) -> 5556T | E108: =VLOOKUP(A108,数据库!A:H,7,FALSE) -> 5556T | F108: =VLOOKUP(A108,数据库!A:H,4,FALSE) -> 无机房 | G108: =VLOOKUP(A108,数据库!A:H,5,FALSE) -> 0.75黑 | H108: =VLOOKUP(A108,数据库!A:J,12,FALSE) -> #REF! | I108: =VLOOKUP(A108,数据库!A:I,8,FALSE) -> 960 | J108: =VLOOKUP(A108,数据库!A:I,9,FALSE) -> 14插头实物使用5556T | K108: =VLOOKUP(A108,数据库!A:I,10,FALSE) -> #REF!
A109: 58 | B109: =VLOOKUP(A109,数据库!A:H,2,FALSE) -> SZDY/E1/3 | C109: =VLOOKUP(A109,数据库!A:H,3,FALSE) -> J1/10 | D109: =VLOOKUP(A109,数据库!A:H,6,FALSE) -> 0 | E109: =VLOOKUP(A109,数据库!A:H,7,FALSE) -> 5556T | F109: =VLOOKUP(A109,数据库!A:H,4,FALSE) -> 无机房 | G109: =VLOOKUP(A109,数据库!A:H,5,FALSE) -> 0.75黑 | H109: =VLOOKUP(A109,数据库!A:J,12,FALSE) -> #REF! | I109: =VLOOKUP(A109,数据库!A:I,8,FALSE) -> 1250 | J109: =VLOOKUP(A109,数据库!A:I,9,FALSE) -> 0 | K109: =VLOOKUP(A109,数据库!A:I,10,FALSE) -> #REF!
A110: 59 | B110: =VLOOKUP(A110,数据库!A:H,2,FALSE) -> SZDY/E1/4 | C110: =VLOOKUP(A110,数据库!A:H,3,FALSE) -> KP/1 | D110: =VLOOKUP(A110,数据库!A:H,6,FALSE) -> 5556T | E110: =VLOOKUP(A110,数据库!A:H,7,FALSE) -> 5556T | F110: =VLOOKUP(A110,数据库!A:H,4,FALSE) -> 无机房 | G110: =VLOOKUP(A110,数据库!A:H,5,FALSE) -> 0.75黑 | H110: =VLOOKUP(A110,数据库!A:J,12,FALSE) -> #REF! | I110: =VLOOKUP(A110,数据库!A:I,8,FALSE) -> 960 | J110: =VLOOKUP(A110,数据库!A:I,9,FALSE) -> 0 | K110: =VLOOKUP(A110,数据库!A:I,10,FALSE) -> #REF!
A111: 60 | B111: =VLOOKUP(A111,数据库!A:H,2,FALSE) -> SZDY/E1/4 | C111: =VLOOKUP(A111,数据库!A:H,3,FALSE) -> FJK/24 | D111: =VLOOKUP(A111,数据库!A:H,6,FALSE) -> 0 | E111: =VLOOKUP(A111,数据库!A:H,7,FALSE) -> 红4 | F111: =VLOOKUP(A111,数据库!A:H,4,FALSE) -> 无机房 | G111: =VLOOKUP(A111,数据库!A:H,5,FALSE) -> 0.75黑 | H111: =VLOOKUP(A111,数据库!A:J,12,FALSE) -> #REF! | I111: =VLOOKUP(A111,数据库!A:I,8,FALSE) -> 1250 | J111: =VLOOKUP(A111,数据库!A:I,9,FALSE) -> 0 | K111: =VLOOKUP(A111,数据库!A:I,10,FALSE) -> #REF!
A112: 61 | B112: =VLOOKUP(A112,数据库!A:H,2,FALSE) -> SZDY/E1/5 | C112: =VLOOKUP(A112,数据库!A:H,3,FALSE) -> KH1/3 | D112: =VLOOKUP(A112,数据库!A:H,6,FALSE) -> 5556T | E112: =VLOOKUP(A112,数据库!A:H,7,FALSE) -> 剥8 | F112: =VLOOKUP(A112,数据库!A:H,4,FALSE) -> 无机房 | G112: =VLOOKUP(A112,数据库!A:H,5,FALSE) -> 0.5黑 | H112: =VLOOKUP(A112,数据库!A:J,12,FALSE) -> #REF! | I112: =VLOOKUP(A112,数据库!A:I,8,FALSE) -> 1180 | J112: =VLOOKUP(A112,数据库!A:I,9,FALSE) -> 0 | K112: =VLOOKUP(A112,数据库!A:I,10,FALSE) -> #REF!
A113: 62 | B113: =VLOOKUP(A113,数据库!A:H,2,FALSE) -> SZDY/E1/6 | C113: =VLOOKUP(A113,数据库!A:H,3,FALSE) -> KD/14 | D113: =VLOOKUP(A113,数据库!A:H,6,FALSE) -> 5556T | E113: =VLOOKUP(A113,数据库!A:H,7,FALSE) -> 5556T | F113: =VLOOKUP(A113,数据库!A:H,4,FALSE) -> 无机房 | G113: =VLOOKUP(A113,数据库!A:H,5,FALSE) -> 0.5黑 | H113: =VLOOKUP(A113,数据库!A:J,12,FALSE) -> #REF! | I113: =VLOOKUP(A113,数据库!A:I,8,FALSE) -> 1020 | J113: =VLOOKUP(A113,数据库!A:I,9,FALSE) -> 0 | K113: =VLOOKUP(A113,数据库!A:I,10,FALSE) -> #REF!
A114: 63 | B114: =VLOOKUP(A114,数据库!A:H,2,FALSE) -> SZDY/E1/6 | C114: =VLOOKUP(A114,数据库!A:H,3,FALSE) -> LP2/+ | D114: =VLOOKUP(A114,数据库!A:H,6,FALSE) -> 0 | E114: =VLOOKUP(A114,数据库!A:H,7,FALSE) -> 剥13 | F114: =VLOOKUP(A114,数据库!A:H,4,FALSE) -> 无机房 | G114: =VLOOKUP(A114,数据库!A:H,5,FALSE) -> 0.5黑 | H114: =VLOOKUP(A114,数据库!A:J,12,FALSE) -> #REF! | I114: =VLOOKUP(A114,数据库!A:I,8,FALSE) -> 470 | J114: =VLOOKUP(A114,数据库!A:I,9,FALSE) -> 0 | K114: =VLOOKUP(A114,数据库!A:I,10,FALSE) -> #REF!
A115: 64 | B115: =VLOOKUP(A115,数据库!A:H,2,FALSE) -> SZDY/E1/7 | C115: =VLOOKUP(A115,数据库!A:H,3,FALSE) -> KH1/4 | D115: =VLOOKUP(A115,数据库!A:H,6,FALSE) -> 5556T | E115: =VLOOKUP(A115,数据库!A:H,7,FALSE) -> 剥8 | F115: =VLOOKUP(A115,数据库!A:H,4,FALSE) -> 无机房 | G115: =VLOOKUP(A115,数据库!A:H,5,FALSE) -> 0.5黑 | H115: =VLOOKUP(A115,数据库!A:J,12,FALSE) -> #REF! | I115: =VLOOKUP(A115,数据库!A:I,8,FALSE) -> 1180 | J115: =VLOOKUP(A115,数据库!A:I,9,FALSE) -> 0 | K115: =VLOOKUP(A115,数据库!A:I,10,FALSE) -> #REF!
A116: 65 | B116: =VLOOKUP(A116,数据库!A:H,2,FALSE) -> SZDY/E1/8 | C116: =VLOOKUP(A116,数据库!A:H,3,FALSE) -> DLQ/COM | D116: =VLOOKUP(A116,数据库!A:H,6,FALSE) -> 5556T | E116: =VLOOKUP(A116,数据库!A:H,7,FALSE) -> 红4 | F116: =VLOOKUP(A116,数据库!A:H,4,FALSE) -> 无机房 | G116: =VLOOKUP(A116,数据库!A:H,5,FALSE) -> 0.5黑 | H116: =VLOOKUP(A116,数据库!A:J,12,FALSE) -> #REF! | I116: =VLOOKUP(A116,数据库!A:I,8,FALSE) -> 1160 | J116: =VLOOKUP(A116,数据库!A:I,9,FALSE) -> 0 | K116: =VLOOKUP(A116,数据库!A:I,10,FALSE) -> #REF!
A117: 66 | B117: =VLOOKUP(A117,数据库!A:H,2,FALSE) -> SZDY/E1/9 | C117: =VLOOKUP(A117,数据库!A:H,3,FALSE) -> KD/16 | D117: =VLOOKUP(A117,数据库!A:H,6,FALSE) -> 5556T | E117: =VLOOKUP(A117,数据库!A:H,7,FALSE) -> 5556T | F117: =VLOOKUP(A117,数据库!A:H,4,FALSE) -> 无机房 | G117: =VLOOKUP(A117,数据库!A:H,5,FALSE) -> 0.5黑 | H117: =VLOOKUP(A117,数据库!A:J,12,FALSE) -> #REF! | I117: =VLOOKUP(A117,数据库!A:I,8,FALSE) -> 1010 | J117: =VLOOKUP(A117,数据库!A:I,9,FALSE) -> 0 | K117: =VLOOKUP(A117,数据库!A:I,10,FALSE) -> #REF!
A118: 67 | B118: =VLOOKUP(A118,数据库!A:H,2,FALSE) -> SZDY/E1/11 | C118: =VLOOKUP(A118,数据库!A:H,3,FALSE) -> CE6 | D118: =VLOOKUP(A118,数据库!A:H,6,FALSE) -> 5556T | E118: =VLOOKUP(A118,数据库!A:H,7,FALSE) -> 半剥13 | F118: =VLOOKUP(A118,数据库!A:H,4,FALSE) -> 无机房 | G118: =VLOOKUP(A118,数据库!A:H,5,FALSE) -> 0.5黑 | H118: =VLOOKUP(A118,数据库!A:J,12,FALSE) -> #REF! | I118: =VLOOKUP(A118,数据库!A:I,8,FALSE) -> 1010 | J118: =VLOOKUP(A118,数据库!A:I,9,FALSE) -> 0 | K118: =VLOOKUP(A118,数据库!A:I,10,FALSE) -> #REF!
A119: 68 | B119: =VLOOKUP(A119,数据库!A:H,2,FALSE) -> SZDY/E1/12 | C119: =VLOOKUP(A119,数据库!A:H,3,FALSE) -> FJK/34 | D119: =VLOOKUP(A119,数据库!A:H,6,FALSE) -> 5556T | E119: =VLOOKUP(A119,数据库!A:H,7,FALSE) -> 红4 | F119: =VLOOKUP(A119,数据库!A:H,4,FALSE) -> 无机房 | G119: =VLOOKUP(A119,数据库!A:H,5,FALSE) -> 0.5黑 | H119: =VLOOKUP(A119,数据库!A:J,12,FALSE) -> #REF! | I119: =VLOOKUP(A119,数据库!A:I,8,FALSE) -> 1220 | J119: =VLOOKUP(A119,数据库!A:I,9,FALSE) -> 0 | K119: =VLOOKUP(A119,数据库!A:I,10,FALSE) -> #REF!
...

Sheet 整理后-2023-7-5
A1: K3801707 | E1: 完整 -G20线束表 | J1: 2023.9.5修改长度
A2: 序号 | B2: 线径 | C2: G20线长 | D2: 始端(首端) | E2: 末端（尾端） | F2: 始端(首端)处理 | G2: 末端（尾端）处理 | H2: 作业 | I2: 组装
A3: KC（24位）
A4: 1 | B4: 0.5黑 | C4: 640 | D4: KC/1 | E4: MSC/1 | F4: 5556T | G4: 红4 | H4: 标准 | I4: KC/1
A5: 2 | B5: 0.5黑 | C5: 790 | D5: KC/2 | E5: MC/A1 | F5: 5556T | G5: 红4 | H5: 标准 | I5: KC/2
A6: 3 | B6: 0.5黑 | C6: 1170 | D6: KC/3 | E6: FJXA/13 | F6: 5556T | G6: 红4 | H6: 标准 | I6: KC/3
A7: 4 | B7: 0.5黑 | C7: 890 | D7: KC/4 | E7: MC/A2 | F7: 5556T | G7: 红4 | H7: 标准 | I7: KC/4
A8: 5 | B8: 0.5黑 | C8: 720 | D8: KC/5 | E8: BZC/A2 | F8: 5556T | G8: 红4 | H8: 标准 | I8: KC/5
A9: 6 | B9: 0.5黑 | C9: 670 | D9: KC/6 | E9: MC1/A2 | F9: 5556T | G9: 红4 | H9: 有封星接触器时 | I9: KC/6
A10: 7 | B10: 0.5黑 | C10: 610 | D10: KC/7 | E10: MSC/A1 | F10: 5556T | G10: 红4 | H10: 标准 | I10: KC/7
A11: 8 | B11: 0.5黑 | C11: 750 | D11: KC/8 | E11: MSC/A2 | F11: 5556T | G11: 红4 | H11: 标准 | I11: KC/8
A12: 9 | B12: 0.5黑 | C12: 670 | D12: KC/9 | E12: MC1/A1 | F12: 5556T | G12: 红4 | H12: 有封星接触器时 | I12: KC/9
A13: 10 | B13: 0.5黑 | C13: 1080 | D13: KC/12 | E13: FJA/24 | F13: 5556T | G13: 红4 | H13: 标准 | I13: KC/12
A14: 11 | B14: 0.5黑 | C14: 1060 | D14: KC/13 | E14: FTK/1 | F14: 5556T | G14: 红4 | H14: 非钢带梯/非异步货梯 | I14: KC/13
A15: 12 | B15: 0.5黑 | C15: 1000 | D15: KC/15 | E15: FJK/14 | F15: 5556T | G15: 红4 | H15: 标准 | I15: KC/15
A16: 13 | B16: 0.5黑 | C16: 1130 | D16: KC/18 | E16: FJA/13 | F16: 5556T | G16: 红4 | H16: 标准 | I16: KC/18
A17: KD（20位）
A18: 14 | B18: 0.5黑 | C18: 1120 | D18: KD/1 | E18: FJSA/4 | F18: 5556T | G18: 红4 | H18: 标准 | I18: KD/1
A19: 15 | B19: 0.5黑 | C19: 1220 | D19: KD/2 | E19: FJXA/4 | F19: 5556T | G19: 红4 | H19: 标准 | I19: KD/2
A20: 16 | B20: 0.5黑 | C20: 1090 | D20: KD/4 | E20: FJK/2 | F20: 5556T | G20: 红4 | H20: 标准 | I20: KD/4
A21: 17 | B21: 0.5黑 | C21: 940 | D21: KD/8 | E21: MC1/54 | F21: 5556T | G21: 红4 | H21: 有封星接触器+速度≤2.5M/S | I21: KD/8
A22: 18 | B22: 0.5黑 | C22: 760 | D22: KD/9 | E22: BZC/62(22) | F22: 5556T | G22: 红4 | H22: 标准 | I22: KD/9
A23: 19 | B23: 0.5黑 | C23: 910 | D23: KD/10 | E23: MC/62(22) | F23: 5556T | G23: 红4 | H23: 标准 | I23: KD/10
A24: 20 | B24: 0.5黑 | C24: 850 | D24: KD/11 | E24: MSC/62(22) | F24: 5556T | G24: 红4 | H24: 标准 | I24: KD/11
A25: 21 | B25: 0.5黑 | C25: 710 | D25: KD/13 | E25: MSC/61(21) | F25: 5556T | G25: 红4 | H25: 无接地保护装置时 | I25: KD/13
A26: 22 | B26: 0.5黑 | C26: 1080 | D26: KD/19 | E26: FJK/1 | F26: 5556T | G26: 红4 | H26: G20系统时 | I26: 0
A27: KB（10位）
A28: 23 | B28: 0.5黑 | C28: 500 | D28: KB/2 | E28: CE6 | F28: 5556T | G28: 红4 | H28: 标准（无机房） | I28: KB/2
A29: 24 | B29: 0.5黑 | C29: 500 | D29: KB/3 | E29: CE6 | F29: 5556T | G29: 红4 | H29: 标准（无机房） | I29: KB/3
A30: 25 | B30: 0.5黑 | C30: 790 | D30: KB/10 | E30: MC/53(13) | F30: 5556T | G30: 红4 | H30: 标准 | I30: KB/10
A31: KDP1（10位）
A32: 26 | B32: 0.5黑 | C32: 700 | D32: KDP2/1 | E32: BZC/61(21) | F32: 5556T | G32: 红4 | H32: 标准 | I32: KDP2/1
A33: 27 | B33: 0.75黑 | C33: 660 | D33: KP/5 | E33: LBQ1/负载1 | F33: 5556T | G33: 红全封 | H33: 标准 | I33: KP/5
A34: 28 | B34: 0.75黑 | C34: 660 | D34: KP/7 | E34: LBQ1/负载2 | F34: 5556T | G34: 红全封 | H34: 标准 | I34: KP/7
A35: 29 | B35: 0.75黑 | C35: 530 | D35: KP/9 | E35: LBQ1/线路1 | F35: 5556T | G35: 红全封 | H35: 标准 | I35: KP/9
A36: KDP2（8位）
A37: 30 | B37: 0.75黑 | C37: 550 | D37: KP/10 | E37: LBQ1/线路2 | F37: 5556T | G37: 红全封 | H37: 标准 | I37: KP/10
A38: 31 | B38: 0.75黑 | C38: 1100 | D38: KP/12 | E38: DYK/14 | F38: 5556T | G38: 红4 | H38: 无机房 | I38: KP/12
A39: KP（18位）
A40: 32 | B40: 0.75黑 | C40: 1100 | D40: KP/14 | E40: DYK/24 | F40: 5556T | G40: 红4 | H40: 无机房 | I40: KP/14
A41: 33 | B41: 0.5黑 | C41: 1060 | D41: KZ/1 | E41: 对讲机/+ | F41: 5556T | G41: 红4 | H41: 标准 | I41: KZ/1
A42: 34 | B42: 0.5黑 | C42: 1060 | D42: KZ/3 | E42: 对讲机/- | F42: 5556T | G42: 红4 | H42: 标准 | I42: KZ/3
A43: 35 | B43: 0.5黑 | C43: 1040 | D43: KZ/4 | E43: 对讲机/R | F43: 5556T | G43: 红4(遥/123:蓝4) | H43: 标准 | I43: KZ/4
A44: 36 | B44: 0.5黑 | C44: 1040 | D44: KZ/5 | E44: 对讲机/L | F44: 5556T | G44: 红4(遥/124:蓝4) | H44: 标准 | I44: KZ/5
A45: 37 | B45: 1黄绿 | C45: 1320 | D45: J1/1 | E45: PE | F45: 5556T | G45: 红6圆 | H45: 标准 | I45: 0
A46: 38 | B46: 0.75黑 | C46: 1690 | D46: J1/3 | E46: LBQ/L3'(7) | F46: 5556T | G46: 红6圆 | H46: 有滤波器时（大） | I46: 0
A47: 39 | B47: 0.75黑 | C47: 1520 | D47: J1/3 | E47: ZDK/6 | F47: 5556T | G47: 红4 | H47: 无滤波器时 | I47: 0
A48: KZ（20位）
A49: 40 | B49: 0.75黑 | C49: 450 | D49: J1/4 | E49: FJK/24 | F49: 5556T | G49: 红4 | H49: 标准 | I49: 0
A50: 41 | B50: 0.5黑 | C50: 950 | D50: J1/6 | E50: BZC/4 | F50: 5556T | G50: 红4 | H50: 标准 | I50: 0
A51: 42 | B51: 0.75黑 | C51: 1700 | D51: J1/9 | E51: LBQ/N'(8) | F51: 5556T | G51: 红6圆 | H51: 有滤波器时 | I51: 0
A52: 43 | B52: 0.75黑 | C52: 1380 | D52: J1/9 | E52: 端子排/N | F52: 5556T | G52: 101蓝针 | H52: 无滤波器时 | I52: 0
A53: E1（12位）
A54: 44 | B54: 0.5黑 | C54: 960 | D54: J1/12 | E54: BZC/2 | F54: 红4 | G54: 红4 | H54: 标准 | I54: 0
A55: 45 | B55: 0.5黑 | C55: 1050 | D55: J2/1 | E55: KDP1/2 | F55: 5556T | G55: 5556T | H55: 标准（无机房） | I55: KDP1/2
A56: 46 | B56: 0.5黑 | C56: 1050 | D56: J2/3 | E56: KDP2/2 | F56: 5556T | G56: 5556T | H56: 标准 | I56: KDP2/2
A57: 47 | B57: 0.5黑 | C57: 700 | D57: J2/5 | E57: CE24 | F57: 5556T | G57: 半剥13 | H57: 标准 | I57: 0
A58: 48 | B58: 0.5黑 | C58: 1015 | D58: J2/7 | E58: KDP1/1 | F58: 5556T | G58: 5556T | H58: 标准（无机房） | I58: KDP1/1
A59: 49 | B59: 0.5黑 | C59: 1015 | D59: J2/8 | E59: KDP1/7 | F59: 5556T | G59: 5556T | H59: 标准（无机房） | I59: KDP1/7
A60: 50 | B60: 0.5黑 | C60: 1050 | D60: J2/10 | E60: KDP2/8 | F60: 5556T | G60: 5556T | H60: 标准 | I60: 0
A61: 51 | B61: 0.5黑 | C61: 1050 | D61: J2/11 | E61: KDP2/5 | F61: 5556T | G61: 5556T | H61: 标准 | I61: 0
A62: 52 | B62: 0.5黑 | C62: 1080 | D62: J2/12 | E62: KDP2/6 | F62: 5556T | G62: 5556T | H62: 标准 | I62: 0
A63: 53 | B63: 0.5黑 | C63: 1015 | D63: J2/14 | E63: KDP1/6 | F63: 5556T | G63: 5556T | H63: 标准（无机房） | I63: KDP1/6
A64: 公共线
A65: 54 | B65: 0.75黑 | C65: 740 | D65: SZDY/E1/3 | E65: CE2 | G65: 5556T | H65: 无机房 | I65: 0
B66: 0.75黑 | C66: 540 | D66: KP/3 | G66: 5556T | H66: 无机房
B67: 0.75黑 | C67: 540 | D67: J1/10 | G67: 5556T | H67: 无机房 | I67: SZDY/E1/3
A68: 55 | B68: 0.75黑 | C68: 700 | D68: SZDY/E1/4 | E68: CE2 | G68: 5556T | H68: 无机房 | I68: 0
B69: 0.75黑 | C69: 500 | D69: KP/1 | G69: 5556T | H69: 无机房
B70: 0.75黑 | C70: 580 | D70: FJK/24 | G70: 5556T | H70: 无机房 | I70: 0
A71: 56 | B71: 0.5黑 | C71: 1150 | D71: SZDY/E1/5 | E71: KH1/3 | F71: 5556T | G71: 剥8 | H71: 无机房 | I71: SZDY/E1/5
A72: 57 | B72: 0.5黑 | C72: 1039 | D72: SZDY/E1/6 | E72: KD/14 | F72: 5556T | G72: 5556T | H72: 无机房 | I72: SZDY/E1/6
A73: 58 | B73: 0.5黑 | C73: 450 | D73: SZDY/E1/6 | E73: LP2/+ | F73: 5556T | G73: 剥13 | H73: 无机房 | I73: SZDY/E1/6
A74: 59 | B74: 0.5黑 | C74: 1160 | D74: SZDY/E1/7 | E74: KH1/4 | F74: 5556T | G74: 剥8 | H74: 无机房 | I74: SZDY/E1/7
A75: 60 | B75: 0.5黑 | C75: 1180 | D75: SZDY/E1/8 | E75: DLQ/COM | F75: 5556T | G75: 红4 | H75: 无机房 | I75: SZDY/E1/8
A76: 61 | B76: 0.5黑 | C76: 1039 | D76: SZDY/E1/9 | E76: KD/16 | F76: 5556T | G76: 5556T | H76: 无机房 | I76: SZDY/E1/9
A77: 62 | B77: 0.5黑 | C77: 800 | D77: SZDY/E1/11 | E77: CE6 | F77: 5556T | G77: 半剥13 | H77: 无机房 | I77: SZDY/E1/11
A78: 63 | B78: 0.5黑 | C78: 1150 | D78: SZDY/E1/12 | E78: FJK/34 | F78: 5556T | G78: 红4 | H78: 无机房 | I78: FJK/34
A79: 64 | B79: 0.5黑 | C79: 660 | D79: MC/63(43) | E79: CE6 | F79: 红4 | G79: 半剥13 | H79: 无机房 | I79: 0
A80: 65 | B80: 0.5黑 | C80: 660 | D80: BZC/61(21) | E80: CE24 | F80: 红4 | G80: 半剥13 | H80: 标准 | I80: 0
A81: 66 | B81: 0.5黑 | C81: 660 | D81: MSC/61(21) | E81: CE24 | F81: 红4 | G81: 半剥13 | H81: 标准 | I81: 0
A82: 67 | B82: 0.5黑 | C82: 660 | D82: MC/61(21) | E82: CE24 | F82: 红4 | G82: 半剥13 | H82: 标准 | I82: 0
A83: 68 | B83: 0.5黑 | C83: 660 | D83: MC1/53 | E83: CE24 | F83: 红4 | G83: 半剥13 | H83: 有封星接触器+速度≤2.5M/S | I83: 0
A84: 69 | B84: 0.5黑 | C84: 1050 | D84: FTK/2 | E84: MC1/A1 | F84: 红4 | G84: 红4 | H84: 有封星接触器+无相序继电器 | I84: 0
A85: 70 | B85: 0.5黑 | C85: 460 | D85: BZC/1 | E85: BZC/6 | F85: 红4 | G85: 红4 | H85: 标准 | I85: 0
A86: 71 | B86: 0.5黑 | C86: 700 | D86: BZC/3 | E86: MC/64(44) | F86: 红4 | G86: 红4 | H86: 标准 | I86: 0
A87: 72 | B87: 0.5黑 | C87: 710 | D87: BZC/5 | E87: MC/54(14) | F87: 红4 | G87: 红4 | H87: 标准 | I87: 0
A88: 73 | B88: 0.5黑 | C88: 400 | D88: BZC/A1 | E88: MC/A1 | F88: 红4 | G88: 红4 | H88: 标准 | I88: 0
A89: 74 | B89: 0.5黑 | C89: 630 | D89: BZC/A1 | E89: MSC/2 | F89: 红4 | G89: 红4 | H89: 标准 | I89: 0
A90: 75 | B90: 2.5黑 | C90: 1070 | D90: MC1/R4 | E90: MC/2 | F90: 蓝4 | G90: 蓝4(大功率时-蓝6圆) | H90: 有封星接触器时+速度＜3.0m/s时 | I90: 0
... A94: 79 | B94: 0.75黑 | C94: 900 | D94: LBQ/N(4) | E94: 端子排/N | F94: 红6圆 | G94: 101蓝针 | H94: 有滤波器时+无停电救援 | I94: 0
A95: 80 | B95: 0.75黑 | C95: 810 | D95: KAP/1 | E95: K12/2 | F95: 剥8 | G95: 蓝针 | H95: 无机房 | I95: KAP/1
A96: 81 | B96: 0.75黑 | C96: 1210 | D96: JZK/A(2) | E96: K12/2 | F96: 131蓝4 | H96: 无机房 | I96: KAP/1
A97: 82 | B97: 0.75黑 | C97: 830 | D97: KAP/2 | E97: K12/HN | F97: 剥8 | G97: 蓝针 | H97: 无机房 | I97: KAP/2
A98: 83 | B98: 0.75黑 | C98: 480 | D98: ID/3 | E98: K12/HN | F98: 剥8 | H98: 无机房 | I98: KAP/2 | J98: 长度已经修改2023.8.24
A99: 84 | B99: 0.5黑 | C99: 1300 | D99: KH1/1 | E99: SZDY/485+ | F99: 剥8 | G99: 剥13与专用线压奶嘴 | H99: 无机房 | I99: KH/1
A100: 85 | B100: 0.5黑 | C100: 1300 | D100: KH1/2 | E100: SZDY/485- | F100: 剥8 | G100: 剥13与专用线压奶嘴 | H100: 无机房 | I100: KH/2
A101: 86 | B101: 0.5黑 | C101: 1100 | D101: LP2/- | E101: DLQ/NC | F101: 剥13 | G101: 红4 | H101: 无机房 | I101: 0
A102: 87 | B102: 0.5黑 | C102: 1030 | D102: MC/53(13) | E102: FJK/33 | F102: 红4 | G102: 红4 | H102: 无机房 | I102: FJK/33
A103: 88 | B103: 0.75黑 | C103: 940 | D103: 插座/L | E103: ZDK/5 | F103: 蓝针 | G103: 红4 | H103: 无机房 | I103: 0
...

Sheet 完整版
C1: 配线表 | H1: 编号 | I1: WI-PM-K260
H2: 页码 | I2: 共4页 | J2: 45177
A3: K3801707 | E3: G20线束表无机房 | H3: 版本 | I3: 00
A4: 序号 | B4: 线径 | C4: G20线长 | D4: 始端 | E4: 末端 | F4: 始端处理 | G4: 末端处理 | H4: 作业 | I4: 备注
A5: KC（24位）
A6: 1 | B6: 0.5黑 | C6: 640 | D6: KC/1 | E6: MSC/1 | F6: 5556T | G6: 红4 | H6: 标准
A7: 2 | B7: 0.5黑 | C7: 790 | D7: KC/2 | E7: MC/A1 | F7: 5556T | G7: 红4 | H7: 标准
A8: 3 | B8: 0.5黑 | C8: 1170 | D8: KC/3 | E8: FJXA/13 | F8: 5556T | G8: 红4 | H8: 标准
A9: 4 | B9: 0.5黑 | C9: 890 | D9: KC/4 | E9: MC/A2 | F9: 5556T | G9: 红4 | H9: 标准
A10: 5 | B10: 0.5黑 | C10: 720 | D10: KC/5 | E10: BZC/A2 | F10: 5556T | G10: 红4 | H10: 标准
A11: 6 | B11: 0.5黑 | C11: 800 | D11: KC/6 | E11: MC1/A2 | F11: 5556T | G11: 红4 | H11: 有封星接触器时
A12: 7 | B12: 0.5黑 | C12: 610 | D12: KC/7 | E12: MSC/A1 | F12: 5556T | G12: 红4 | H12: 标准
A13: 8 | B13: 0.5黑 | C13: 750 | D13: KC/8 | E13: MSC/A2 | F13: 5556T | G13: 红4 | H13: 标准
A14: 9 | B14: 0.5黑 | C14: 670 | D14: KC/9 | E14: MC1/A1 | F14: 5556T | G14: 红4 | H14: 有封星接触器时
A15: 10 | B15: 0.5黑 | C15: 1080 | D15: KC/12 | E15: FJA/24 | F15: 5556T | G15: 红4 | H15: 标准
A16: 11 | B16: 0.5黑 | C16: 1030 | D16: KC/13 | E16: FTK/1 | F16: 5556T | G16: 红4 | H16: 非钢带梯/非异步货梯
A17: 12 | B17: 0.5黑 | C17: 750 | D17: KC/13 | E17: CE5 | F17: 5556T | G17: 半剥8 | H17: 钢带梯/异步货梯 | I17: 随设计书
A18: 13 | B18: 0.5黑 | C18: 1000 | D18: KC/15 | E18: FJK/14 | F18: 5556T | G18: 红4 | H18: 标准
A19: 14 | B19: 0.5黑 | C19: 1130 | D19: KC/18 | E19: FJA/13 | F19: 5556T | G19: 红4 | H19: 标准
A20: KD（20位）
A21: 15 | B21: 0.5黑 | C21: 1120 | D21: KD/1 | E21: FJSA/4 | F21: 5556T | G21: 红4 | H21: 标准
A22: 16 | B22: 0.5黑 | C22: 1220 | D22: KD/2 | E22: FJXA/4 | F22: 5556T | G22: 红4 | H22: 标准
A23: 18 | B23: 0.5黑 | C23: 1090 | D23: KD/4 | E23: FJK/2 | F23: 5556T | G23: 红4 | H23: 标准
A24: 19 | B24: 0.5黑 | C24: 980 | D24: KD/8 | E24: MC1/54 | F24: 5556T | G24: 红4 | H24: 有封星接触器+速度≤2.5M/S | I24: 随设计书
A25: 20 | B25: 0.5黑 | C25: 980 | D25: KD/8 | E25: MC1/62 | F25: 5556T | G25: 红4 | H25: 有封星接触器+梯速＞2.5M/S | I25: 随设计书
A26: 21 | B26: 0.5黑 | C26: 760 | D26: KD/9 | E26: BZC/62(22) | F26: 5556T | G26: 红4 | H26: 标准
A27: 22 | B27: 0.5黑 | C27: 910 | D27: KD/10 | E27: MC/62(22) | F27: 5556T | G27: 红4 | H27: 标准
A28: 23 | B28: 0.5黑 | C28: 850 | D28: KD/11 | E28: MSC/62(22) | F28: 5556T | G28: 红4 | H28: 标准
A29: 24 | B29: 0.5黑 | C29: 710 | D29: KD/13 | E29: MSC/61(21) | F29: 5556T | G29: 红4 | H29: 无接地保护装置时
A30: 25 | B30: 0.5黑 | C30: 1080 | D30: KD/19 | E30: FJK/1 | F30: 5556T | G30: 红4 | H30: G20系统时
A31: KB（10位）
A32: 26 | B32: 0.5黑 | C32: 500 | D32: KB/2 | E32: CE6 | F32: 5556T | G32: 红4 | H32: 标准（无机房） | I32: CE6短接
A33: 27 | B33: 0.5黑 | C33: 500 | D33: KB/3 | E33: CE6 | F33: 5556T | G33: 红4 | H33: 标准（无机房）
A34: 28 | B34: 0.5黑 | C34: 790 | D34: KB/10 | E34: MC/53(13) | F34: 5556T | G34: 红4 | H34: 标准
A35: KDP1（10位）
A36: 29 | B36: 0.5黑 | C36: 700 | D36: KDP2/1 | E36: BZC/61(21) | F36: 5556T | G36: 红4 | H36: 标准
A37: 30 | B37: 0.75黑 | C37: 660 | D37: KP/5 | E37: LBQ1/负载1 | F37: 5556T | G37: 红全封 | H37: 标准
A38: 31 | B38: 0.75黑 | C38: 660 | D38: KP/7 | E38: LBQ1/负载2 | F38: 5556T | G38: 红全封 | H38: 标准
A39: 32 | B39: 0.75黑 | C39: 530 | D39: KP/9 | E39: LBQ1/线路1 | F39: 5556T | G39: 红全封 | H39: 标准
A40: KDP2（8位）
A41: 33 | B41: 0.75黑 | C41: 530 | D41: KP/10 | E41: LBQ1/线路2 | F41: 5556T | G41: 红全封 | H41: 标准
A42: 34 | B42: 0.75黑 | C42: 1050 | D42: KP/12 | E42: DYK/14 | F42: 5556T | G42: 红4 | H42: 无机房
A43: KP（18位）
A44: 35 | B44: 0.75黑 | C44: 1060 | D44: KP/14 | E44: DYK/24 | F44: 5556T | G44: 红4 | H44: 无机房
A45: 36 | B45: 0.5黑 | C45: 1060 | D45: KZ/1 | E45: 对讲机/+ | F45: 5556T | G45: 红4 | H45: 标准
A46: 37 | B46: 0.5黑 | C46: 1060 | D46: KZ/3 | E46: 对讲机/- | F46: 5556T | G46: 红4 | H46: 标准
A47: 38 | B47: 0.5黑 | C47: 1040 | D47: KZ/4 | E47: 对讲机/R | F47: 5556T | G47: 红4(遥/371:蓝4) | H47: 标准
A48: 39 | B48: 0.5黑 | C48: 1040 | D48: KZ/5 | E48: 对讲机/L | F48: 5556T | G48: 红4(遥/372:蓝4) | H48: 标准
A49: 40 | B49: 0.75黄绿 | C49: 1320 | D49: J1/1 | E49: PE | F49: 5556T | G49: 红6圆 | H49: 标准
A50: 41 | B50: 0.75黑 | C50: 1690 | D50: J1/3 | E50: LBQ/L3'(7) | F50: 5556T | G50: 红6圆 | H50: 有滤波器时（大） | I50: 随BOM明细表
A51: 42 | B51: 0.75黑 | C51: 1520 | D51: J1/3 | E51: ZDK/6 | F51: 5556T | G51: 半剥13 | H51: 无滤波器时
A52: KZ（20位）
A53: 43 | B53: 0.75黑 | C53: 450 | D53: J1/4 | E53: FJK/24 | F53: 5556T | G53: 红4 | H53: 标准
A54: 44 | B54: 0.5黑 | C54: 950 | D54: J1/6 | E54: BZC/4 | F54: 红4 | G54: 红4 | H54: 标准
A55: 45 | B55: 0.75黑 | C55: 1700 | D55: J1/9 | E55: LBQ/N'(8) | F55: 5556T | G55: 红6圆(大) | H55: 有滤波器时 | I55: 随BOM明细表
A56: 46 | B56: 0.75黑 | C56: 1380 | D56: J1/9 | E56: 端子排/N | F56: 5556T | G56: 101蓝针 | H56: 无滤波器时
A57: E1（12位）
A58: 47 | B58: 0.5黑 | C58: 960 | D58: J1/12 | E58: BZC/2 | F58: 红4 | G58: 红4 | H58: 标准
A59: 48 | B59: 0.5黑 | C59: 1050 | D59: J2/1 | E59: KDP1/2 | F59: 5556T | G59: 5556T | H59: 标准（无机房）
A60: 49 | B60: 0.5黑 | C60: 1050 | D60: J2/3 | E60: KDP2/2 | F60: 5556T | G60: 5556T | H60: 标准
A61: 50 | B61: 0.5黑 | C61: 700 | D61: J2/5 | E61: CE24 | F61: 半剥8 | G61: 半剥13 | H61: 标准 | I61: CE24短接
A62: 51 | B62: 0.5黑 | C62: 1015 | D62: J2/7 | E62: KDP1/1 | F62: 5556T | G62: 5556T | H62: 标准（无机房）
A63: 52 | B63: 0.5黑 | C63: 1015 | D63: J2/8 | E63: KDP1/7 | F63: 5556T | G63: 5556T | H63: 标准（无机房）
A64: 53 | B64: 0.5黑 | C64: 1050 | D64: J2/10 | E64: KDP2/8 | F64: 5556T | G64: 5556T | H64: 标准
A65: 54 | B65: 0.5黑 | C65: 1050 | D65: J2/11 | E65: KDP2/5 | F65: 5556T | G65: 5556T | H65: 标准
A66: 55 | B66: 0.5黑 | C66: 1050 | D66: J2/12 | E66: KDP2/6 | F66: 5556T | G66: 5556T | H66: 标准
A67: 56 | B67: 0.5黑 | C67: 1015 | D67: J2/14 | E67: KDP1/6 | F67: 5556T | G67: 5556T | H67: 标准（无机房）
A68: 公共线
A69: 57 | B69: 0.75黑 | C69: 740 | D69: SZDY/E1/3 | E69: 剥皮13 | F69: 5556T | G69: CE2 | H69: 无机房 | I69: 14插头实物使用5556T
B70: 0.75黑 | C70: 540 | D70: KP/3 | F70: 5556T | H70: 无机房
B71: 0.75黑 | C71: 540 | D71: J1/10 | F71: 5556T | H71: 无机房
A72: 59 | B72: 0.75黑 | C72: 700 | D72: SZDY/E1/4 | E72: 剥皮13 | F72: 5556T | G72: CE2 | H72: 无机房
B73: 0.75黑 | C73: 500 | D73: KP/1 | F73: 5556T | H73: 无机房
B74: 0.75黑 | C74: 580 | D74: FJK/24 | F74: 红4 | H74: 无机房
A75: 61 | B75: 0.5黑 | C75: 1170 | D75: SZDY/E1/5 | E75: KH1/3 | F75: 5556T | G75: 剥8 | H75: 无机房
A76: 62 | B76: 0.5黑 | C76: 1029 | D76: SZDY/E1/6 | E76: 剥皮13 | F76: 5556T | G76: 剥皮13 | H76: 无机房
B77: 0.5黑 | C77: 450 | D77: KD/14 | F77: 5556T | H77: 无机房
B78: 0.5黑 | C78: 450 | D78: LP2/+ | F78: 剥13 | H78: 无机房
A79: 64 | B79: 0.5黑 | C79: 1170 | D79: SZDY/E1/7 | E79: KH1/4 | F79: 5556T | G79: 剥8 | H79: 无机房
A80: 65 | B80: 0.5黑 | C80: 1180 | D80: SZDY/E1/8 | E80: DLQ/COM | F80: 5556T | G80: 红4 | H80: 无机房
A81: 66 | B81: 0.5黑 | C81: 1029 | D81: SZDY/E1/9 | E81: KD/16 | F81: 5556T | G81: 5556T | H81: 无机房
A82: 67 | B82: 0.5黑 | C82: 800 | D82: SZDY/E1/11 | E82: CE6 | F82: 5556T | G82: 半剥13 | H82: 无机房
A83: 68 | B83: 0.5黑 | C83: 1150 | D83: SZDY/E1/12 | E83: FJK/34 | F83: 5556T | G83: 红4 | H83: 无机房
A84: 69 | B84: 0.5黑 | C84: 660 | D84: MC/63(43) | E84: CE6 | F84: 红4 | G84: 半剥13 | H84: 无机房
A85: 70 | B85: 0.5黑 | C85: 660 | D85: BZC/61(21) | E85: CE24 | F85: 红4 | G85: 半剥13 | H85: 标准
A86: 71 | B86: 0.5黑 | C86: 660 | D86: MSC/61(21) | E86: CE24 | F86: 红4 | G86: 半剥13 | H86: 标准
A87: 72 | B87: 0.5黑 | C87: 660 | D87: MC/61(21) | E87: CE24 | F87: 红4 | G87: 半剥13 | H87: 标准
A88: 73 | B88: 0.5黑 | C88: 660 | D88: MC1/61(21) | E88: CE24 | F88: 红4 | G88: 半剥13 | H88: 有封星接触器+梯速＞2.5M/S | I88: 随设计书
A89: 74 | B89: 0.5黑 | C89: 660 | D89: MC1/53 | E89: CE24 | F89: 红4 | G89: 半剥13 | H89: 有封星接触器+速度≤2.5M/S | I89: 随设计书
A90: 75 | B90: 0.5黑 | C90: 1050 | D90: FTK/2 | E90: MC1/A1 | F90: 红4 | G90: 红4 | H90: 有封星接触器+无相序继电器 | I90: 随设计书
A91: 76 | B91: 0.5黑 | C91: 460 | D91: BZC/1 | E91: BZC/6 | F91: 红4 | G91: 红4 | H91: 标准
A92: 77 | B92: 0.5黑 | C92: 710 | D92: BZC/3 | E92: MC/64(44) | F92: 红4 | G92: 红4 | H92: 标准
A93: 78 | B93: 0.5黑 | C93: 710 | D93: BZC/5 | E93: MC/54(14) | F93: 红4 | G93: 红4 | H93: 标准
A94: 79 | B94: 0.5黑 | C94: 400 | D94: BZC/A1 | E94: MC/A1 | F94: 蓝4 | G94: 红4 | H94: 标准
A95: 80 | B95: 0.5黑 | C95: 630 | D95: BZC/A1 | E95: MSC/2 | G95: 红4 | H95: 标准
A96: 81 | B96: 2.5黑 | C96: 1070 | D96: MC1/R4 | E96: MC/2 | F96: 蓝4 | G96: 蓝4(大功率时-蓝6圆) | H96: 有封星接触器时+速度＜3.0m/s时 | I96: 随设计书，注意功率大小
A97: 82 | B97: 2.5黑 | C97: 540 | D97: MC1/R1 | E97: MC/6 | F97: 蓝4 | G97: 蓝4(大功率时-蓝6圆) | H97: 有封星接触器时+速度＜3.0m/s时 | I97: 随设计书，注意功率大小
A98: 83 | B98: 2.5黑 | C98: 1070 | D98: MC1/R2 | E98: MC/4 | F98: 蓝4 | G98: 蓝4(大功率时-蓝6圆) | H98: 有封星接触器时+速度＜3.0m/s时 | I98: 随设计书，注意功率大小
A99: 84 | B99: 2.5黑 | C99: 730 | D99: MC1/R2 | E99: MC1/R3 | F99: 蓝4 | G99: 蓝4 | H99: 有封星接触器时+速度＜3.0m/s时 | I99: 随设计书，注意功率大小
A100: 85 | B100: 2.5黑 | C100: 1070 | D100: MC1/1 | E100: MC/2 | F100: 蓝4 | G100: 蓝4(大功率时-蓝6圆) | H100: 有封星接触器时+速度≥3.0m/s时 | I100: 随设计书
...

Sheet 2023-11-23整理最新接线表
C1: 配线表-G20无机房线束表 | H1: 编号 | I1: WI-PM-K260
H2: 页码 | I2: 共12页
A3: K3801707 | E3: G20线束表无机房 | H3: 版本 | I3: V05
A4: 序号 | B4: 线径 | C4: G20线长 | D4: 始端 | E4: 末端 | F4: 始端处理 | G4: 末端处理 | H4: 作业 | I4: 备注
A5: KC（24位） | I5: 45457
A6: 1 | B6: 0.5黑 | C6: 640 | D6: KC/1 | E6: MSC/1 | F6: 5556T | G6: 红4 | H6: 标准
A7: 2 | B7: 0.5黑 | C7: 790 | D7: KC/2 | E7: MC/A1 | F7: 5556T | G7: 红4 | H7: 标准
A8: 3 | B8: 0.5黑 | C8: 1170 | D8: KC/3 | E8: FJXA/13 | F8: 5556T | G8: 红4 | H8: 标准
A9: 4 | B9: 0.5黑 | C9: 910 | D9: KC/4 | E9: MC/A2 | F9: 5556T | G9: 红4 | H9: 标准
A10: 5 | B10: 0.5黑 | C10: 720 | D10: KC/5 | E10: BZC/A2 | F10: 5556T | G10: 红4 | H10: 标准
A11: 6 | B11: 0.5黑 | C11: 720 | D11: KC/6 | E11: MC1/A2 | F11: 5556T | G11: 红4 | H11: 有封星接触器时
A12: 7 | B12: 0.5黑 | C12: 630 | D12: KC/7 | E12: MSC/A1 | F12: 5556T | G12: 红4 | H12: 标准
A13: 8 | B13: 0.5黑 | C13: 750 | D13: KC/8 | E13: MSC/A2 | F13: 5556T | G13: 红4 | H13: 标准
A14: 9 | B14: 0.5黑 | C14: 670 | D14: KC/9 | E14: MC1/A1 | F14: 5556T | G14: 红4 | H14: 有封星接触器时
A15: 10 | B15: 0.5黑 | C15: 1080 | D15: KC/12 | E15: FJA/24 | F15: 5556T | G15: 红4 | H15: 标准
A16: 11 | B16: 0.5黑 | C16: 1030 | D16: KC/13 | E16: FTK/1 | F16: 5556T | G16: 红4 | H16: 非钢带梯/非异步货梯
A17: 12 | B17: 0.5黑 | C17: 1000 | D17: KC/15 | E17: FJK/14 | F17: 5556T | G17: 红4 | H17: 标准
A18: 13 | B18: 0.5黑 | C18: 1130 | D18: KC/18 | E18: FJA/13 | F18: 5556T | G18: 红4 | H18: 标准
A19: KD（20位）
A20: 14 | B20: 0.5黑 | C20: 1120 | D20: KD/1 | E20: FJSA/4 | F20: 5556T | G20: 红4 | H20: 标准 | I20: 检修上行
A21: 15 | B21: 0.5黑 | C21: 1220 | D21: KD/2 | E21: FJXA/4 | F21: 5556T | G21: 红4 | H21: 标准 | I21: 检修下行
A22: 16 | B22: 0.5黑 | C22: 1090 | D22: KD/4 | E22: FJK/2 | F22: 5556T | G22: 红4 | H22: 标准
A23: 17 | B23: 0.5黑 | C23: 920 | D23: KD/8 | E23: MC1/54 | F23: 5556T | G23: 红4 | H23: 有封星接触器+速度≤2.5M/S | I23: 封星反馈
A24: 18 | B24: 0.5黑 | C24: 760 | D24: KD/9 | E24: BZC/62(22) | F24: 5556T | G24: 红4 | H24: 标准 | I24: 抱闸反馈
A25: 19 | B25: 0.5黑 | C25: 910 | D25: KD/10 | E25: MC/62(22) | F25: 5556T | G25: 红4 | H25: 标准 | I25: 运行反馈
A26: 20 | B26: 0.5黑 | C26: 850 | D26: KD/11 | E26: MSC/62(22) | F26: 5556T | G26: 红4 | H26: 标准 | I26: 门锁反馈
A27: 21 | B27: 0.5黑 | C27: 710 | D27: KD/13 | E27: MSC/61(21) | F27: 5556T | G27: 红4 | H27: 无接地保护装置时
A28: 22 | B28: 0.5黑 | C28: 1080 | D28: KD/19 | E28: FJK/1 | F28: 5556T | G28: 红4 | H28: G20系统时 | I28: 检修公共端
A29: KB（10位）
A30: 23 | B30: 0.5黑 | C30: 500 | D30: KB/2 | E30: CE6 | F30: 5556T | G30: 红4 | H30: 标准（无机房） | I30: 抱闸电源正
A31: 24 | B31: 0.5黑 | C31: 500 | D31: KB/3 | E31: CE6 | F31: 5556T | G31: 红4 | H31: 标准（无机房）
A32: 25 | B32: 0.5黑 | C32: 790 | D32: KB/10 | E32: MC/53(13) | F32: 5556T | G32: 红4 | H32: 标准 | I32: 抱闸电源负
A33: KDP2/KP
A34: 26 | B34: 0.5黑 | C34: 700 | D34: KDP2/1 | E34: BZC/61(21) | F34: 5556T | G34: 红4 | H34: 标准 | I34: DC24V+
A35: 27 | B35: 0.75黑 | C35: 660 | D35: KP/5 | E35: LBQ1/负载1 | F35: 5556T | G35: 红全封 | H35: 标准 | I35: AC220V
A36: 28 | B36: 0.75黑 | C36: 660 | D36: KP/7 | E36: LBQ1/负载2 | F36: 5556T | G36: 红全封 | H36: 标准
A37: 29 | B37: 0.75黑 | C37: 530 | D37: KP/9 | E37: LBQ1/线路1 | F37: 5556T | G37: 红全封 | H37: 标准
A38: 30 | B38: 0.75黑 | C38: 530 | D38: KP/10 | E38: LBQ1/线路2 | F38: 5556T | G38: 红全封 | H38: 标准
A39: 31 | B39: 0.75黑 | C39: 1070 | D39: KP/12 | E39: DYK/14 | F39: 5556T | G39: 红4 | H39: 无机房 | I39: 限速器AC220V
A40: 32 | B40: 0.75黑 | C40: 1070 | D40: KP/14 | E40: DYK/24 | F40: 5556T | G40: 红4 | H40: 无机房 | I40: 限速器AC220V
A41: KZ
A42: 33 | B42: 0.5黑 | C42: 1060 | D42: KZ/1 | E42: 对讲机/+ | F42: 5556T | G42: 红4 | H42: 标准 | I42: 对讲回路
A43: 34 | B43: 0.5黑 | C43: 1060 | D43: KZ/3 | E43: 对讲机/- | F43: 5556T | G43: 红4 | H43: 标准
A44: 35 | B44: 0.5黑 | C44: 1040 | D44: KZ/4 | E44: 对讲机/R | F44: 5556T | G44: 红4 | H44: 标准
A45: 36 | B45: 0.5黑 | C45: 1040 | D45: KZ/5 | E45: 对讲机/L | F45: 5556T | G45: 红4 | H45: 标准
A46: J1
A47: 37 | B47: 0.75黄绿 | C47: 1320 | D47: J1/1 | E47: PE | F47: 5556T | G47: 红6圆 | H47: 标准
A48: 38 | B48: 0.75黑 | C48: 1520 | D48: J1/3 | E48: ZDK/6 | F48: 5556T | G48: 半剥13 | H48: 无滤波器时 | I48: AC220V输入L
A49: 40 | B49: 0.5黑 | C49: 950 | D49: J1/6 | E49: BZC/4 | F49: 5556T | G49: 红4 | H49: 标准 | I49: 抱闸DC110V+
A50: 41 | B50: 0.75黑 | C50: 1380 | D50: J1/9 | E50: 端子排/N | F50: 5556T | G50: 101蓝针 | H50: 无滤波器时 | I50: AC220V输入N
A51: 42 | B51: 0.5黑 | C51: 960 | D51: J1/12 | E51: BZC/2 | F51: 5556T | G51: 红4 | H51: 标准 | I51: 抱闸DC110V-
A52: J2
A53: 43 | B53: 0.5黑 | C53: 1050 | D53: J2/1 | E53: KDP1/2 | F53: 5556T | G53: 5556T | H53: 标准（无机房） | I53: 井道DC110V+
A54: 44 | B54: 0.5黑 | C54: 1050 | D54: J2/3 | E54: CE24 | F54: 5556T | G54: 半剥13 | H54: 标准 | I54: 井道DC24V-
A55: 45 | B55: 0.5黑 | C55: 700 | D55: KDP2/2 | F55: 5556T | G55: 半剥13
A56: 46 | B56: 0.5黑 | C56: 1200 | D56: SZDY/E1/7 | F56: 5556T | G56: 半剥13
A57: 47 | B57: 0.5黑 | C57: 700 | D57: J2/5 | E57: CE24 | F57: 5556T | G57: 半剥13 | H57: 标准 | I57: 井道DC24V+
A58: 48 | B58: 0.5黑 | C58: 1015 | D58: J2/7 | E58: KDP1/1 | F58: 5556T | G58: 5556T | H58: 标准（无机房） | I58: 安全回路DC110V+
A59: 49 | B59: 0.5黑 | C59: 1015 | D59: J2/8 | E59: KDP1/7 | F59: 5556T | G59: 5556T | H59: 标准（无机房） | I59: 井道DC110V-
A60: 50 | B60: 0.5黑 | C60: 1050 | D60: J2/10 | E60: KDP2/8 | F60: 5556T | G60: 5556T | H60: 标准 | I60: 抱闸使能信号
A61: 51 | B61: 0.5黑 | C61: 1050 | D61: J2/11 | E61: KDP2/5 | F61: 5556T | G61: 5556T | H61: 标准 | I61: 485+
A62: 52 | B62: 0.5黑 | C62: 1050 | D62: J2/12 | E62: KDP2/6 | F62: 5556T | G62: 5556T | H62: 标准 | I62: 485-
A63: 53 | B63: 0.5黑 | C63: 1015 | D63: J2/14 | E63: KDP1/6 | F63: 5556T | G63: 5556T | H63: 标准（无机房） | I63: 安全回路DC110V-
A64: 公共线/E1
A65: 54 | B65: 0.75黑 | C65: 740 | D65: SZDY/E1/8 | E65: CE5 | F65: 5556T | G65: CE2 | H65: 无机房 | I65: 整合电源AC220V输出N
B66: 0.75黑 | C66: 540 | D66: KP/3 | F66: 5556T | H66: 无机房
B67: 0.75黑 | C67: 600 | D67: J1/10 | F67: 5556T | H67: 无机房
A68: 55 | B68: 0.75黑 | C68: 700 | D68: SZDY/E1/1 | E68: CE4 | F68: 5556T | G68: CE2 | H68: 无机房 | I68: 整合电源AC220V输出L
B69: 0.75黑 | C69: 500 | D69: KP/1 | F69: 5556T | H69: 无机房
B70: 0.75黑 | C70: 700 | D70: J1/4 | F70: 红4 | H70: 无机房
A71: 56 | B71: 0.5黑 | C71: 1130 | D71: SZDY/E1/5 | E71: KH1/3 | F71: 5556T | G71: 橙针 | H71: 无机房 | I71: 24V+
A72: 57 | B72: 0.5黑 | C72: 900 | D72: SZDY/E1/6 | E72: CE3 | F72: 5556T | G72: 剥皮13 | H72: 无机房
B73: 0.5黑 | C73: 600 | D73: KD/14 | F73: 5556T | H73: 无机房
B74: 0.5黑 | C74: 600 | D74: LP2/+ | F74: 剥13 | H74: 无机房
A75: 58 | B75: 0.5黑 | C75: 1180 | D75: SZDY/E1/10 | E75: DLQ/COM | F75: 5556T | G75: 蓝4 | H75: 无机房 | I75: 24V-
A76: 59 | B76: 0.5黑 | C76: 1010 | D76: SZDY/E1/11 | E76: KD/16 | F76: 5556T | G76: 5556T | H76: 无机房 | I76: 门区指示
A77: 60 | B77: 0.5黑 | C77: 800 | D77: SZDY/E1/13 | E77: CE6 | F77: 5556T | G77: 半剥13 | H77: 无机房 | I77: 松闸电源输出DC110V+
A78: 61 | B78: 0.5黑 | C78: 1150 | D78: SZDY/E1/14 | E78: FJK/34 | F78: 5556T | G78: 红4 | H78: 无机房 | I78: 松闸电源输出DC110V-
A79: 62 | B79: 0.5黑 | C79: 660 | D79: MC/63(43) | E79: CE6 | F79: 红4 | G79: 半剥13 | H79: 无机房
A80: 63 | B80: 0.5黑 | C80: 660 | D80: BZC/61(21) | E80: CE24 | F80: 红4 | G80: 半剥13 | H80: 标准 | I80: 主板信号公共端DC24V+
A81: 64 | B81: 0.5黑 | C81: 280 | D81: BZC/61(21) | E81: MSC/61(21) | F81: 红4 | G81: 红4 | H81: 标准
A82: 65 | B82: 0.5黑 | C82: 350 | D82: MSC/61(21) | E82: MC/61(21) | F82: 红4 | G82: 红4 | H82: 标准
A83: 66 | B83: 0.5黑 | C83: 350 | D83: MC/61(21) | E83: MC1/53 | F83: 红4 | G83: 红4 | H83: 有封星接触器+速度≤2.5M/S
A84: 67 | B84: 0.5黑 | C84: 1050 | D84: FTK/2 | E84: MC1/A1 | F84: 红4 | G84: 红4 | H84: 有封星接触器+无相序继电器 | I84: 安全回路DC110V+
A85: 68 | B85: 0.5黑 | C85: 460 | D85: BZC/1 | E85: BZC/6 | F85: 红4 | G85: 红4 | H85: 标准 | I85: 抱闸回路
A86: 69 | B86: 0.5黑 | C86: 710 | D86: BZC/3 | E86: MC/64(44) | F86: 红4 | G86: 红4 | H86: 标准
A87: 70 | B87: 0.5黑 | C87: 710 | D87: BZC/5 | E87: MC/54(14) | F87: 红4 | G87: 红4 | H87: 标准
A88: 71 | B88: 0.5黑 | C88: 400 | D88: BZC/A1 | E88: MC/A1 | F88: 蓝4 | G88: 红4 | H88: 标准 | I88: 抱闸运行输出
A89: 72 | B89: 0.5黑 | C89: 580 | D89: BZC/A1 | E89: MSC/2 | G89: 红4 | H89: 标准
A90: 73 | B90: 2.5黑 | C90: 1070 | D90: MC1/R4 | E90: MC/2 | F90: 蓝4 | G90: 蓝4(大功率时-蓝6圆) | H90: 有封星接触器时+速度＜3.0m/s时 | I90: 封星回路 | J90: =SUBTOTAL(9,C90:C93) -> 3600
A91: 74 | B91: 2.5黑 | C91: 730 | D91: MC1/R1 | E91: MC/6 | F91: 蓝4 | G91: 蓝4(大功率时-蓝6圆) | H91: 有封星接触器时+速度＜3.0m/s时
A92: 75 | B92: 2.5黑 | C92: 1070 | D92: MC1/R2 | E92: MC/4 | F92: 蓝4 | G92: 蓝4(大功率时-蓝6圆) | H92: 有封星接触器时+速度＜3.0m/s时
A93: 76 | B93: 2.5黑 | C93: 730 | D93: MC1/R2 | E93: MC1/R3 | F93: 蓝4 | G93: 蓝4 | H93: 有封星接触器时+速度＜3.0m/s时
A94: 77 | B94: 0.75黑 | C94: 850 | D94: KAP/1 | E94: K12/2 | F94: 红针 | G94: 红针 | H94: 无机房 | I94: AC220V回路
A95: 78 | B95: 0.75黑 | C95: 1210 | D95: JZK/A(2) | E95: K12/2 | F95: 红针 | H95: 无机房
A96: 79 | B96: 0.75黑 | C96: 850 | D96: KAP/2 | E96: K12/HN | F96: 红针 | G96: 红针 | H96: 无机房
A97: 80 | B97: 0.75黑 | C97: 500 | D97: ID/3 | E97: K12/HN | F97: 红针 | H97: 无机房
A98: 81 | B98: 0.5黑 | C98: 1270 | D98: KH1/1 | E98: SZDY/485+ | F98: 橙针 | G98: 剥13与专用线压奶嘴 | H98: 无机房
A99: 82 | B99: 0.5黑 | C99: 1270 | D99: KH1/2 | E99: SZDY/485- | F99: 橙针 | G99: 剥13与专用线压奶嘴 | H99: 无机房
A100: 83 | B100: 0.5黑 | C100: 1100 | D100: LP2/- | E100: DLQ/NC | F100: 剥13 | G100: 红4 | H100: 无机房
...

Sheet G20无机房裁线表
A1: G20无机房-标准作业裁线表-KS402376-A
A2: 0.5黑线 | E2: 0.5黑线
A3: 序号 | B3: 线长 | C3: 数量 | E3: 序号 | F3: 线长 | G3: 数量
A4: 1 | B4: 70 | C4: 1 | E4: 39 | F4: 1060 | G4: 2
A5: 2 | B5: 100 | C5: 1 | E5: 40 | F5: 1080 | G5: 3
A6: 3 | B6: 120 | C6: 4 | D6: 150 7根（增加） | E6: 41 | F6: 1090 | G6: 1
A7: 4 | B7: 180 | C7: 1 | E7: 42 | F7: 1100 | G7: 1
A8: 5 | B8: 200 | C8: 1 | E8: 43 | F8: 1120 | G8: 1
A9: 6 | B9: 250 | C9: 1 | E9: 44 | F9: 1130 | G9: 3
A10: 7 | B10: 280 | C10: 1 | E10: 45 | F10: 1150 | G10: 1
A11: 8 | B11: 350 | C11: 2 | E11: 46 | F11: 1170 | G11: 1
A12: 9 | B12: 370 | C12: 1 | E12: 47 | F12: 1180 | G12: 1
A13: 10 | B13: 400 | C13: 2 | E13: 48 | F13: 1220 | G13: 1
A14: 11 | B14: 460 | C14: 1 | E14: 49 | F14: 1270 | G14: 1
A15: 12 | B15: 480 | C15: 1 | E15: 0.75黑线
A16: 13 | B16: 500 | C16: 3 | E16: 序号 | F16: 线长 | G16: 数量
A17: 14 | B17: 580 | C17: 1 | E17: 1 | F17: 70 | G17: 1
A18: 15 | B18: 600 | C18: 3 | E18: 2 | F18: 75 | G18: 1
A19: 16 | B19: 630 | C19: 1 | E19: 3 | F19: 330 | G19: 1
A20: 17 | B20: 640 | C20: 1 | E20: 4 | F20: 350 | G20: 1
A21: 18 | B21: 660 | C21: 2 | E21: 5 | F21: 500 | G21: 2
A22: 19 | B22: 670 | C22: 1 | E22: 6 | F22: 530 | G22: 2
A23: 20 | B23: 700 | C23: 2 | E23: 7 | F23: 540 | G23: 1
A24: 21 | B24: 710 | C24: 3 | E24: 8 | F24: 600 | G24: 1
A25: 22 | B25: 720 | C25: 2 | E25: 9 | F25: 610 | G25: 1
A26: 23 | B26: 750 | C26: 1 | E26: 10 | F26: 640 | G26: 3
A27: 24 | B27: 760 | C27: 1 | E27: 11 | F27: 650 | G27: 1
A28: 25 | B28: 790 | C28: 2 | E28: 12 | F28: 660 | G28: 2
... A41: 38 | B41: 1050 | C41: 6 | E41: 25 | F41: 1380 | G41: 1
E42: 26 | F42: 1520 | G42: 1
A43: 2.5黑线 | E43: 标准BA接口作业裁线表-KS402376-F
A44: 序号 | B44: 线长 | C44: 数量 | E44: 0.5黑线
A45: 1 | B45: 730 | C45: 2 | E45: 序号 | F45: 线长 | G45: 数量
A46: 2 | B46: 1070 | C46: 2 | E46: 1 | F46: 650 | G46: 4
A47: 0.75黄绿线 | E47: 访客功能作业裁线表-KS402376-G
A48: 序号 | B48: 线长 | C48: 数量 | E48: 0.5黑线
A49: 1 | B49: 1320 | C49: 1 | E49: 序号 | F49: 线长 | G49: 数量
A50: 2.5黄绿线 | E50: 1
A51: 序号 | B51: 线长 | C51: 数量 | E51: 2
A52: 1 | B52: 710 | C52: 1 | E52: 3
A53: 物联网作业裁线表-KS402376-B | E53: 4
A54: 0.5黑线 | E54: 5
A55: 序号 | B55: 线长 | C55: 数量 | E55: 访客功能作业裁线表-KS402376-H
A56: 1 | B56: 750 | C56: 4 | E56: 0.5黑线
A57: 2 | B57: 720 | C57: 2 | E57: 序号 | F57: 线长 | G57: 数量
A58: 五方总线对讲裁线表-KS402376-C | E58: 1
A59: 0.5黑线 | E59: 2
A60: 序号 | B60: 线长 | C60: 数量 | E60: 3
A61: 1 | B61: 200 | C61: 4 | E61: 4
A62: 数字视频传输作业裁线表-KS402376-D | E62: 远程语音救援功能作业裁线表-KS402376-J
A63: 0.5黑线 | E63: 0.5黑线
A64: 序号 | B64: 线长 | C64: 数量 | E64: 序号 | F64: 线长 | G64: 数量
A65: 1 | B65: 600 | C65: 1 | E65: 1
A66: 2 | B66: 900 | C66: 2 | E66: 2
A67: 3 | B67: 1190 | C67: 2 | E67: 3
A68: 0.75黄绿 | E68: 0.75黄绿线
A69: 序号 | B69: 线长 | C69: 数量 | E69: 1
A70: 1 | B70: 1150 | C70: 1 | E70: ARD作业裁线表-KS402376-K
A71: 微动平层作业裁线表-KS402376-E | E71: 0.5黑线
A72: 0.5黑线 | E72: 序号 | F72: 线长 | G72: 数量
A73: 序号 | B73: 线长 | C73: 数量 | E73: 1
A74: 1 | B74: 250 | C74: 1 | E74: 2
A75: 2 | B75: 440 | C75: 2 | E75: 磁栅尺功能作业裁线表-KS402376-L
A76: 3 | B76: 450 | C76: 2 | E76: 0.5黑线
A77: 4 | B77: 700 | C77: 6 | E77: 序号 | F77: 线长 | G77: 数量
A78: 5 | B78: 850 | C78: 1 | E78: 1 | F78: 1170 | G78: 2
A79: 双限速器功能作业裁线表-KS402376-M | E79: 微动平层且是双开门增加下面2行-0.5黑线
A80: 0.5黑线 | E80: 序号 | F80: 线长 | G80: 数量
A81: 序号 | B81: 线长 | C81: 数量 | E81: 1 | F81: 300 | G81: 2
A82: 1 | E82: 2 | F82: 800 | G82: 1
A83: 0.75黑线
A84: 1
A85: 2
A86: 3
A87: 无线对讲功能作业裁线表-KS402376-N
A88: 0.75黑线
A89: 序号 | B89: 线长 | C89: 数量
A90: 1
A91: 2

Sheet 裁线长度表
A1: G20无机房裁线表
A2: 0.5黑 | E2: 0.75黑
A3: 序号 | B3: 长度值 | C3: 数量 | D3: 备注 | E3: 序号 | F3: 长度值 | G3: 数量 | H3: 备注
A4: 1 | B4: 70 | C4: 1 | E4: 1 | F4: 70 | G4: 1
A5: 2 | B5: 100 | C5: 1 | E5: 2 | F5: 75 | G5: 2
A6: 3 | B6: 120 | C6: 4 | E6: 3 | F6: 150 | G6: 1
A7: 4 | B7: 180 | C7: 1 | E7: 4 | F7: 330 | G7: 1
A8: 5 | B8: 200 | C8: 4 | D8: 当有解码板时数值为 4 ，否则是 0 . | E8: 5 | F8: 350 | G8: 1
A9: 6 | B9: 250 | C9: 1 | E9: 6 | F9: 450 | G9: 1
A10: 7 | B10: 280 | C10: 7 | E10: 7 | F10: 500 | G10: 2
A11: 8 | B11: 300 | C11: 2 | E11: 8 | F11: 530 | G11: 2
A12: 9 | B12: 370 | C12: 1 | E12: 9 | F12: 540 | G12: 2
A13: 10 | B13: 400 | C13: 2 | E13: 10 | F13: 610 | G13: 1
A14: 11 | B14: 440 | C14: 2 | E14: 11 | F14: 640 | G14: 3
A15: 12 | B15: 450 | C15: 4 | E15: 12 | F15: 650 | G15: 1
A16: 13 | B16: 460 | C16: 1 | E16: 13 | F16: 660 | G16: 2
A17: 14 | B17: 480 | C17: 1 | E17: 14 | F17: 700 | G17: 2
A18: 15 | B18: 500 | C18: 3 | E18: 15 | F18: 740 | G18: 1
A19: 16 | B19: 580 | C19: 1 | E19: 16 | F19: 850 | G19: 2
A20: 17 | B20: 600 | C20: 1 | E20: 17 | F20: 870 | G20: 1
... A22: 19 | B22: 640 | C22: 1 | E22: 19 | F22: 1070 | G22: 2
A23: 20 | B23: 650 | C23: 4 | D23: 当有BA接口时数值为 4 ，否则是 0 . | E23: 20 | F23: 1210 | G23: 1
A24: 21 | B24: 660 | C24: 5 | E24: 21 | F24: 1280 | G24: 1
A25: 22 | B25: 670 | C25: 1 | E25: 22 | F25: 1290 | G25: 2
A26: 23 | B26: 700 | C26: 8 | E26: 23 | F26: 1380 | G26: 1
A27: 24 | B27: 710 | C27: 3 | E27: 24 | F27: 1520 | G27: 1
A28: 25 | B28: 720 | C28: 4 | D28: 当有物联网功能时数值为 4 ，否则是 2 .
A29: 26 | B29: 750 | C29: 5 | D29: 当有物联网功能时数值为 5 ，否则是 1 .
A30: 27 | B30: 760 | C30: 1
A31: 28 | B31: 790 | C31: 2
A32: 29 | B32: 800 | C32: 2
A33: 30 | B33: 850 | C33: 2
A34: 31 | B34: 890 | C34: 1
A35: 32 | B35: 910 | C35: 1
A36: 33 | B36: 920 | C36: 1
A37: 34 | B37: 950 | C37: 3
A38: 35 | B38: 960 | C38: 1
A39: 36 | B39: 1000 | C39: 2
A40: 37 | B40: 1015 | C40: 3
A41: 38 | B41: 1030 | C41: 3
... A43: 40 | B43: 1050 | C43: 1
A44: 41 | B44: 1060 | C44: 6 | D44: 当有数字视频传输功能时数值为 6 ，否则是 1 .
A45: 42 | B45: 1080 | C45: 3
A46: 43 | B46: 1090 | C46: 1
A47: 44 | B47: 1100 | C47: 1
A48: 45 | B48: 1120 | C48: 1
A49: 46 | B49: 1130 | C49: 3
A50: 47 | B50: 1150 | C50: 1
A51: 48 | B51: 1170 | C51: 1
A52: 49 | B52: 1180 | C52: 1
A53: 50 | B53: 1220 | C53: 1
A54: 51 | B54: 1270 | C54: 2
