Workbook

Sheet 数据库
A1: 步号 | B1: 自(FROM) 线端名/排列号 | C1: 至(TO) 线端名/排列号 | D1: 图号作业 | E1: 线径(MM*2) | F1: 前端制作 | G1: 后端制作 | H1: G20线长(MM) | I1: 备注 | J1: 组装 | K1: 前 | L1: 后 | M1: 测试模式 | N1: 测试针A | O1: 测试针B | P1: 标准值 | Q1: 测量值 | R1: ＋公差％ | S1: －公差％ | T1: 操作者 | U1: 1组+ | V1: 1组- | W1: 2组+ | X1: 2组- | Y1: 3组+ | Z1: 3组- | AA1: 4组+ | AB1: 4组- | AC1: 5组+ | AD1: 5组- | AE1: 6组+ | AF1: 6组- | AG1: 7组+ | AH1: 7组- | AI1: 8组+ | AJ1: 8组- | AK1: 9组+ | AL1: 9组- | AM1: 10组+ | AN1: 10组- | AO1: 11组+ | AP1: 11组- | AQ1: 12组+ | AR1: 12组- | AS1: 13组+ | AT1: 13组- | AU1: 14组+ | AV1: 14组- | AW1: 15组+ | AX1: 15组- | AY1: 16组+ | AZ1: 16组- | BA1: 17组+ | BB1: 17组- | BC1: 18组+ | BD1: 18组- | BE1: 19组+ | BF1: 19组- | BG1: 20组+ | BH1: 20组- | BI1: 21组+ | BJ1: 21组- | BK1: 22组+ | BL1: 22组- | BM1: 23组+ | BN1: 23组- | BO1: 24组+ | BP1: 24组- | BQ1: 25组+ | BR1: 25组- | BS1: 26组+ | BT1: 26组- | BU1: 27组+ | BV1: 27组- | BW1: 28组+ | BX1: 28组- | BY1: 29组+ | BZ1: 29组- | CA1: 30组+ | CB1: 30组- | CC1: 31组+ | CD1: 31组- | CE1: 32组+ | CF1: 32组- | CG1: 33组+ | CH1: 33组- | CI1: 34组+ | CJ1: 34组- | CK1: 35组+ | CL1: 35组- | CM1: 36组+ | CN1: 36组- | CO1: 37组+ | CP1: 37组- | CQ1: 38组+ | CR1: 38组- | CS1: 39组+ | CT1: 39组- | CU1: 40组+ | CV1: 40组- | CW1: 41组+ | CX1: 41组- | CY1: 42组+ | CZ1: 42组- | DA1: 43组+ | DB1: 43组- | DC1: 44组+ | DD1: 44组- | DE1: 45组+ | DF1: 45组- | DG1: 46组+ | DH1: 46组- | DI1: 47组+ | DJ1: 47组- | DK1: 48组+ | DL1: 48组- | DM1: 49组+ | DN1: 49组- | DO1: 50组+ | DP1: 50组- | DQ1: 51组+ | DR1: 51组- | DS1: 52组+ | DT1: 52组- | DU1: 53组+ | DV1: 53组- | DW1: 54组+ | DX1: 54组- | DY1: 55组+ | DZ1: 55组- | EA1: 56组+ | EB1: 56组- | EC1: 57组+ | ED1: 57组- | EE1: 58组+ | EF1: 58组- | EG1: 59组+ | EH1: 59组- | EI1: 60组+ | EJ1: 60组- | EK1: 61组+ | EL1: 61组- | EM1: 62组+ | EN1: 62组- | EO1: 63组+ | EP1: 63组- | EQ1: 64组+ | ER1: 64组- | ES1: 65组+ | ET1: 65组- | EU1: 66组+ | EV1: 66组- | EW1: 67组+ | EX1: 67组- | EY1: 68组+ | EZ1: 68组- | FA1: 69组+ | FB1: 69组- | FC1: 70组+ | FD1: 70组- | FE1: 71组+ | FF1: 71组- | FG1: 72组+ | FH1: 72组- | FI1: 73组+ | FJ1: 73组- | FK1: 74组+ | FL1: 74组- | FM1: 75组+ | FN1: 75组- | FO1: 76组+ | FP1: 76组- | FQ1: 77组+ | FR1: 77组- | FS1: 78组+ | FT1: 78组- | FU1: 79组+ | FV1: 79组- | FW1: 80组+ | FX1: 80组- | FY1: 81组+ | FZ1: 81组- | GA1: 82组+ | GB1: 82组- | GC1: 83组+ | GD1: 83组- | GE1: 84组+ | GF1: 84组- | GG1: 85组+ | GH1: 85组- | GI1: 86组+ | GJ1: 86组- | GK1: 87组+ | GL1: 87组- | GM1: 88组+ | GN1: 88组- | GO1: 89组+ | GP1: 89组- | GQ1: 90组+ | GR1: 90组- | GS1: 91组+ | GT1: 91组- | GU1: 92组+ | GV1: 92组- | GW1: 93组+ | GX1: 93组- | GY1: 94组+ | GZ1: 94组- | HA1: 95组+ | HB1: 95组- | HC1: 96组+ | HD1: 96组- | HE1: 97组+ | HF1: 97组- | HG1: 98组+ | HH1: 98组- | HI1: 99组+ | HJ1: 99组- | HK1: 100组+ | HL1: 100组-
A2: 1 | B2: KC/1 | C2: MSC/1 | D2: 标准 | E2: 0.5黑 | F2: 5556T | G2: 红4 | H2: 650 | J2: KC/1 | K2: 1 | L2: 1
A3: 2 | B3: KC/2 | C3: MC/A1 | D3: 标准 | E3: 0.5黑 | F3: 5556T | G3: 红4 | H3: 810 | J3: KC/2
A4: 3 | B4: KC/3 | C4: FJXA/13 | D4: 标准 | E4: 0.5黑 | F4: 5556T | G4: 红4 | H4: 1210 | J4: KC/3 | K4: 1 | L4: 0
A5: 4 | B5: KC/4 | C5: MC/A2 | D5: 标准 | E5: 0.5黑 | F5: 5556T | G5: 红4 | H5: 890 | J5: KC/4 | K5: 1 | L5: 1
A6: 5 | B6: KC/5 | C6: BZC/A2 | D6: 标准 | E6: 0.5黑 | F6: 5556T | G6: 红4 | H6: 710 | J6: KC/5 | K6: 1 | L6: 1
A7: 6 | B7: KC/6 | C7: MC1/A2 | D7: 有封星接触器时 | E7: 0.5黑 | F7: 5556T | G7: 红4 | H7: 830 | J7: KC/6 | K7: 1 | L7: 1
A8: 7 | B8: KC/7 | C8: MSC/A1 | D8: 标准 | E8: 0.5黑 | F8: 5556T | G8: 红4 | H8: 640 | J8: KC/7 | K8: 1 | L8: 1
A9: 8 | B9: KC/8 | C9: MSC/A2 | D9: 标准 | E9: 0.5黑 | F9: 5556T | G9: 红4 | H9: 760 | J9: KC/8 | K9: 1 | L9: 1
A10: 9 | B10: KC/9 | C10: MC1/A1 | D10: 有封星接触器时 | E10: 0.5黑 | F10: 5556T | G10: 红4 | H10: 680 | J10: KC/9 | K10: 0 | L10: 5
A11: 10 | B11: KC/12 | C11: FJA/24 | D11: 标准 | E11: 0.5黑 | F11: 5556T | G11: 红4 | H11: 1110 | J11: KC/12 | K11: 1 | L11: 1
A12: 11 | B12: KC/13 | C12: FTK/1 | D12: 非钢带梯/非异步货梯 | E12: 0.5黑 | F12: 5556T | G12: 红4 | H12: 1090 | J12: KC/13
A13: 12 | B13: KC/13 | C13: CE5 | D13: 钢带梯/异步货梯 | E13: 0.5黑 | F13: 5556T | G13: 半剥8 | H13: 无 | I13: 随设计书 | J13: KC/13
A14: 13 | B14: KC/15 | C14: FJK/14 | D14: 标准 | E14: 0.5黑 | F14: 5556T | G14: 红4 | H14: 1000 | J14: KC/15 | K14: 1 | L14: 1
A15: 14 | B15: KC/18 | C15: FJA/13 | D15: 标准 | E15: 0.5黑 | F15: 5556T | G15: 红4 | H15: 1130 | J15: KC/18 | K15: 1 | L15: 1
A16: 15 | B16: KD/1 | C16: FJSA/4 | D16: 标准 | E16: 0.5黑 | F16: 5556T | G16: 红4 | H16: 1130 | J16: KD/1 | K16: 1 | L16: 1
A17: 16 | B17: KD/2 | C17: FJXA/4 | D17: 标准 | E17: 0.5黑 | F17: 5556T | G17: 红4 | H17: 1200 | J17: KD/2 | K17: 1 | L17: 1
A18: 17 | B18: KD/3 | C18: FJK/1 | D18: 非G20时 | E18: 0.5黑 | F18: 5556T | G18: 红4 | H18: 无 | I18: 随设计书 | K18: 3 | L18: 1
A19: 18 | B19: KD/4 | C19: FJK/2 | D19: 标准 | E19: 0.5黑 | F19: 5556T | G19: 红4 | H19: 1070 | J19: KD/4 | K19: 1 | L19: 1
A20: 19 | B20: KD/8 | C20: MC1/54 | D20: 有封星接触器+速度≤2.5M/S | E20: 0.5黑 | F20: 5556T | G20: 红4 | H20: 870 | I20: 随设计书 | J20: KD/8 | K20: 1 | L20: 2
A21: 20 | B21: KD/8 | C21: MC1/62 | D21: 有封星接触器+梯速＞2.5M/S | E21: 0.5黑 | F21: 5556T | G21: 红4 | I21: 随设计书 | K21: 2 | L21: 1
A22: 21 | B22: KD/9 | C22: BZC/62(22) | D22: 标准 | E22: 0.5黑 | F22: 5556T | G22: 红4 | H22: 740 | J22: KD/9 | K22: 0 | L22: 0
A23: 22 | B23: KD/10 | C23: MC/62(22) | D23: 标准 | E23: 0.5黑 | F23: 5556T | G23: 红4 | H23: 900 | J23: KD/10 | K23: 1 | L23: 1
A24: 23 | B24: KD/11 | C24: MSC/62(22) | D24: 标准 | E24: 0.5黑 | F24: 5556T | G24: 红4 | H24: 830 | J24: KD/11 | K24: 1 | L24: 1
A25: 24 | B25: KD/13 | C25: MSC/61(21) | D25: 无接地保护装置时 | E25: 0.5黑 | F25: 5556T | G25: 红4 | H25: 840 | J25: KD/13
A26: 25 | B26: KD/19 | C26: FJK/1 | D26: G20系统时 | E26: 0.5黑 | F26: 5556T | G26: 红4 | H26: 1120 | K26: 1 | L26: 3
A27: 26 | B27: KB/2 | C27: CE6 | D27: 标准（无机房） | E27: 0.5黑 | F27: 5556T | G27: 红4 | H27: 580 | I27: CE6短接 | J27: KB/2 | K27: =COUNTIF(B:C,#REF!) -> 0 | L27: =COUNTIF(B:C,C27) -> 4
A28: 27 | B28: KB/3 | C28: CE6 | D28: 标准（无机房） | E28: 0.5黑 | F28: 5556T | G28: 红4 | H28: 590 | J28: KB/3 | K28: =COUNTIF(B:C,#REF!) -> 0 | L28: =COUNTIF(B:C,C28) -> 4
A29: 28 | B29: KB/10 | C29: MC/53(13) | D29: 标准 | E29: 0.5黑 | F29: 5556T | G29: 红4 | H29: 810 | J29: KB/10 | K29: =COUNTIF(B:C,#REF!) -> 0 | L29: =COUNTIF(B:C,C29) -> 2
A30: 29 | B30: KDP2/1 | C30: BZC/61(21) | D30: 标准 | E30: 0.5黑 | F30: 5556T | G30: 红4 | H30: 880 | J30: KDP2/1 | K30: 1 | L30: 2
A31: 30 | B31: KP/5 | C31: LBQ1/负载1 | D31: 标准 | E31: 0.75黑 | F31: 5556T | G31: 红全封 | H31: 690 | J31: KP/5 | K31: 1 | L31: 1 | P31: S | R31: 10 | S31: 10 | T31: CX
A32: 31 | B32: KP/7 | C32: LBQ1/负载2 | D32: 标准 | E32: 0.75黑 | F32: 5556T | G32: 红全封 | H32: 690 | J32: KP/7 | K32: 1 | L32: 1 | P32: S | R32: 10 | S32: 10 | T32: CX
A33: 32 | B33: KP/9 | C33: LBQ1/线路1 | D33: 标准 | E33: 0.75黑 | F33: 5556T | G33: 红全封 | H33: 560 | J33: KP/9 | K33: 1 | L33: 1 | P33: S | R33: 10 | S33: 10 | T33: CX
A34: 33 | B34: KP/10 | C34: LBQ1/线路2 | D34: 标准 | E34: 0.75黑 | F34: 5556T | G34: 红全封 | H34: 580 | J34: KP/10 | K34: 1 | L34: 1 | P34: S | R34: 10 | S34: 10 | T34: CX
A35: 34 | B35: KP/12 | C35: DYK/14 | D35: 无机房 | E35: 0.75黑 | F35: 5556T | G35: 红4 | H35: 1100 | J35: KP/12
A36: 35 | B36: KP/14 | C36: DYK/24 | D36: 无机房 | E36: 0.75黑 | F36: 5556T | G36: 红4 | H36: 1120 | J36: KP/14
A37: 36 | B37: KZ/1 | C37: 对讲机/+ | D37: 标准 | E37: 0.5黑 | F37: 5556T | G37: 红4 | H37: 1120 | J37: KZ/1 | K37: 0 | L37: 2
A38: 37 | B38: KZ/3 | C38: 对讲机/- | D38: 标准 | E38: 0.5黑 | F38: 5556T | G38: 红4 | H38: 1120 | J38: KZ/3 | K38: 0 | L38: 2
A39: 38 | B39: KZ/4 | C39: 对讲机/R | D39: 标准 | E39: 0.5黑 | F39: 5556T | G39: 红4(遥/371:蓝4) | H39: 1120 | J39: KZ/4 | K39: 0 | L39: 3
A40: 39 | B40: KZ/5 | C40: 对讲机/L | D40: 标准 | E40: 0.5黑 | F40: 5556T | G40: 红4(遥/372:蓝4) | H40: 1120 | J40: KZ/5 | K40: 0 | L40: 3
...

Sheet 试制
A1: 序号 | B1: 始端 | C1: 末端 | D1: 始端处理 | E1: 末端处理 | F1: 作业 | G1: 线径 | H1: 组装 | I1: G20线长
A2: 1 | B2: =VLOOKUP(A2,数据库!A:H,2,0) -> KC/1 | C2: =VLOOKUP(A2,数据库!A:H,3,0) -> MSC/1 | D2: =VLOOKUP(A2,数据库!A:H,6,0) -> 5556T | E2: =VLOOKUP(A2,数据库!A:H,7,0) -> 红4 | F2: =VLOOKUP(A2,数据库!A:H,4,0) -> 标准 | G2: =VLOOKUP(A2,数据库!A:H,5,0) -> 0.5黑 | H2: =VLOOKUP(A2,数据库!A:J,12,0) -> #REF! | I2: =VLOOKUP(A2,数据库!A:H,8,0) -> 650
A3: 2 | B3: =VLOOKUP(A3,数据库!A:H,2,0) -> KC/2 | C3: =VLOOKUP(A3,数据库!A:H,3,0) -> MC/A1 | D3: =VLOOKUP(A3,数据库!A:H,6,0) -> 5556T | E3: =VLOOKUP(A3,数据库!A:H,7,0) -> 红4 | F3: =VLOOKUP(A3,数据库!A:H,4,0) -> 标准 | G3: =VLOOKUP(A3,数据库!A:H,5,0) -> 0.5黑 | H3: =VLOOKUP(A3,数据库!A:J,12,0) -> #REF! | I3: =VLOOKUP(A3,数据库!A:H,8,0) -> 810
A4: 3 | B4: =VLOOKUP(A4,数据库!A:H,2,0) -> KC/3 | C4: =VLOOKUP(A4,数据库!A:H,3,0) -> FJXA/13 | D4: =VLOOKUP(A4,数据库!A:H,6,0) -> 5556T | E4: =VLOOKUP(A4,数据库!A:H,7,0) -> 红4 | F4: =VLOOKUP(A4,数据库!A:H,4,0) -> 标准 | G4: =VLOOKUP(A4,数据库!A:H,5,0) -> 0.5黑 | H4: =VLOOKUP(A4,数据库!A:J,12,0) -> #REF! | I4: =VLOOKUP(A4,数据库!A:H,8,0) -> 1210
A5: 4 | B5: =VLOOKUP(A5,数据库!A:H,2,0) -> KC/4 | C5: =VLOOKUP(A5,数据库!A:H,3,0) -> MC/A2 | D5: =VLOOKUP(A5,数据库!A:H,6,0) -> 5556T | E5: =VLOOKUP(A5,数据库!A:H,7,0) -> 红4 | F5: =VLOOKUP(A5,数据库!A:H,4,0) -> 标准 | G5: =VLOOKUP(A5,数据库!A:H,5,0) -> 0.5黑 | H5: =VLOOKUP(A5,数据库!A:J,12,0) -> #REF! | I5: =VLOOKUP(A5,数据库!A:H,8,0) -> 890
A6: 5 | B6: =VLOOKUP(A6,数据库!A:H,2,0) -> KC/5 | C6: =VLOOKUP(A6,数据库!A:H,3,0) -> BZC/A2 | D6: =VLOOKUP(A6,数据库!A:H,6,0) -> 5556T | E6: =VLOOKUP(A6,数据库!A:H,7,0) -> 红4 | F6: =VLOOKUP(A6,数据库!A:H,4,0) -> 标准 | G6: =VLOOKUP(A6,数据库!A:H,5,0) -> 0.5黑 | H6: =VLOOKUP(A6,数据库!A:J,12,0) -> #REF! | I6: =VLOOKUP(A6,数据库!A:H,8,0) -> 710
A7: 6 | B7: =VLOOKUP(A7,数据库!A:H,2,0) -> KC/6 | C7: =VLOOKUP(A7,数据库!A:H,3,0) -> MC1/A2 | D7: =VLOOKUP(A7,数据库!A:H,6,0) -> 5556T | E7: =VLOOKUP(A7,数据库!A:H,7,0) -> 红4 | F7: =VLOOKUP(A7,数据库!A:H,4,0) -> 有封星接触器时 | G7: =VLOOKUP(A7,数据库!A:H,5,0) -> 0.5黑 | H7: =VLOOKUP(A7,数据库!A:J,12,0) -> #REF! | I7: =VLOOKUP(A7,数据库!A:H,8,0) -> 830
A8: 7 | B8: =VLOOKUP(A8,数据库!A:H,2,0) -> KC/7 | C8: =VLOOKUP(A8,数据库!A:H,3,0) -> MSC/A1 | D8: =VLOOKUP(A8,数据库!A:H,6,0) -> 5556T | E8: =VLOOKUP(A8,数据库!A:H,7,0) -> 红4 | F8: =VLOOKUP(A8,数据库!A:H,4,0) -> 标准 | G8: =VLOOKUP(A8,数据库!A:H,5,0) -> 0.5黑 | H8: =VLOOKUP(A8,数据库!A:J,12,0) -> #REF! | I8: =VLOOKUP(A8,数据库!A:H,8,0) -> 640
A9: 8 | B9: =VLOOKUP(A9,数据库!A:H,2,0) -> KC/8 | C9: =VLOOKUP(A9,数据库!A:H,3,0) -> MSC/A2 | D9: =VLOOKUP(A9,数据库!A:H,6,0) -> 5556T | E9: =VLOOKUP(A9,数据库!A:H,7,0) -> 红4 | F9: =VLOOKUP(A9,数据库!A:H,4,0) -> 标准 | G9: =VLOOKUP(A9,数据库!A:H,5,0) -> 0.5黑 | H9: =VLOOKUP(A9,数据库!A:J,12,0) -> #REF! | I9: =VLOOKUP(A9,数据库!A:H,8,0) -> 760
A10: 9 | B10: =VLOOKUP(A10,数据库!A:H,2,0) -> KC/9 | C10: =VLOOKUP(A10,数据库!A:H,3,0) -> MC1/A1 | D10: =VLOOKUP(A10,数据库!A:H,6,0) -> 5556T | E10: =VLOOKUP(A10,数据库!A:H,7,0) -> 红4 | F10: =VLOOKUP(A10,数据库!A:H,4,0) -> 有封星接触器时 | G10: =VLOOKUP(A10,数据库!A:H,5,0) -> 0.5黑 | H10: =VLOOKUP(A10,数据库!A:J,12,0) -> #REF! | I10: =VLOOKUP(A10,数据库!A:H,8,0) -> 680
A11: 10 | B11: =VLOOKUP(A11,数据库!A:H,2,0) -> KC/12 | C11: =VLOOKUP(A11,数据库!A:H,3,0) -> FJA/24 | D11: =VLOOKUP(A11,数据库!A:H,6,0) -> 5556T | E11: =VLOOKUP(A11,数据库!A:H,7,0) -> 红4 | F11: =VLOOKUP(A11,数据库!A:H,4,0) -> 标准 | G11: =VLOOKUP(A11,数据库!A:H,5,0) -> 0.5黑 | H11: =VLOOKUP(A11,数据库!A:J,12,0) -> #REF! | I11: =VLOOKUP(A11,数据库!A:H,8,0) -> 1110
A12: 11 | B12: =VLOOKUP(A12,数据库!A:H,2,0) -> KC/13 | C12: =VLOOKUP(A12,数据库!A:H,3,0) -> FTK/1 | D12: =VLOOKUP(A12,数据库!A:H,6,0) -> 5556T | E12: =VLOOKUP(A12,数据库!A:H,7,0) -> 红4 | F12: =VLOOKUP(A12,数据库!A:H,4,0) -> 非钢带梯/非异步货梯 | G12: =VLOOKUP(A12,数据库!A:H,5,0) -> 0.5黑 | H12: =VLOOKUP(A12,数据库!A:J,12,0) -> #REF! | I12: =VLOOKUP(A12,数据库!A:H,8,0) -> 1090
A13: 12 | B13: =VLOOKUP(A13,数据库!A:H,2,0) -> KC/13 | C13: =VLOOKUP(A13,数据库!A:H,3,0) -> CE5 | D13: =VLOOKUP(A13,数据库!A:H,6,0) -> 5556T | E13: =VLOOKUP(A13,数据库!A:H,7,0) -> 半剥8 | F13: =VLOOKUP(A13,数据库!A:H,4,0) -> 钢带梯/异步货梯 | G13: =VLOOKUP(A13,数据库!A:H,5,0) -> 0.5黑 | H13: =VLOOKUP(A13,数据库!A:J,12,0) -> #REF! | I13: =VLOOKUP(A13,数据库!A:H,8,0) -> 无
... A117: 116 | B117: =VLOOKUP(A117,数据库!A:H,2,0) -> JZK/A(2) | C117: =VLOOKUP(A117,数据库!A:H,3,0) -> JZK/A'(3) | D117: =VLOOKUP(A117,数据库!A:H,6,0) -> 104蓝4 | E117: =VLOOKUP(A117,数据库!A:H,7,0) -> 红4 | F117: =VLOOKUP(A117,数据库!A:H,4,0) -> 无机房 | G117: =VLOOKUP(A117,数据库!A:H,5,0) -> 0.75黑 | H117: =VLOOKUP(A117,数据库!A:J,12,0) -> #REF! | I117: =VLOOKUP(A117,数据库!A:H,8,0) -> 260

Sheet G12制作卡 
A1: G12无机房（K1700）控柜V000 | C1: 编号 | D1: 1 | F1: G12无机房（K1700）控柜V000 | H1: 编号 | I1: 2 | K1: G12无机房（K1700）控柜V000 | M1: 编号 | N1: 3
A2: 始端 | B2: =VLOOKUP(D1,数据库!$A$1:$J$64584,2,FALSE) -> KC/1 | C2: 末端 | D2: =VLOOKUP(D1,数据库!$A$1:$J$64584,3,FALSE) -> MSC/1 | F2: 始端 | G2: =VLOOKUP(I1,数据库!$A$1:$J$64584,2,FALSE) -> KC/2 | H2: 末端 | I2: =VLOOKUP(I1,数据库!$A$1:$J$64584,3,FALSE) -> MC/A1 | K2: 始端 | L2: =VLOOKUP(N1,数据库!$A$1:$J$64584,2,FALSE) -> KC/3 | M2: 末端 | N2: =VLOOKUP(N1,数据库!$A$1:$J$64584,3,FALSE) -> FJXA/13
A3: 始端处理 | B3: =VLOOKUP(D1,数据库!$A$1:$J$64584,6,FALSE) -> 5556T | C3: 末端处理 | D3: =VLOOKUP(D1,数据库!$A$1:$J$64584,7,FALSE) -> 红4 | F3: 始端处理 | G3: =VLOOKUP(I1,数据库!$A$1:$J$64584,6,FALSE) -> 5556T | H3: 末端处理 | I3: =VLOOKUP(I1,数据库!$A$1:$J$64584,7,FALSE) -> 红4 | K3: 始端处理 | L3: =VLOOKUP(N1,数据库!$A$1:$J$64584,6,FALSE) -> 5556T | M3: 末端处理 | N3: =VLOOKUP(N1,数据库!$A$1:$J$64584,7,FALSE) -> 红4
A4: 线径 | B4: =VLOOKUP(D1,数据库!$A$1:$J$64584,5,FALSE) -> 0.5黑 | C4: 组装 | D4: =VLOOKUP(D1,数据库!$A$1:$J$64584,11,FALSE) -> #REF! | F4: 线径 | G4: =VLOOKUP(I1,数据库!$A$1:$J$64584,5,FALSE) -> 0.5黑 | H4: 组装 | I4: =VLOOKUP(I1,数据库!$A$1:$J$64584,11,FALSE) -> #REF! | K4: 线径 | L4: =VLOOKUP(N1,数据库!$A$1:$J$64584,5,FALSE) -> 0.5黑 | M4: 组装 | N4: =VLOOKUP(N1,数据库!$A$1:$J$64584,11,FALSE) -> #REF!
A5: 线长 | B5: =VLOOKUP(D1,数据库!$A$1:$J$64584,8,FALSE) -> 650 | C5: 数量 | D5: 20 | F5: 线长 | G5: =VLOOKUP(I1,数据库!$A$1:$J$64584,8,FALSE) -> 810 | H5: 数量 | I5: 20 | K5: 线长 | L5: =VLOOKUP(N1,数据库!$A$1:$J$64584,8,FALSE) -> 1210 | M5: 数量 | N5: 20
A6: 作业 | B6: =VLOOKUP(D1,数据库!$A$1:$J$64584,4,FALSE) -> 标准 | F6: 作业 | G6: =VLOOKUP(I1,数据库!$A$1:$J$64584,4,FALSE) -> 标准 | K6: 作业 | L6: =VLOOKUP(N1,数据库!$A$1:$J$64584,4,FALSE) -> 标准
A8: G12无机房（K1700）控柜V000 | C8: 编号 | D8: =D1+3 -> 4 | F8: G12无机房（K1700）控柜V000 | H8: 编号 | I8: =I1+3 -> 5 | K8: G12无机房（K1700）控柜V000 | M8: 编号 | N8: =N1+3 -> 6
A9: 始端 | B9: =VLOOKUP(D8,数据库!$A$1:$J$64584,2,FALSE) -> KC/4 | C9: 末端 | D9: =VLOOKUP(D8,数据库!$A$1:$J$64584,3,FALSE) -> MC/A2 | F9: 始端 | G9: =VLOOKUP(I8,数据库!$A$1:$J$64584,2,FALSE) -> KC/5 | H9: 末端 | I9: =VLOOKUP(I8,数据库!$A$1:$J$64584,3,FALSE) -> BZC/A2 | K9: 始端 | L9: =VLOOKUP(N8,数据库!$A$1:$J$64584,2,FALSE) -> KC/6 | M9: 末端 | N9: =VLOOKUP(N8,数据库!$A$1:$J$64584,3,FALSE) -> MC1/A2
A10: 始端处理 | B10: =VLOOKUP(D8,数据库!$A$1:$J$64584,6,FALSE) -> 5556T | C10: 末端处理 | D10: =VLOOKUP(D8,数据库!$A$1:$J$64584,7,FALSE) -> 红4 | F10: 始端处理 | G10: =VLOOKUP(I8,数据库!$A$1:$J$64584,6,FALSE) -> 5556T | H10: 末端处理 | I10: =VLOOKUP(I8,数据库!$A$1:$J$64584,7,FALSE) -> 红4 | K10: 始端处理 | L10: =VLOOKUP(N8,数据库!$A$1:$J$64584,6,FALSE) -> 5556T | M10: 末端处理 | N10: =VLOOKUP(N8,数据库!$A$1:$J$64584,7,FALSE) -> 红4
A11: 线径 | B11: =VLOOKUP(D8,数据库!$A$1:$J$64584,5,FALSE) -> 0.5黑 | C11: 组装 | D11: =VLOOKUP(D8,数据库!$A$1:$J$64584,11,FALSE) -> #REF! | F11: 线径 | G11: =VLOOKUP(I8,数据库!$A$1:$J$64584,5,FALSE) -> 0.5黑 | H11: 组装 | I11: =VLOOKUP(I8,数据库!$A$1:$J$64584,11,FALSE) -> #REF! | K11: 线径 | L11: =VLOOKUP(N8,数据库!$A$1:$J$64584,5,FALSE) -> 0.5黑 | M11: 组装 | N11: =VLOOKUP(N8,数据库!$A$1:$J$64584,11,FALSE) -> #REF!
A12: 线长 | B12: =VLOOKUP(D8,数据库!$A$1:$J$64584,8,FALSE) -> 890 | C12: 数量 | D12: 20 | F12: 线长 | G12: =VLOOKUP(I8,数据库!$A$1:$J$64584,8,FALSE) -> 710 | H12: 数量 | I12: 20 | K12: 线长 | L12: =VLOOKUP(N8,数据库!$A$1:$J$64584,8,FALSE) -> 830 | M12: 数量 | N12: 20
A13: 作业 | B13: =VLOOKUP(D8,数据库!$A$1:$J$64584,4,FALSE) -> 标准 | F13: 作业 | G13: =VLOOKUP(I8,数据库!$A$1:$J$64584,4,FALSE) -> 标准 | K13: 作业 | L13: =VLOOKUP(N8,数据库!$A$1:$J$64584,4,FALSE) -> 有封星接触器时
A15: G12无机房（K1700）控柜V000 | C15: 编号 | D15: =D8+3 -> 7 | F15: G12无机房（K1700）控柜V000 | H15: 编号 | I15: =I8+3 -> 8 | K15: G12无机房（K1700）控柜V000 | M15: 编号 | N15: =N8+3 -> 9
A16: 始端 | B16: =VLOOKUP(D15,数据库!$A$1:$J$64584,2,FALSE) -> KC/7 | C16: 末端 | D16: =VLOOKUP(D15,数据库!$A$1:$J$64584,3,FALSE) -> MSC/A1 | F16: 始端 | G16: =VLOOKUP(I15,数据库!$A$1:$J$64584,2,FALSE) -> KC/8 | H16: 末端 | I16: =VLOOKUP(I15,数据库!$A$1:$J$64584,3,FALSE) -> MSC/A2 | K16: 始端 | L16: =VLOOKUP(N15,数据库!$A$1:$J$64584,2,FALSE) -> KC/9 | M16: 末端 | N16: =VLOOKUP(N15,数据库!$A$1:$J$64584,3,FALSE) -> MC1/A1
A17: 始端处理 | B17: =VLOOKUP(D15,数据库!$A$1:$J$64584,6,FALSE) -> 5556T | C17: 末端处理 | D17: =VLOOKUP(D15,数据库!$A$1:$J$64584,7,FALSE) -> 红4 | F17: 始端处理 | G17: =VLOOKUP(I15,数据库!$A$1:$J$64584,6,FALSE) -> 5556T | H17: 末端处理 | I17: =VLOOKUP(I15,数据库!$A$1:$J$64584,7,FALSE) -> 红4 | K17: 始端处理 | L17: =VLOOKUP(N15,数据库!$A$1:$J$64584,6,FALSE) -> 5556T | M17: 末端处理 | N17: =VLOOKUP(N15,数据库!$A$1:$J$64584,7,FALSE) -> 红4
A18: 线径 | B18: =VLOOKUP(D15,数据库!$A$1:$J$64584,5,FALSE) -> 0.5黑 | C18: 组装 | D18: =VLOOKUP(D15,数据库!$A$1:$J$64584,11,FALSE) -> #REF! | F18: 线径 | G18: =VLOOKUP(I15,数据库!$A$1:$J$64584,5,FALSE) -> 0.5黑 | H18: 组装 | I18: =VLOOKUP(I15,数据库!$A$1:$J$64584,11,FALSE) -> #REF! | K18: 线径 | L18: =VLOOKUP(N15,数据库!$A$1:$J$64584,5,FALSE) -> 0.5黑 | M18: 组装 | N18: =VLOOKUP(N15,数据库!$A$1:$J$64584,11,FALSE) -> #REF!
A19: 线长 | B19: =VLOOKUP(D15,数据库!$A$1:$J$64584,8,FALSE) -> 640 | C19: 数量 | D19: 20 | F19: 线长 | G19: =VLOOKUP(I15,数据库!$A$1:$J$64584,8,FALSE) -> 760 | H19: 数量 | I19: 20 | K19: 线长 | L19: =VLOOKUP(N15,数据库!$A$1:$J$64584,8,FALSE) -> 680 | M19: 数量 | N19: 20
A20: 作业 | B20: =VLOOKUP(D15,数据库!$A$1:$J$64584,4,FALSE) -> 标准 | F20: 作业 | G20: =VLOOKUP(I15,数据库!$A$1:$J$64584,4,FALSE) -> 标准 | K20: 作业 | L20: =VLOOKUP(N15,数据库!$A$1:$J$64584,4,FALSE) -> 有封星接触器时
A22: G12无机房（K1700）控柜V000 | C22: 编号 | D22: =D15+3 -> 10 | F22: G12无机房（K1700）控柜V000 | H22: 编号 | I22: =I15+3 -> 11 | K22: G12无机房（K1700）控柜V000 | M22: 编号 | N22: =N15+3 -> 12
A23: 始端 | B23: =VLOOKUP(D22,数据库!$A$1:$J$64584,2,FALSE) -> KC/12 | C23: 末端 | D23: =VLOOKUP(D22,数据库!$A$1:$J$64584,3,FALSE) -> FJA/24 | F23: 始端 | G23: =VLOOKUP(I22,数据库!$A$1:$J$64584,2,FALSE) -> KC/13 | H23: 末端 | I23: =VLOOKUP(I22,数据库!$A$1:$J$64584,3,FALSE) -> FTK/1 | K23: 始端 | L23: =VLOOKUP(N22,数据库!$A$1:$J$64584,2,FALSE) -> KC/13 | M23: 末端 | N23: =VLOOKUP(N22,数据库!$A$1:$J$64584,3,FALSE) -> CE5
A24: 始端处理 | B24: =VLOOKUP(D22,数据库!$A$1:$J$64584,6,FALSE) -> 5556T | C24: 末端处理 | D24: =VLOOKUP(D22,数据库!$A$1:$J$64584,7,FALSE) -> 红4 | F24: 始端处理 | G24: =VLOOKUP(I22,数据库!$A$1:$J$64584,6,FALSE) -> 5556T | H24: 末端处理 | I24: =VLOOKUP(I22,数据库!$A$1:$J$64584,7,FALSE) -> 红4 | K24: 始端处理 | L24: =VLOOKUP(N22,数据库!$A$1:$J$64584,6,FALSE) -> 5556T | M24: 末端处理 | N24: =VLOOKUP(N22,数据库!$A$1:$J$64584,7,FALSE) -> 半剥8
A25: 线径 | B25: =VLOOKUP(D22,数据库!$A$1:$J$64584,5,FALSE) -> 0.5黑 | C25: 组装 | D25: =VLOOKUP(D22,数据库!$A$1:$J$64584,11,FALSE) -> #REF! | F25: 线径 | G25: =VLOOKUP(I22,数据库!$A$1:$J$64584,5,FALSE) -> 0.5黑 | H25: 组装 | I25: =VLOOKUP(I22,数据库!$A$1:$J$64584,11,FALSE) -> #REF! | K25: 线径 | L25: =VLOOKUP(N22,数据库!$A$1:$J$64584,5,FALSE) -> 0.5黑 | M25: 组装 | N25: =VLOOKUP(N22,数据库!$A$1:$J$64584,11,FALSE) -> #REF!
A26: 线长 | B26: =VLOOKUP(D22,数据库!$A$1:$J$64584,8,FALSE) -> 1110 | C26: 数量 | D26: 20 | F26: 线长 | G26: =VLOOKUP(I22,数据库!$A$1:$J$64584,8,FALSE) -> 1090 | H26: 数量 | I26: 20 | K26: 线长 | L26: =VLOOKUP(N22,数据库!$A$1:$J$64584,8,FALSE) -> 无 | M26: 数量 | N26: 20
A27: 作业 | B27: =VLOOKUP(D22,数据库!$A$1:$J$64584,4,FALSE) -> 标准 | F27: 作业 | G27: =VLOOKUP(I22,数据库!$A$1:$J$64584,4,FALSE) -> 非钢带梯/非异步货梯 | K27: 作业 | L27: =VLOOKUP(N22,数据库!$A$1:$J$64584,4,FALSE) -> 钢带梯/异步货梯
A29: G12无机房（K1700）控柜V000 | C29: 编号 | D29: =D22+3 -> 13 | F29: G12无机房（K1700）控柜V000 | H29: 编号 | I29: =I22+3 -> 14 | K29: G12无机房（K1700）控柜V000 | M29: 编号 | N29: =N22+3 -> 15
A30: 始端 | B30: =VLOOKUP(D29,数据库!$A$1:$J$64584,2,FALSE) -> KC/15 | C30: 末端 | D30: =VLOOKUP(D29,数据库!$A$1:$J$64584,3,FALSE) -> FJK/14 | F30: 始端 | G30: =VLOOKUP(I29,数据库!$A$1:$J$64584,2,FALSE) -> KC/18 | H30: 末端 | I30: =VLOOKUP(I29,数据库!$A$1:$J$64584,3,FALSE) -> FJA/13 | K30: 始端 | L30: =VLOOKUP(N29,数据库!$A$1:$J$64584,2,FALSE) -> KD/1 | M30: 末端 | N30: =VLOOKUP(N29,数据库!$A$1:$J$64584,3,FALSE) -> FJSA/4
A31: 始端处理 | B31: =VLOOKUP(D29,数据库!$A$1:$J$64584,6,FALSE) -> 5556T | C31: 末端处理 | D31: =VLOOKUP(D29,数据库!$A$1:$J$64584,7,FALSE) -> 红4 | F31: 始端处理 | G31: =VLOOKUP(I29,数据库!$A$1:$J$64584,6,FALSE) -> 5556T | H31: 末端处理 | I31: =VLOOKUP(I29,数据库!$A$1:$J$64584,7,FALSE) -> 红4 | K31: 始端处理 | L31: =VLOOKUP(N29,数据库!$A$1:$J$64584,6,FALSE) -> 5556T | M31: 末端处理 | N31: =VLOOKUP(N29,数据库!$A$1:$J$64584,7,FALSE) -> 红4
A32: 线径 | B32: =VLOOKUP(D29,数据库!$A$1:$J$64584,5,FALSE) -> 0.5黑 | C32: 组装 | D32: =VLOOKUP(D29,数据库!$A$1:$J$64584,11,FALSE) -> #REF! | F32: 线径 | G32: =VLOOKUP(I29,数据库!$A$1:$J$64584,5,FALSE) -> 0.5黑 | H32: 组装 | I32: =VLOOKUP(I29,数据库!$A$1:$J$64584,11,FALSE) -> #REF! | K32: 线径 | L32: =VLOOKUP(N29,数据库!$A$1:$J$64584,5,FALSE) -> 0.5黑 | M32: 组装 | N32: =VLOOKUP(N29,数据库!$A$1:$J$64584,11,FALSE) -> #REF!
A33: 线长 | B33: =VLOOKUP(D29,数据库!$A$1:$J$64584,8,FALSE) -> 1000 | C33: 数量 | D33: 20 | F33: 线长 | G33: =VLOOKUP(I29,数据库!$A$1:$J$64584,8,FALSE) -> 1130 | H33: 数量 | I33: 20 | K33: 线长 | L33: =VLOOKUP(N29,数据库!$A$1:$J$64584,8,FALSE) -> 1130 | M33: 数量 | N33: 20
A34: 作业 | B34: =VLOOKUP(D29,数据库!$A$1:$J$64584,4,FALSE) -> 标准 | F34: 作业 | G34: =VLOOKUP(I29,数据库!$A$1:$J$64584,4,FALSE) -> 标准 | K34: 作业 | L34: =VLOOKUP(N29,数据库!$A$1:$J$64584,4,FALSE) -> 标准
A36: G12无机房（K1700）控柜V000 | C36: 编号 | D36: =D29+3 -> 16 | F36: G12无机房（K1700）控柜V000 | H36: 编号 | I36: =I29+3 -> 17 | K36: G12无机房（K1700）控柜V000 | M36: 编号 | N36: =N29+3 -> 18
A37: 始端 | B37: =VLOOKUP(D36,数据库!$A$1:$J$64584,2,FALSE) -> KD/2 | C37: 末端 | D37: =VLOOKUP(D36,数据库!$A$1:$J$64584,3,FALSE) -> FJXA/4 | F37: 始端 | G37: =VLOOKUP(I36,数据库!$A$1:$J$64584,2,FALSE) -> KD/3 | H37: 末端 | I37: =VLOOKUP(I36,数据库!$A$1:$J$64584,3,FALSE) -> FJK/1 | K37: 始端 | L37: =VLOOKUP(N36,数据库!$A$1:$J$64584,2,FALSE) -> KD/4 | M37: 末端 | N37: =VLOOKUP(N36,数据库!$A$1:$J$64584,3,FALSE) -> FJK/2
A38: 始端处理 | B38: =VLOOKUP(D36,数据库!$A$1:$J$64584,6,FALSE) -> 5556T | C38: 末端处理 | D38: =VLOOKUP(D36,数据库!$A$1:$J$64584,7,FALSE) -> 红4 | F38: 始端处理 | G38: =VLOOKUP(I36,数据库!$A$1:$J$64584,6,FALSE) -> 5556T | H38: 末端处理 | I38: =VLOOKUP(I36,数据库!$A$1:$J$64584,7,FALSE) -> 红4 | K38: 始端处理 | L38: =VLOOKUP(N36,数据库!$A$1:$J$64584,6,FALSE) -> 5556T | M38: 末端处理 | N38: =VLOOKUP(N36,数据库!$A$1:$J$64584,7,FALSE) -> 红4
A39: 线径 | B39: =VLOOKUP(D36,数据库!$A$1:$J$64584,5,FALSE) -> 0.5黑 | C39: 组装 | D39: =VLOOKUP(D36,数据库!$A$1:$J$64584,11,FALSE) -> #REF! | F39: 线径 | G39: =VLOOKUP(I36,数据库!$A$1:$J$64584,5,FALSE) -> 0.5黑 | H39: 组装 | I39: =VLOOKUP(I36,数据库!$A$1:$J$64584,11,FALSE) -> #REF! | K39: 线径 | L39: =VLOOKUP(N36,数据库!$A$1:$J$64584,5,FALSE) -> 0.5黑 | M39: 组装 | N39: =VLOOKUP(N36,数据库!$A$1:$J$64584,11,FALSE) -> #REF!
A40: 线长 | B40: =VLOOKUP(D36,数据库!$A$1:$J$64584,8,FALSE) -> 1200 | C40: 数量 | D40: 20 | F40: 线长 | G40: =VLOOKUP(I36,数据库!$A$1:$J$64584,8,FALSE) -> 无 | H40: 数量 | I40: 20 | K40: 线长 | L40: =VLOOKUP(N36,数据库!$A$1:$J$64584,8,FALSE) -> 1070 | M40: 数量 | N40: 20
A41: 作业 | B41: =VLOOKUP(D36,数据库!$A$1:$J$64584,4,FALSE) -> 标准 | F41: 作业 | G41: =VLOOKUP(I36,数据库!$A$1:$J$64584,4,FALSE) -> 非G20时 | K41: 作业 | L41: =VLOOKUP(N36,数据库!$A$1:$J$64584,4,FALSE) -> 标准
A43: G12无机房（K1700）控柜V000 | C43: 编号 | D43: =D36+3 -> 19 | F43: G12无机房（K1700）控柜V000 | H43: 编号 | I43: =I36+3 -> 20 | K43: G12无机房（K1700）控柜V000 | M43: 编号 | N43: =N36+3 -> 21
A44: 始端 | B44: =VLOOKUP(D43,数据库!$A$1:$J$64584,2,FALSE) -> KD/8 | C44: 末端 | D44: =VLOOKUP(D43,数据库!$A$1:$J$64584,3,FALSE) -> MC1/54 | F44: 始端 | G44: =VLOOKUP(I43,数据库!$A$1:$J$64584,2,FALSE) -> KD/8 | H44: 末端 | I44: =VLOOKUP(I43,数据库!$A$1:$J$64584,3,FALSE) -> MC1/62 | K44: 始端 | L44: =VLOOKUP(N43,数据库!$A$1:$J$64584,2,FALSE) -> KD/9 | M44: 末端 | N44: =VLOOKUP(N43,数据库!$A$1:$J$64584,3,FALSE) -> BZC/62(22)
A45: 始端处理 | B45: =VLOOKUP(D43,数据库!$A$1:$J$64584,6,FALSE) -> 5556T | C45: 末端处理 | D45: =VLOOKUP(D43,数据库!$A$1:$J$64584,7,FALSE) -> 红4 | F45: 始端处理 | G45: =VLOOKUP(I43,数据库!$A$1:$J$64584,6,FALSE) -> 5556T | H45: 末端处理 | I45: =VLOOKUP(I43,数据库!$A$1:$J$64584,7,FALSE) -> 红4 | K45: 始端处理 | L45: =VLOOKUP(N43,数据库!$A$1:$J$64584,6,FALSE) -> 5556T | M45: 末端处理 | N45: =VLOOKUP(N43,数据库!$A$1:$J$64584,7,FALSE) -> 红4
A46: 线径 | B46: =VLOOKUP(D43,数据库!$A$1:$J$64584,5,FALSE) -> 0.5黑 | C46: 组装 | D46: =VLOOKUP(D43,数据库!$A$1:$J$64584,11,FALSE) -> #REF! | F46: 线径 | G46: =VLOOKUP(I43,数据库!$A$1:$J$64584,5,FALSE) -> 0.5黑 | H46: 组装 | I46: =VLOOKUP(I43,数据库!$A$1:$J$64584,11,FALSE) -> #REF! | K46: 线径 | L46: =VLOOKUP(N43,数据库!$A$1:$J$64584,5,FALSE) -> 0.5黑 | M46: 组装 | N46: =VLOOKUP(N43,数据库!$A$1:$J$64584,11,FALSE) -> #REF!
...

Sheet 三贯G12C小功率制作卡
A1: 三贯货梯有机房（K1570）V0010 | C1: 编号 | D1: 1 | F1: 三贯货梯有机房（K1570）V0010 | H1: 编号 | I1: 2 | K1: 三贯货梯有机房（K1570）V0010 | M1: 编号 | N1: 3
A2: 始端 | B2: =VLOOKUP(D1,数据库!$A$1:$J$64584,2,FALSE) -> KC/1 | C2: 末端 | D2: =VLOOKUP(D1,数据库!$A$1:$J$64584,3,FALSE) -> MSC/1 | F2: 始端 | G2: =VLOOKUP(I1,数据库!$A$1:$J$64584,2,FALSE) -> KC/2 | H2: 末端 | I2: =VLOOKUP(I1,数据库!$A$1:$J$64584,3,FALSE) -> MC/A1 | K2: 始端 | L2: =VLOOKUP(N1,数据库!$A$1:$J$64584,2,FALSE) -> KC/3 | M2: 末端 | N2: =VLOOKUP(N1,数据库!$A$1:$J$64584,3,FALSE) -> FJXA/13
A3: 始端处理 | B3: =VLOOKUP(D1,数据库!$A$1:$J$64584,6,FALSE) -> 5556T | C3: 末端处理 | D3: =VLOOKUP(D1,数据库!$A$1:$J$64584,7,FALSE) -> 红4 | F3: 始端处理 | G3: =VLOOKUP(I1,数据库!$A$1:$J$64584,6,FALSE) -> 5556T | H3: 末端处理 | I3: =VLOOKUP(I1,数据库!$A$1:$J$64584,7,FALSE) -> 红4 | K3: 始端处理 | L3: =VLOOKUP(N1,数据库!$A$1:$J$64584,6,FALSE) -> 5556T | M3: 末端处理 | N3: =VLOOKUP(N1,数据库!$A$1:$J$64584,7,FALSE) -> 红4
A4: 线径 | B4: =VLOOKUP(D1,数据库!$A$1:$J$64584,5,FALSE) -> 0.5黑 | C4: 组装 | D4: =VLOOKUP(D1,数据库!A:J,11,FALSE) -> #REF! | F4: 线径 | G4: =VLOOKUP(I1,数据库!$A$1:$J$64584,5,FALSE) -> 0.5黑 | H4: 组装 | I4: =VLOOKUP(I1,数据库!A:J,11,FALSE) -> #REF! | K4: 线径 | L4: =VLOOKUP(N1,数据库!$A$1:$J$64584,5,FALSE) -> 0.5黑 | M4: 组装 | N4: =VLOOKUP(N1,数据库!A:J,11,FALSE) -> #REF!
A5: 线长 | B5: =VLOOKUP(D1,数据库!$A$1:$J$64584,9,FALSE) -> 0 | C5: 数量 | D5: 20 | F5: 线长 | G5: =VLOOKUP(I1,数据库!$A$1:$J$64584,9,FALSE) -> 0 | H5: 数量 | I5: 20 | K5: 线长 | L5: =VLOOKUP(N1,数据库!$A$1:$J$64584,9,FALSE) -> 0 | M5: 数量 | N5: 20
A6: 作业 | B6: =VLOOKUP(D1,数据库!$A$1:$J$64584,4,FALSE) -> 标准 | F6: 作业 | G6: =VLOOKUP(I1,数据库!$A$1:$J$64584,4,FALSE) -> 标准 | K6: 作业 | L6: =VLOOKUP(N1,数据库!$A$1:$J$64584,4,FALSE) -> 标准
A8: 三贯货梯有机房（K1570）V0010 | C8: 编号 | D8: =D1+3 -> 4 | F8: 三贯货梯有机房（K1570）V0010 | H8: 编号 | I8: =I1+3 -> 5 | K8: 三贯货梯有机房（K1570）V0010 | M8: 编号 | N8: =N1+3 -> 6
A9: 始端 | B9: =VLOOKUP(D8,数据库!$A$1:$J$64584,2,FALSE) -> KC/4 | C9: 末端 | D9: =VLOOKUP(D8,数据库!$A$1:$J$64584,3,FALSE) -> MC/A2 | F9: 始端 | G9: =VLOOKUP(I8,数据库!$A$1:$J$64584,2,FALSE) -> KC/5 | H9: 末端 | I9: =VLOOKUP(I8,数据库!$A$1:$J$64584,3,FALSE) -> BZC/A2 | K9: 始端 | L9: =VLOOKUP(N8,数据库!$A$1:$J$64584,2,FALSE) -> KC/6 | M9: 末端 | N9: =VLOOKUP(N8,数据库!$A$1:$J$64584,3,FALSE) -> MC1/A2
A10: 始端处理 | B10: =VLOOKUP(D8,数据库!$A$1:$J$64584,6,FALSE) -> 5556T | C10: 末端处理 | D10: =VLOOKUP(D8,数据库!$A$1:$J$64584,7,FALSE) -> 红4 | F10: 始端处理 | G10: =VLOOKUP(I8,数据库!$A$1:$J$64584,6,FALSE) -> 5556T | H10: 末端处理 | I10: =VLOOKUP(I8,数据库!$A$1:$J$64584,7,FALSE) -> 红4 | K10: 始端处理 | L10: =VLOOKUP(N8,数据库!$A$1:$J$64584,6,FALSE) -> 5556T | M10: 末端处理 | N10: =VLOOKUP(N8,数据库!$A$1:$J$64584,7,FALSE) -> 红4
A11: 线径 | B11: =VLOOKUP(D8,数据库!$A$1:$J$64584,5,FALSE) -> 0.5黑 | C11: 组装 | D11: =VLOOKUP(D8,数据库!A:J,11,FALSE) -> #REF! | F11: 线径 | G11: =VLOOKUP(I8,数据库!$A$1:$J$64584,5,FALSE) -> 0.5黑 | H11: 组装 | I11: =VLOOKUP(I8,数据库!$A$1:$J$64584,11,FALSE) -> #REF! | K11: 线径 | L11: =VLOOKUP(N8,数据库!$A$1:$J$64584,5,FALSE) -> 0.5黑 | M11: 组装 | N11: =VLOOKUP(N8,数据库!$A$1:$J$64584,11,FALSE) -> #REF!
A12: 线长 | B12: =VLOOKUP(D8,数据库!$A$1:$J$64584,9,FALSE) -> 0 | C12: 数量 | D12: 20 | F12: 线长 | G12: =VLOOKUP(I8,数据库!$A$1:$J$64584,9,FALSE) -> 0 | H12: 数量 | I12: 20 | K12: 线长 | L12: =VLOOKUP(N8,数据库!$A$1:$J$64584,9,FALSE) -> 0 | M12: 数量 | N12: 20
A13: 作业 | B13: =VLOOKUP(D8,数据库!$A$1:$J$64584,4,FALSE) -> 标准 | F13: 作业 | G13: =VLOOKUP(I8,数据库!$A$1:$J$64584,4,FALSE) -> 标准 | K13: 作业 | L13: =VLOOKUP(N8,数据库!$A$1:$J$64584,4,FALSE) -> 有封星接触器时
A15: 三贯货梯有机房（K1570）V0010 | C15: 编号 | D15: =D8+3 -> 7 | F15: 三贯货梯有机房（K1570）V0010 | H15: 编号 | I15: =I8+3 -> 8 | K15: 三贯货梯有机房（K1570）V0010 | M15: 编号 | N15: =N8+3 -> 9
A16: 始端 | B16: =VLOOKUP(D15,数据库!$A$1:$J$64584,2,FALSE) -> KC/7 | C16: 末端 | D16: =VLOOKUP(D15,数据库!$A$1:$J$64584,3,FALSE) -> MSC/A1 | F16: 始端 | G16: =VLOOKUP(I15,数据库!$A$1:$J$64584,2,FALSE) -> KC/8 | H16: 末端 | I16: =VLOOKUP(I15,数据库!$A$1:$J$64584,3,FALSE) -> MSC/A2 | K16: 始端 | L16: =VLOOKUP(N15,数据库!$A$1:$J$64584,2,FALSE) -> KC/9 | M16: 末端 | N16: =VLOOKUP(N15,数据库!$A$1:$J$64584,3,FALSE) -> MC1/A1
A17: 始端处理 | B17: =VLOOKUP(D15,数据库!$A$1:$J$64584,6,FALSE) -> 5556T | C17: 末端处理 | D17: =VLOOKUP(D15,数据库!$A$1:$J$64584,7,FALSE) -> 红4 | F17: 始端处理 | G17: =VLOOKUP(I15,数据库!$A$1:$J$64584,6,FALSE) -> 5556T | H17: 末端处理 | I17: =VLOOKUP(I15,数据库!$A$1:$J$64584,7,FALSE) -> 红4 | K17: 始端处理 | L17: =VLOOKUP(N15,数据库!$A$1:$J$64584,6,FALSE) -> 5556T | M17: 末端处理 | N17: =VLOOKUP(N15,数据库!$A$1:$J$64584,7,FALSE) -> 红4
A18: 线径 | B18: =VLOOKUP(D15,数据库!$A$1:$J$64584,5,FALSE) -> 0.5黑 | C18: 组装 | D18: =VLOOKUP(D15,数据库!A:J,11,FALSE) -> #REF! | F18: 线径 | G18: =VLOOKUP(I15,数据库!$A$1:$J$64584,5,FALSE) -> 0.5黑 | H18: 组装 | I18: =VLOOKUP(I15,数据库!$A$1:$J$64584,11,FALSE) -> #REF! | K18: 线径 | L18: =VLOOKUP(N15,数据库!$A$1:$J$64584,5,FALSE) -> 0.5黑 | M18: 组装 | N18: =VLOOKUP(N15,数据库!$A$1:$J$64584,11,FALSE) -> #REF!
A19: 线长 | B19: =VLOOKUP(D15,数据库!$A$1:$J$64584,9,FALSE) -> 0 | C19: 数量 | D19: 20 | F19: 线长 | G19: =VLOOKUP(I15,数据库!$A$1:$J$64584,9,FALSE) -> 0 | H19: 数量 | I19: 20 | K19: 线长 | L19: =VLOOKUP(N15,数据库!$A$1:$J$64584,9,FALSE) -> 0 | M19: 数量 | N19: 20
A20: 作业 | B20: =VLOOKUP(D15,数据库!$A$1:$J$64584,4,FALSE) -> 标准 | F20: 作业 | G20: =VLOOKUP(I15,数据库!$A$1:$J$64584,4,FALSE) -> 标准 | K20: 作业 | L20: =VLOOKUP(N15,数据库!$A$1:$J$64584,4,FALSE) -> 有封星接触器时
A22: 三贯货梯有机房（K1570）V0010 | C22: 编号 | D22: =D15+3 -> 10 | F22: 三贯货梯有机房（K1570）V0010 | H22: 编号 | I22: =I15+3 -> 11 | K22: 三贯货梯有机房（K1570）V0010 | M22: 编号 | N22: =N15+3 -> 12
A23: 始端 | B23: =VLOOKUP(D22,数据库!$A$1:$J$64584,2,FALSE) -> KC/12 | C23: 末端 | D23: =VLOOKUP(D22,数据库!$A$1:$J$64584,3,FALSE) -> FJA/24 | F23: 始端 | G23: =VLOOKUP(I22,数据库!$A$1:$J$64584,2,FALSE) -> KC/13 | H23: 末端 | I23: =VLOOKUP(I22,数据库!$A$1:$J$64584,3,FALSE) -> FTK/1 | K23: 始端 | L23: =VLOOKUP(N22,数据库!$A$1:$J$64584,2,FALSE) -> KC/13 | M23: 末端 | N23: =VLOOKUP(N22,数据库!$A$1:$J$64584,3,FALSE) -> CE5
A24: 始端处理 | B24: =VLOOKUP(D22,数据库!$A$1:$J$64584,6,FALSE) -> 5556T | C24: 末端处理 | D24: =VLOOKUP(D22,数据库!$A$1:$J$64584,7,FALSE) -> 红4 | F24: 始端处理 | G24: =VLOOKUP(I22,数据库!$A$1:$J$64584,6,FALSE) -> 5556T | H24: 末端处理 | I24: =VLOOKUP(I22,数据库!$A$1:$J$64584,7,FALSE) -> 红4 | K24: 始端处理 | L24: =VLOOKUP(N22,数据库!$A$1:$J$64584,6,FALSE) -> 5556T | M24: 末端处理 | N24: =VLOOKUP(N22,数据库!$A$1:$J$64584,7,FALSE) -> 半剥8
A25: 线径 | B25: =VLOOKUP(D22,数据库!$A$1:$J$64584,5,FALSE) -> 0.5黑 | C25: 组装 | D25: =VLOOKUP(D22,数据库!A:J,11,FALSE) -> #REF! | F25: 线径 | G25: =VLOOKUP(I22,数据库!$A$1:$J$64584,5,FALSE) -> 0.5黑 | H25: 组装 | I25: =VLOOKUP(I22,数据库!$A$1:$J$64584,11,FALSE) -> #REF! | K25: 线径 | L25: =VLOOKUP(N22,数据库!$A$1:$J$64584,5,FALSE) -> 0.5黑 | M25: 组装 | N25: =VLOOKUP(N22,数据库!$A$1:$J$64584,11,FALSE) -> #REF!
A26: 线长 | B26: =VLOOKUP(D22,数据库!$A$1:$J$64584,9,FALSE) -> 0 | C26: 数量 | D26: 20 | F26: 线长 | G26: =VLOOKUP(I22,数据库!$A$1:$J$64584,9,FALSE) -> 0 | H26: 数量 | I26: 20 | K26: 线长 | L26: =VLOOKUP(N22,数据库!$A$1:$J$64584,9,FALSE) -> 随设计书 | M26: 数量 | N26: 20
A27: 作业 | B27: =VLOOKUP(D22,数据库!$A$1:$J$64584,4,FALSE) -> 标准 | F27: 作业 | G27: =VLOOKUP(I22,数据库!$A$1:$J$64584,4,FALSE) -> 非钢带梯/非异步货梯 | K27: 作业 | L27: =VLOOKUP(N22,数据库!$A$1:$J$64584,4,FALSE) -> 钢带梯/异步货梯
A29: 三贯货梯有机房（K1570）V0010 | C29: 编号 | D29: =D22+3 -> 13 | F29: 三贯货梯有机房（K1570）V0010 | H29: 编号 | I29: =I22+3 -> 14 | K29: 三贯货梯有机房（K1570）V0010 | M29: 编号 | N29: =N22+3 -> 15
A30: 始端 | B30: =VLOOKUP(D29,数据库!$A$1:$J$64584,2,FALSE) -> KC/15 | C30: 末端 | D30: =VLOOKUP(D29,数据库!$A$1:$J$64584,3,FALSE) -> FJK/14 | F30: 始端 | G30: =VLOOKUP(I29,数据库!$A$1:$J$64584,2,FALSE) -> KC/18 | H30: 末端 | I30: =VLOOKUP(I29,数据库!$A$1:$J$64584,3,FALSE) -> FJA/13 | K30: 始端 | L30: =VLOOKUP(N29,数据库!$A$1:$J$64584,2,FALSE) -> KD/1 | M30: 末端 | N30: =VLOOKUP(N29,数据库!$A$1:$J$64584,3,FALSE) -> FJSA/4
A31: 始端处理 | B31: =VLOOKUP(D29,数据库!$A$1:$J$64584,6,FALSE) -> 5556T | C31: 末端处理 | D31: =VLOOKUP(D29,数据库!$A$1:$J$64584,7,FALSE) -> 红4 | F31: 始端处理 | G31: =VLOOKUP(I29,数据库!$A$1:$J$64584,6,FALSE) -> 5556T | H31: 末端处理 | I31: =VLOOKUP(I29,数据库!$A$1:$J$64584,7,FALSE) -> 红4 | K31: 始端处理 | L31: =VLOOKUP(N29,数据库!$A$1:$J$64584,6,FALSE) -> 5556T | M31: 末端处理 | N31: =VLOOKUP(N29,数据库!$A$1:$J$64584,7,FALSE) -> 红4
A32: 线径 | B32: =VLOOKUP(D29,数据库!$A$1:$J$64584,5,FALSE) -> 0.5黑 | C32: 组装 | D32: =VLOOKUP(D29,数据库!A:J,11,FALSE) -> #REF! | F32: 线径 | G32: =VLOOKUP(I29,数据库!$A$1:$J$64584,5,FALSE) -> 0.5黑 | H32: 组装 | I32: =VLOOKUP(I29,数据库!$A$1:$J$64584,11,FALSE) -> #REF! | K32: 线径 | L32: =VLOOKUP(N29,数据库!$A$1:$J$64584,5,FALSE) -> 0.5黑 | M32: 组装 | N32: =VLOOKUP(N29,数据库!$A$1:$J$64584,11,FALSE) -> #REF!
A33: 线长 | B33: =VLOOKUP(D29,数据库!$A$1:$J$64584,9,FALSE) -> 0 | C33: 数量 | D33: 20 | F33: 线长 | G33: =VLOOKUP(I29,数据库!$A$1:$J$64584,9,FALSE) -> 0 | H33: 数量 | I33: 20 | K33: 线长 | L33: =VLOOKUP(N29,数据库!$A$1:$J$64584,9,FALSE) -> 0 | M33: 数量 | N33: 20
A34: 作业 | B34: =VLOOKUP(D29,数据库!$A$1:$J$64584,4,FALSE) -> 标准 | F34: 作业 | G34: =VLOOKUP(I29,数据库!$A$1:$J$64584,4,FALSE) -> 标准 | K34: 作业 | L34: =VLOOKUP(N29,数据库!$A$1:$J$64584,4,FALSE) -> 标准
A36: 三贯货梯有机房（K1570）V0010 | C36: 编号 | D36: =D29+3 -> 16 | F36: 三贯货梯有机房（K1570）V0010 | H36: 编号 | I36: =I29+3 -> 17 | K36: 三贯货梯有机房（K1570）V0010 | M36: 编号 | N36: =N29+3 -> 18
A37: 始端 | B37: =VLOOKUP(D36,数据库!$A$1:$J$64584,2,FALSE) -> KD/2 | C37: 末端 | D37: =VLOOKUP(D36,数据库!$A$1:$J$64584,3,FALSE) -> FJXA/4 | F37: 始端 | G37: =VLOOKUP(I36,数据库!$A$1:$J$64584,2,FALSE) -> KD/3 | H37: 末端 | I37: =VLOOKUP(I36,数据库!$A$1:$J$64584,3,FALSE) -> FJK/1 | K37: 始端 | L37: =VLOOKUP(N36,数据库!$A$1:$J$64584,2,FALSE) -> KD/4 | M37: 末端 | N37: =VLOOKUP(N36,数据库!$A$1:$J$64584,3,FALSE) -> FJK/2
A38: 始端处理 | B38: =VLOOKUP(D36,数据库!$A$1:$J$64584,6,FALSE) -> 5556T | C38: 末端处理 | D38: =VLOOKUP(D36,数据库!$A$1:$J$64584,7,FALSE) -> 红4 | F38: 始端处理 | G38: =VLOOKUP(I36,数据库!$A$1:$J$64584,6,FALSE) -> 5556T | H38: 末端处理 | I38: =VLOOKUP(I36,数据库!$A$1:$J$64584,7,FALSE) -> 红4 | K38: 始端处理 | L38: =VLOOKUP(N36,数据库!$A$1:$J$64584,6,FALSE) -> 5556T | M38: 末端处理 | N38: =VLOOKUP(N36,数据库!$A$1:$J$64584,7,FALSE) -> 红4
A39: 线径 | B39: =VLOOKUP(D36,数据库!$A$1:$J$64584,5,FALSE) -> 0.5黑 | C39: 组装 | D39: =VLOOKUP(D36,数据库!A:J,11,FALSE) -> #REF! | F39: 线径 | G39: =VLOOKUP(I36,数据库!$A$1:$J$64584,5,FALSE) -> 0.5黑 | H39: 组装 | I39: =VLOOKUP(I36,数据库!$A$1:$J$64584,11,FALSE) -> #REF! | K39: 线径 | L39: =VLOOKUP(N36,数据库!$A$1:$J$64584,5,FALSE) -> 0.5黑 | M39: 组装 | N39: =VLOOKUP(N36,数据库!$A$1:$J$64584,11,FALSE) -> #REF!
A40: 线长 | B40: =VLOOKUP(D36,数据库!$A$1:$J$64584,9,FALSE) -> 0 | C40: 数量 | D40: 20 | F40: 线长 | G40: =VLOOKUP(I36,数据库!$A$1:$J$64584,9,FALSE) -> 随设计书 | H40: 数量 | I40: 20 | K40: 线长 | L40: =VLOOKUP(N36,数据库!$A$1:$J$64584,9,FALSE) -> 0 | M40: 数量 | N40: 20
A41: 作业 | B41: =VLOOKUP(D36,数据库!$A$1:$J$64584,4,FALSE) -> 标准 | F41: 作业 | G41: =VLOOKUP(I36,数据库!$A$1:$J$64584,4,FALSE) -> 非G20时 | K41: 作业 | L41: =VLOOKUP(N36,数据库!$A$1:$J$64584,4,FALSE) -> 标准
A43: 三贯货梯有机房（K1570）V0010 | C43: 编号 | D43: =D36+3 -> 19 | F43: 三贯货梯有机房（K1570）V0010 | H43: 编号 | I43: =I36+3 -> 20 | K43: 三贯货梯有机房（K1570）V0010 | M43: 编号 | N43: =N36+3 -> 21
A44: 始端 | B44: =VLOOKUP(D43,数据库!$A$1:$J$64584,2,FALSE) -> KD/8 | C44: 末端 | D44: =VLOOKUP(D43,数据库!$A$1:$J$64584,3,FALSE) -> MC1/54 | F44: 始端 | G44: =VLOOKUP(I43,数据库!$A$1:$J$64584,2,FALSE) -> KD/8 | H44: 末端 | I44: =VLOOKUP(I43,数据库!$A$1:$J$64584,3,FALSE) -> MC1/62 | K44: 始端 | L44: =VLOOKUP(N43,数据库!$A$1:$J$64584,2,FALSE) -> KD/9 | M44: 末端 | N44: =VLOOKUP(N43,数据库!$A$1:$J$64584,3,FALSE) -> BZC/62(22)
A45: 始端处理 | B45: =VLOOKUP(D43,数据库!$A$1:$J$64584,6,FALSE) -> 5556T | C45: 末端处理 | D45: =VLOOKUP(D43,数据库!$A$1:$J$64584,7,FALSE) -> 红4 | F45: 始端处理 | G45: =VLOOKUP(I43,数据库!$A$1:$J$64584,6,FALSE) -> 5556T | H45: 末端处理 | I45: =VLOOKUP(I43,数据库!$A$1:$J$64584,7,FALSE) -> 红4 | K45: 始端处理 | L45: =VLOOKUP(N43,数据库!$A$1:$J$64584,6,FALSE) -> 5556T | M45: 末端处理 | N45: =VLOOKUP(N43,数据库!$A$1:$J$64584,7,FALSE) -> 红4
A46: 线径 | B46: =VLOOKUP(D43,数据库!$A$1:$J$64584,5,FALSE) -> 0.5黑 | C46: 组装 | D46: =VLOOKUP(D43,数据库!A:J,11,FALSE) -> #REF! | F46: 线径 | G46: =VLOOKUP(I43,数据库!$A$1:$J$64584,5,FALSE) -> 0.5黑 | H46: 组装 | I46: =VLOOKUP(I43,数据库!$A$1:$J$64584,11,FALSE) -> #REF! | K46: 线径 | L46: =VLOOKUP(N43,数据库!$A$1:$J$64584,5,FALSE) -> 0.5黑 | M46: 组装 | N46: =VLOOKUP(N43,数据库!$A$1:$J$64584,11,FALSE) -> #REF!
...

Sheet 三贯货梯大功率制作卡
A1: 三贯货梯大功率有机房（K1570）V0010 | C1: 编号 | D1: 1 | F1: 三贯货梯大功率有机房（K1570）V0010 | H1: 编号 | I1: 2 | K1: 三贯货梯大功率有机房（K1570）V0010 | M1: 编号 | N1: 3
A2: 始端 | B2: =VLOOKUP(D1,数据库!$A$1:$J$64584,2,FALSE) -> KC/1 | C2: 末端 | D2: =VLOOKUP(D1,数据库!$A$1:$J$64584,3,FALSE) -> MSC/1 | F2: 始端 | G2: =VLOOKUP(I1,数据库!$A$1:$J$64584,2,FALSE) -> KC/2 | H2: 末端 | I2: =VLOOKUP(I1,数据库!$A$1:$J$64584,3,FALSE) -> MC/A1 | K2: 始端 | L2: =VLOOKUP(N1,数据库!$A$1:$J$64584,2,FALSE) -> KC/3 | M2: 末端 | N2: =VLOOKUP(N1,数据库!$A$1:$J$64584,3,FALSE) -> FJXA/13
A3: 始端处理 | B3: =VLOOKUP(D1,数据库!$A$1:$J$64584,6,FALSE) -> 5556T | C3: 末端处理 | D3: =VLOOKUP(D1,数据库!$A$1:$J$64584,7,FALSE) -> 红4 | F3: 始端处理 | G3: =VLOOKUP(I1,数据库!$A$1:$J$64584,6,FALSE) -> 5556T | H3: 末端处理 | I3: =VLOOKUP(I1,数据库!$A$1:$J$64584,7,FALSE) -> 红4 | K3: 始端处理 | L3: =VLOOKUP(N1,数据库!$A$1:$J$64584,6,FALSE) -> 5556T | M3: 末端处理 | N3: =VLOOKUP(N1,数据库!$A$1:$J$64584,7,FALSE) -> 红4
A4: 线径 | B4: =VLOOKUP(D1,数据库!$A$1:$J$64584,5,FALSE) -> 0.5黑 | C4: 组装 | D4: =VLOOKUP(D1,数据库!A:J,11,FALSE) -> #REF! | F4: 线径 | G4: =VLOOKUP(I1,数据库!$A$1:$J$64584,5,FALSE) -> 0.5黑 | H4: 组装 | I4: =VLOOKUP(I1,数据库!A:J,11,FALSE) -> #REF! | K4: 线径 | L4: =VLOOKUP(N1,数据库!$A$1:$J$64584,5,FALSE) -> 0.5黑 | M4: 组装 | N4: =VLOOKUP(N1,数据库!A:J,11,FALSE) -> #REF!
A5: 线长 | B5: =VLOOKUP(D1,数据库!$A$1:$J$64584,10,FALSE) -> KC/1 | C5: 数量 | D5: 20 | F5: 线长 | G5: =VLOOKUP(I1,数据库!$A$1:$J$64584,10,FALSE) -> KC/2 | H5: 数量 | I5: 20 | K5: 线长 | L5: =VLOOKUP(N1,数据库!$A$1:$J$64584,10,FALSE) -> KC/3 | M5: 数量 | N5: 20
A6: 作业 | B6: =VLOOKUP(D1,数据库!$A$1:$J$64584,4,FALSE) -> 标准 | F6: 作业 | G6: =VLOOKUP(I1,数据库!$A$1:$J$64584,4,FALSE) -> 标准 | K6: 作业 | L6: =VLOOKUP(N1,数据库!$A$1:$J$64584,4,FALSE) -> 标准
A8: 三贯货梯大功率有机房（K1570）V0010 | C8: 编号 | D8: =D1+3 -> 4 | F8: 三贯货梯大功率有机房（K1570）V0010 | H8: 编号 | I8: =I1+3 -> 5 | K8: 三贯货梯大功率有机房（K1570）V0010 | M8: 编号 | N8: =N1+3 -> 6
A9: 始端 | B9: =VLOOKUP(D8,数据库!$A$1:$J$64584,2,FALSE) -> KC/4 | C9: 末端 | D9: =VLOOKUP(D8,数据库!$A$1:$J$64584,3,FALSE) -> MC/A2 | F9: 始端 | G9: =VLOOKUP(I8,数据库!$A$1:$J$64584,2,FALSE) -> KC/5 | H9: 末端 | I9: =VLOOKUP(I8,数据库!$A$1:$J$64584,3,FALSE) -> BZC/A2 | K9: 始端 | L9: =VLOOKUP(N8,数据库!$A$1:$J$64584,2,FALSE) -> KC/6 | M9: 末端 | N9: =VLOOKUP(N8,数据库!$A$1:$J$64584,3,FALSE) -> MC1/A2
A10: 始端处理 | B10: =VLOOKUP(D8,数据库!$A$1:$J$64584,6,FALSE) -> 5556T | C10: 末端处理 | D10: =VLOOKUP(D8,数据库!$A$1:$J$64584,7,FALSE) -> 红4 | F10: 始端处理 | G10: =VLOOKUP(I8,数据库!$A$1:$J$64584,6,FALSE) -> 5556T | H10: 末端处理 | I10: =VLOOKUP(I8,数据库!$A$1:$J$64584,7,FALSE) -> 红4 | K10: 始端处理 | L10: =VLOOKUP(N8,数据库!$A$1:$J$64584,6,FALSE) -> 5556T | M10: 末端处理 | N10: =VLOOKUP(N8,数据库!$A$1:$J$64584,7,FALSE) -> 红4
A11: 线径 | B11: =VLOOKUP(D8,数据库!$A$1:$J$64584,5,FALSE) -> 0.5黑 | C11: 组装 | D11: =VLOOKUP(D8,数据库!A:J,11,FALSE) -> #REF! | F11: 线径 | G11: =VLOOKUP(I8,数据库!$A$1:$J$64584,5,FALSE) -> 0.5黑 | H11: 组装 | I11: =VLOOKUP(I8,数据库!$A$1:$J$64584,11,FALSE) -> #REF! | K11: 线径 | L11: =VLOOKUP(N8,数据库!$A$1:$J$64584,5,FALSE) -> 0.5黑 | M11: 组装 | N11: =VLOOKUP(N8,数据库!$A$1:$J$64584,11,FALSE) -> #REF!
A12: 线长 | B12: =VLOOKUP(D8,数据库!$A$1:$J$64584,10,FALSE) -> KC/4 | C12: 数量 | D12: 20 | F12: 线长 | G12: =VLOOKUP(I8,数据库!$A$1:$J$64584,10,FALSE) -> KC/5 | H12: 数量 | I12: 20 | K12: 线长 | L12: =VLOOKUP(N8,数据库!$A$1:$J$64584,10,FALSE) -> KC/6 | M12: 数量 | N12: 20
A13: 作业 | B13: =VLOOKUP(D8,数据库!$A$1:$J$64584,4,FALSE) -> 标准 | F13: 作业 | G13: =VLOOKUP(I8,数据库!$A$1:$J$64584,4,FALSE) -> 标准 | K13: 作业 | L13: =VLOOKUP(N8,数据库!$A$1:$J$64584,4,FALSE) -> 有封星接触器时
A15: 三贯货梯大功率有机房（K1570）V0010 | C15: 编号 | D15: =D8+3 -> 7 | F15: 三贯货梯大功率有机房（K1570）V0010 | H15: 编号 | I15: =I8+3 -> 8 | K15: 三贯货梯大功率有机房（K1570）V0010 | M15: 编号 | N15: =N8+3 -> 9
A16: 始端 | B16: =VLOOKUP(D15,数据库!$A$1:$J$64584,2,FALSE) -> KC/7 | C16: 末端 | D16: =VLOOKUP(D15,数据库!$A$1:$J$64584,3,FALSE) -> MSC/A1 | F16: 始端 | G16: =VLOOKUP(I15,数据库!$A$1:$J$64584,2,FALSE) -> KC/8 | H16: 末端 | I16: =VLOOKUP(I15,数据库!$A$1:$J$64584,3,FALSE) -> MSC/A2 | K16: 始端 | L16: =VLOOKUP(N15,数据库!$A$1:$J$64584,2,FALSE) -> KC/9 | M16: 末端 | N16: =VLOOKUP(N15,数据库!$A$1:$J$64584,3,FALSE) -> MC1/A1
A17: 始端处理 | B17: =VLOOKUP(D15,数据库!$A$1:$J$64584,6,FALSE) -> 5556T | C17: 末端处理 | D17: =VLOOKUP(D15,数据库!$A$1:$J$64584,7,FALSE) -> 红4 | F17: 始端处理 | G17: =VLOOKUP(I15,数据库!$A$1:$J$64584,6,FALSE) -> 5556T | H17: 末端处理 | I17: =VLOOKUP(I15,数据库!$A$1:$J$64584,7,FALSE) -> 红4 | K17: 始端处理 | L17: =VLOOKUP(N15,数据库!$A$1:$J$64584,6,FALSE) -> 5556T | M17: 末端处理 | N17: =VLOOKUP(N15,数据库!$A$1:$J$64584,7,FALSE) -> 红4
A18: 线径 | B18: =VLOOKUP(D15,数据库!$A$1:$J$64584,5,FALSE) -> 0.5黑 | C18: 组装 | D18: =VLOOKUP(D15,数据库!A:J,11,FALSE) -> #REF! | F18: 线径 | G18: =VLOOKUP(I15,数据库!$A$1:$J$64584,5,FALSE) -> 0.5黑 | H18: 组装 | I18: =VLOOKUP(I15,数据库!$A$1:$J$64584,11,FALSE) -> #REF! | K18: 线径 | L18: =VLOOKUP(N15,数据库!$A$1:$J$64584,5,FALSE) -> 0.5黑 | M18: 组装 | N18: =VLOOKUP(N15,数据库!$A$1:$J$64584,11,FALSE) -> #REF!
A19: 线长 | B19: =VLOOKUP(D15,数据库!$A$1:$J$64584,10,FALSE) -> KC/7 | C19: 数量 | D19: 20 | F19: 线长 | G19: =VLOOKUP(I15,数据库!$A$1:$J$64584,10,FALSE) -> KC/8 | H19: 数量 | I19: 20 | K19: 线长 | L19: =VLOOKUP(N15,数据库!$A$1:$J$64584,10,FALSE) -> KC/9 | M19: 数量 | N19: 20
A20: 作业 | B20: =VLOOKUP(D15,数据库!$A$1:$J$64584,4,FALSE) -> 标准 | F20: 作业 | G20: =VLOOKUP(I15,数据库!$A$1:$J$64584,4,FALSE) -> 标准 | K20: 作业 | L20: =VLOOKUP(N15,数据库!$A$1:$J$64584,4,FALSE) -> 有封星接触器时
A22: 三贯货梯大功率有机房（K1570）V0010 | C22: 编号 | D22: =D15+3 -> 10 | F22: 三贯货梯大功率有机房（K1570）V0010 | H22: 编号 | I22: =I15+3 -> 11 | K22: 三贯货梯大功率有机房（K1570）V0010 | M22: 编号 | N22: =N15+3 -> 12
A23: 始端 | B23: =VLOOKUP(D22,数据库!$A$1:$J$64584,2,FALSE) -> KC/12 | C23: 末端 | D23: =VLOOKUP(D22,数据库!$A$1:$J$64584,3,FALSE) -> FJA/24 | F23: 始端 | G23: =VLOOKUP(I22,数据库!$A$1:$J$64584,2,FALSE) -> KC/13 | H23: 末端 | I23: =VLOOKUP(I22,数据库!$A$1:$J$64584,3,FALSE) -> FTK/1 | K23: 始端 | L23: =VLOOKUP(N22,数据库!$A$1:$J$64584,2,FALSE) -> KC/13 | M23: 末端 | N23: =VLOOKUP(N22,数据库!$A$1:$J$64584,3,FALSE) -> CE5
A24: 始端处理 | B24: =VLOOKUP(D22,数据库!$A$1:$J$64584,6,FALSE) -> 5556T | C24: 末端处理 | D24: =VLOOKUP(D22,数据库!$A$1:$J$64584,7,FALSE) -> 红4 | F24: 始端处理 | G24: =VLOOKUP(I22,数据库!$A$1:$J$64584,6,FALSE) -> 5556T | H24: 末端处理 | I24: =VLOOKUP(I22,数据库!$A$1:$J$64584,7,FALSE) -> 红4 | K24: 始端处理 | L24: =VLOOKUP(N22,数据库!$A$1:$J$64584,6,FALSE) -> 5556T | M24: 末端处理 | N24: =VLOOKUP(N22,数据库!$A$1:$J$64584,7,FALSE) -> 半剥8
A25: 线径 | B25: =VLOOKUP(D22,数据库!$A$1:$J$64584,5,FALSE) -> 0.5黑 | C25: 组装 | D25: =VLOOKUP(D22,数据库!A:J,11,FALSE) -> #REF! | F25: 线径 | G25: =VLOOKUP(I22,数据库!$A$1:$J$64584,5,FALSE) -> 0.5黑 | H25: 组装 | I25: =VLOOKUP(I22,数据库!$A$1:$J$64584,11,FALSE) -> #REF! | K25: 线径 | L25: =VLOOKUP(N22,数据库!$A$1:$J$64584,5,FALSE) -> 0.5黑 | M25: 组装 | N25: =VLOOKUP(N22,数据库!$A$1:$J$64584,11,FALSE) -> #REF!
A26: 线长 | B26: =VLOOKUP(D22,数据库!$A$1:$J$64584,10,FALSE) -> KC/12 | C26: 数量 | D26: 20 | F26: 线长 | G26: =VLOOKUP(I22,数据库!$A$1:$J$64584,10,FALSE) -> KC/13 | H26: 数量 | I26: 20 | K26: 线长 | L26: =VLOOKUP(N22,数据库!$A$1:$J$64584,10,FALSE) -> KC/13 | M26: 数量 | N26: 20
A27: 作业 | B27: =VLOOKUP(D22,数据库!$A$1:$J$64584,4,FALSE) -> 标准 | F27: 作业 | G27: =VLOOKUP(I22,数据库!$A$1:$J$64584,4,FALSE) -> 非钢带梯/非异步货梯 | K27: 作业 | L27: =VLOOKUP(N22,数据库!$A$1:$J$64584,4,FALSE) -> 钢带梯/异步货梯
A29: 三贯货梯大功率有机房（K1570）V0010 | C29: 编号 | D29: =D22+3 -> 13 | F29: 三贯货梯大功率有机房（K1570）V0010 | H29: 编号 | I29: =I22+3 -> 14 | K29: 三贯货梯大功率有机房（K1570）V0010 | M29: 编号 | N29: =N22+3 -> 15
A30: 始端 | B30: =VLOOKUP(D29,数据库!$A$1:$J$64584,2,FALSE) -> KC/15 | C30: 末端 | D30: =VLOOKUP(D29,数据库!$A$1:$J$64584,3,FALSE) -> FJK/14 | F30: 始端 | G30: =VLOOKUP(I29,数据库!$A$1:$J$64584,2,FALSE) -> KC/18 | H30: 末端 | I30: =VLOOKUP(I29,数据库!$A$1:$J$64584,3,FALSE) -> FJA/13 | K30: 始端 | L30: =VLOOKUP(N29,数据库!$A$1:$J$64584,2,FALSE) -> KD/1 | M30: 末端 | N30: =VLOOKUP(N29,数据库!$A$1:$J$64584,3,FALSE) -> FJSA/4
A31: 始端处理 | B31: =VLOOKUP(D29,数据库!$A$1:$J$64584,6,FALSE) -> 5556T | C31: 末端处理 | D31: =VLOOKUP(D29,数据库!$A$1:$J$64584,7,FALSE) -> 红4 | F31: 始端处理 | G31: =VLOOKUP(I29,数据库!$A$1:$J$64584,6,FALSE) -> 5556T | H31: 末端处理 | I31: =VLOOKUP(I29,数据库!$A$1:$J$64584,7,FALSE) -> 红4 | K31: 始端处理 | L31: =VLOOKUP(N29,数据库!$A$1:$J$64584,6,FALSE) -> 5556T | M31: 末端处理 | N31: =VLOOKUP(N29,数据库!$A$1:$J$64584,7,FALSE) -> 红4
A32: 线径 | B32: =VLOOKUP(D29,数据库!$A$1:$J$64584,5,FALSE) -> 0.5黑 | C32: 组装 | D32: =VLOOKUP(D29,数据库!A:J,11,FALSE) -> #REF! | F32: 线径 | G32: =VLOOKUP(I29,数据库!$A$1:$J$64584,5,FALSE) -> 0.5黑 | H32: 组装 | I32: =VLOOKUP(I29,数据库!$A$1:$J$64584,11,FALSE) -> #REF! | K32: 线径 | L32: =VLOOKUP(N29,数据库!$A$1:$J$64584,5,FALSE) -> 0.5黑 | M32: 组装 | N32: =VLOOKUP(N29,数据库!$A$1:$J$64584,11,FALSE) -> #REF!
A33: 线长 | B33: =VLOOKUP(D29,数据库!$A$1:$J$64584,10,FALSE) -> KC/15 | C33: 数量 | D33: 20 | F33: 线长 | G33: =VLOOKUP(I29,数据库!$A$1:$J$64584,10,FALSE) -> KC/18 | H33: 数量 | I33: 20 | K33: 线长 | L33: =VLOOKUP(N29,数据库!$A$1:$J$64584,10,FALSE) -> KD/1 | M33: 数量 | N33: 20
A34: 作业 | B34: =VLOOKUP(D29,数据库!$A$1:$J$64584,4,FALSE) -> 标准 | F34: 作业 | G34: =VLOOKUP(I29,数据库!$A$1:$J$64584,4,FALSE) -> 标准 | K34: 作业 | L34: =VLOOKUP(N29,数据库!$A$1:$J$64584,4,FALSE) -> 标准
A36: 三贯货梯大功率有机房（K1570）V0010 | C36: 编号 | D36: =D29+3 -> 16 | F36: 三贯货梯大功率有机房（K1570）V0010 | H36: 编号 | I36: =I29+3 -> 17 | K36: 三贯货梯大功率有机房（K1570）V0010 | M36: 编号 | N36: =N29+3 -> 18
A37: 始端 | B37: =VLOOKUP(D36,数据库!$A$1:$J$64584,2,FALSE) -> KD/2 | C37: 末端 | D37: =VLOOKUP(D36,数据库!$A$1:$J$64584,3,FALSE) -> FJXA/4 | F37: 始端 | G37: =VLOOKUP(I36,数据库!$A$1:$J$64584,2,FALSE) -> KD/3 | H37: 末端 | I37: =VLOOKUP(I36,数据库!$A$1:$J$64584,3,FALSE) -> FJK/1 | K37: 始端 | L37: =VLOOKUP(N36,数据库!$A$1:$J$64584,2,FALSE) -> KD/4 | M37: 末端 | N37: =VLOOKUP(N36,数据库!$A$1:$J$64584,3,FALSE) -> FJK/2
A38: 始端处理 | B38: =VLOOKUP(D36,数据库!$A$1:$J$64584,6,FALSE) -> 5556T | C38: 末端处理 | D38: =VLOOKUP(D36,数据库!$A$1:$J$64584,7,FALSE) -> 红4 | F38: 始端处理 | G38: =VLOOKUP(I36,数据库!$A$1:$J$64584,6,FALSE) -> 5556T | H38: 末端处理 | I38: =VLOOKUP(I36,数据库!$A$1:$J$64584,7,FALSE) -> 红4 | K38: 始端处理 | L38: =VLOOKUP(N36,数据库!$A$1:$J$64584,6,FALSE) -> 5556T | M38: 末端处理 | N38: =VLOOKUP(N36,数据库!$A$1:$J$64584,7,FALSE) -> 红4
A39: 线径 | B39: =VLOOKUP(D36,数据库!$A$1:$J$64584,5,FALSE) -> 0.5黑 | C39: 组装 | D39: =VLOOKUP(D36,数据库!A:J,11,FALSE) -> #REF! | F39: 线径 | G39: =VLOOKUP(I36,数据库!$A$1:$J$64584,5,FALSE) -> 0.5黑 | H39: 组装 | I39: =VLOOKUP(I36,数据库!$A$1:$J$64584,11,FALSE) -> #REF! | K39: 线径 | L39: =VLOOKUP(N36,数据库!$A$1:$J$64584,5,FALSE) -> 0.5黑 | M39: 组装 | N39: =VLOOKUP(N36,数据库!$A$1:$J$64584,11,FALSE) -> #REF!
A40: 线长 | B40: =VLOOKUP(D36,数据库!$A$1:$J$64584,10,FALSE) -> KD/2 | C40: 数量 | D40: 20 | F40: 线长 | G40: =VLOOKUP(I36,数据库!$A$1:$J$64584,10,FALSE) -> 0 | H40: 数量 | I40: 20 | K40: 线长 | L40: =VLOOKUP(N36,数据库!$A$1:$J$64584,10,FALSE) -> KD/4 | M40: 数量 | N40: 20
A41: 作业 | B41: =VLOOKUP(D36,数据库!$A$1:$J$64584,4,FALSE) -> 标准 | F41: 作业 | G41: =VLOOKUP(I36,数据库!$A$1:$J$64584,4,FALSE) -> 非G20时 | K41: 作业 | L41: =VLOOKUP(N36,数据库!$A$1:$J$64584,4,FALSE) -> 标准
A43: 三贯货梯大功率有机房（K1570）V0010 | C43: 编号 | D43: =D36+3 -> 19 | F43: 三贯货梯大功率有机房（K1570）V0010 | H43: 编号 | I43: =I36+3 -> 20 | K43: 三贯货梯大功率有机房（K1570）V0010 | M43: 编号 | N43: =N36+3 -> 21
A44: 始端 | B44: =VLOOKUP(D43,数据库!$A$1:$J$64584,2,FALSE) -> KD/8 | C44: 末端 | D44: =VLOOKUP(D43,数据库!$A$1:$J$64584,3,FALSE) -> MC1/54 | F44: 始端 | G44: =VLOOKUP(I43,数据库!$A$1:$J$64584,2,FALSE) -> KD/8 | H44: 末端 | I44: =VLOOKUP(I43,数据库!$A$1:$J$64584,3,FALSE) -> MC1/62 | K44: 始端 | L44: =VLOOKUP(N43,数据库!$A$1:$J$64584,2,FALSE) -> KD/9 | M44: 末端 | N44: =VLOOKUP(N43,数据库!$A$1:$J$64584,3,FALSE) -> BZC/62(22)
A45: 始端处理 | B45: =VLOOKUP(D43,数据库!$A$1:$J$64584,6,FALSE) -> 5556T | C45: 末端处理 | D45: =VLOOKUP(D43,数据库!$A$1:$J$64584,7,FALSE) -> 红4 | F45: 始端处理 | G45: =VLOOKUP(I43,数据库!$A$1:$J$64584,6,FALSE) -> 5556T | H45: 末端处理 | I45: =VLOOKUP(I43,数据库!$A$1:$J$64584,7,FALSE) -> 红4 | K45: 始端处理 | L45: =VLOOKUP(N43,数据库!$A$1:$J$64584,6,FALSE) -> 5556T | M45: 末端处理 | N45: =VLOOKUP(N43,数据库!$A$1:$J$64584,7,FALSE) -> 红4
A46: 线径 | B46: =VLOOKUP(D43,数据库!$A$1:$J$64584,5,FALSE) -> 0.5黑 | C46: 组装 | D46: =VLOOKUP(D43,数据库!A:J,11,FALSE) -> #REF! | F46: 线径 | G46: =VLOOKUP(I43,数据库!$A$1:$J$64584,5,FALSE) -> 0.5黑 | H46: 组装 | I46: =VLOOKUP(I43,数据库!$A$1:$J$64584,11,FALSE) -> #REF! | K46: 线径 | L46: =VLOOKUP(N43,数据库!$A$1:$J$64584,5,FALSE) -> 0.5黑 | M46: 组装 | N46: =VLOOKUP(N43,数据库!$A$1:$J$64584,11,FALSE) -> #REF!
...

Sheet 接线表
L1: 点号
G3: 文件编号：
G4: 版 本 号：000
A8: K3801707无机房控制柜作业指导书
A10: 仅适用于ESW(G20)
A12: 编 制： 袁 鹏 .
A14: 校 对： 桑 飞 .
A16: 审 核： 宋艾峰 .
A24: 广州广日电气（昆山）有限公司
A25: 2023 年 6 月
A30: 修改号 | C30: 修改内容 | G30: 日期 | H30: 签字
A31: =A8 -> K3801707无机房控制柜作业指导书
A32: 指导书使用说明
A33: 1 | B33: 本指导书依据电气规格表K3801707最新版编制；
A34: 2 | B34: 作业说明：双开门、物联网、停电柜、微动、地震管制、五方通话等为选配功能，提前开门功能等同于微动功能，请根据订单的选配信息选配；
A35: 3 | B35: 大线接线由装配人员接线；从协议转换板并线到其他功能的器件。
A36: 4 | B36: 接线表中采用的二极管参考对应明细表。
A37: 5 | B37: 线束压着、配线、装配作业规范参考SCX15-0025文件
A38: 5 | B38: 1、KB，型号：5557-10R，接触子：5556T 2、KC，型号：5557-24R，接触子：5556T 3、KD，型号：5557-20R，接触子：5556T 4、KP，型号：5557-18R，接触子：5556T 5、KZ，型号：5557-20R，接触子：5556T 6、KE，型号：5557-12R，接触子：5556T 7、KDP1，型号：5557-10R，接触子：5556T 8、KDP2，型号：5557-08R，接触子：5556T 9、KJ，型号：5557-04R，接触子：5556T 10、直流整合电源-J1,型号：5557-10R,接触子：5556T 11、直流整合电源-J2,型号：5557-8R,接触子：5556T 12、交流整合电源-J1,型号：5557-12R,接触子：5556T 13、交流整合电源-J2,型号：5557-14R,接触子：5556T 14、对讲机,型号：5557-6R,接触子：5556T 15、电子微动CN1,型号：5557-6R,接触子：5556T 16、电子微动CN2,型号：5557-10R,接触子：5556T 17、WD80,型号：12R头,接触子：218 18、XS，型号：5557-4R，接触子：5556T 19、JSQ，型号：9R，接触子：536 20、F26, 型号：5557-08R，接触子：5556T 21、F10, 型号：5557-04R，接触子：5556T 22、F3, 型号：04R，接触子：5556T 23、 E1, 型号：12R,接触子：218
A39: 6 | B39: 滤波器安装方位如右图所示，其中左边“LINE”为“线路”，右边“LOAD”为“负载”，标识“1”、“2”如图所示，按照该标识接线。
A40: 7 | B40: G·Plus，MAX-E,GVHⅡ或变频器使用G12C 或变频器大于30kw时增加相序继电器（XWJ）相关接线，1、MAX-E,G·Exc,G·Plus,GVHⅡ,G·Fre,GVH,G·wiz,G·wiz-B,ESW(G20)不配接地保护装置，其相关接线短接；2、G·Fre,GVH,不配封星接触器；
A41: 8 | B41: 空气开关接线端如右图所示，其中左边红圈处“进线端LINE”分别为“1、3、5”，右边红圈处“出线端LOAD”分别为“2、4、6”，按照该标识接线。
A42: 序号 | B42: 始端 | C42: 末端 | D42: 始端处理 | E42: 末端处理 | F42: 作业 | G42: 线径 | H42: 组装 | I42: G20线长 | J42: G12C小功率线长 | K42: 货梯大功率线长
A43: KC（24位）
A44: 1 | B44: =VLOOKUP(A44,数据库!A:H,2,FALSE) -> KC/1 | C44: =VLOOKUP(A44,数据库!A:H,3,FALSE) -> MSC/1 | D44: =VLOOKUP(A44,数据库!A:H,6,FALSE) -> 5556T | E44: =VLOOKUP(A44,数据库!A:H,7,FALSE) -> 红4 | F44: =VLOOKUP(A44,数据库!A:H,4,FALSE) -> 标准 | G44: =VLOOKUP(A44,数据库!A:H,5,FALSE) -> 0.5黑 | H44: =VLOOKUP(A44,数据库!A:J,12,FALSE) -> #REF! | I44: 640 | J44: =VLOOKUP(A44,数据库!A:I,9,FALSE) -> 0 | K44: =VLOOKUP(A44,数据库!A:I,10,FALSE) -> #REF!
A45: 2 | B45: =VLOOKUP(A45,数据库!A:H,2,FALSE) -> KC/2 | C45: =VLOOKUP(A45,数据库!A:H,3,FALSE) -> MC/A1 | D45: =VLOOKUP(A45,数据库!A:H,6,FALSE) -> 5556T | E45: =VLOOKUP(A45,数据库!A:H,7,FALSE) -> 红4 | F45: =VLOOKUP(A45,数据库!A:H,4,FALSE) -> 标准 | G45: =VLOOKUP(A45,数据库!A:H,5,FALSE) -> 0.5黑 | H45: =VLOOKUP(A45,数据库!A:J,12,FALSE) -> #REF! | I45: 790 | J45: =VLOOKUP(A45,数据库!A:I,9,FALSE) -> 0 | K45: =VLOOKUP(A45,数据库!A:I,10,FALSE) -> #REF!
A46: 3 | B46: =VLOOKUP(A46,数据库!A:H,2,FALSE) -> KC/3 | C46: =VLOOKUP(A46,数据库!A:H,3,FALSE) -> FJXA/13 | D46: =VLOOKUP(A46,数据库!A:H,6,FALSE) -> 5556T | E46: =VLOOKUP(A46,数据库!A:H,7,FALSE) -> 红4 | F46: =VLOOKUP(A46,数据库!A:H,4,FALSE) -> 标准 | G46: =VLOOKUP(A46,数据库!A:H,5,FALSE) -> 0.5黑 | H46: =VLOOKUP(A46,数据库!A:J,12,FALSE) -> #REF! | I46: =VLOOKUP(A46,数据库!A:I,8,FALSE) -> 1210 | J46: =VLOOKUP(A46,数据库!A:I,9,FALSE) -> 0 | K46: =VLOOKUP(A46,数据库!A:I,10,FALSE) -> #REF!
A47: 4 | B47: =VLOOKUP(A47,数据库!A:H,2,FALSE) -> KC/4 | C47: =VLOOKUP(A47,数据库!A:H,3,FALSE) -> MC/A2 | D47: =VLOOKUP(A47,数据库!A:H,6,FALSE) -> 5556T | E47: =VLOOKUP(A47,数据库!A:H,7,FALSE) -> 红4 | F47: =VLOOKUP(A47,数据库!A:H,4,FALSE) -> 标准 | G47: =VLOOKUP(A47,数据库!A:H,5,FALSE) -> 0.5黑 | H47: =VLOOKUP(A47,数据库!A:J,12,FALSE) -> #REF! | I47: =VLOOKUP(A47,数据库!A:I,8,FALSE) -> 890 | J47: =VLOOKUP(A47,数据库!A:I,9,FALSE) -> 0 | K47: =VLOOKUP(A47,数据库!A:I,10,FALSE) -> #REF!
A48: 5 | B48: =VLOOKUP(A48,数据库!A:H,2,FALSE) -> KC/5 | C48: =VLOOKUP(A48,数据库!A:H,3,FALSE) -> BZC/A2 | D48: =VLOOKUP(A48,数据库!A:H,6,FALSE) -> 5556T | E48: =VLOOKUP(A48,数据库!A:H,7,FALSE) -> 红4 | F48: =VLOOKUP(A48,数据库!A:H,4,FALSE) -> 标准 | G48: =VLOOKUP(A48,数据库!A:H,5,FALSE) -> 0.5黑 | H48: =VLOOKUP(A48,数据库!A:J,12,FALSE) -> #REF! | I48: =VLOOKUP(A48,数据库!A:I,8,FALSE) -> 710 | J48: =VLOOKUP(A48,数据库!A:I,9,FALSE) -> 0 | K48: =VLOOKUP(A48,数据库!A:I,10,FALSE) -> #REF!
A49: 6 | B49: =VLOOKUP(A49,数据库!A:H,2,FALSE) -> KC/6 | C49: =VLOOKUP(A49,数据库!A:H,3,FALSE) -> MC1/A2 | D49: =VLOOKUP(A49,数据库!A:H,6,FALSE) -> 5556T | E49: =VLOOKUP(A49,数据库!A:H,7,FALSE) -> 红4 | F49: =VLOOKUP(A49,数据库!A:H,4,FALSE) -> 有封星接触器时 | G49: =VLOOKUP(A49,数据库!A:H,5,FALSE) -> 0.5黑 | H49: =VLOOKUP(A49,数据库!A:J,12,FALSE) -> #REF! | I49: =VLOOKUP(A49,数据库!A:I,8,FALSE) -> 830 | J49: =VLOOKUP(A49,数据库!A:I,9,FALSE) -> 0 | K49: =VLOOKUP(A49,数据库!A:I,10,FALSE) -> #REF!
A50: 7 | B50: =VLOOKUP(A50,数据库!A:H,2,FALSE) -> KC/7 | C50: =VLOOKUP(A50,数据库!A:H,3,FALSE) -> MSC/A1 | D50: =VLOOKUP(A50,数据库!A:H,6,FALSE) -> 5556T | E50: =VLOOKUP(A50,数据库!A:H,7,FALSE) -> 红4 | F50: =VLOOKUP(A50,数据库!A:H,4,FALSE) -> 标准 | G50: =VLOOKUP(A50,数据库!A:H,5,FALSE) -> 0.5黑 | H50: =VLOOKUP(A50,数据库!A:J,12,FALSE) -> #REF! | I50: =VLOOKUP(A50,数据库!A:I,8,FALSE) -> 640 | J50: =VLOOKUP(A50,数据库!A:I,9,FALSE) -> 0 | K50: =VLOOKUP(A50,数据库!A:I,10,FALSE) -> #REF!
A51: 8 | B51: =VLOOKUP(A51,数据库!A:H,2,FALSE) -> KC/8 | C51: =VLOOKUP(A51,数据库!A:H,3,FALSE) -> MSC/A2 | D51: =VLOOKUP(A51,数据库!A:H,6,FALSE) -> 5556T | E51: =VLOOKUP(A51,数据库!A:H,7,FALSE) -> 红4 | F51: =VLOOKUP(A51,数据库!A:H,4,FALSE) -> 标准 | G51: =VLOOKUP(A51,数据库!A:H,5,FALSE) -> 0.5黑 | H51: =VLOOKUP(A51,数据库!A:J,12,FALSE) -> #REF! | I51: =VLOOKUP(A51,数据库!A:I,8,FALSE) -> 760 | J51: =VLOOKUP(A51,数据库!A:I,9,FALSE) -> 0 | K51: =VLOOKUP(A51,数据库!A:I,10,FALSE) -> #REF!
A52: 9 | B52: =VLOOKUP(A52,数据库!A:H,2,FALSE) -> KC/9 | C52: =VLOOKUP(A52,数据库!A:H,3,FALSE) -> MC1/A1 | D52: =VLOOKUP(A52,数据库!A:H,6,FALSE) -> 5556T | E52: =VLOOKUP(A52,数据库!A:H,7,FALSE) -> 红4 | F52: =VLOOKUP(A52,数据库!A:H,4,FALSE) -> 有封星接触器时 | G52: =VLOOKUP(A52,数据库!A:H,5,FALSE) -> 0.5黑 | H52: =VLOOKUP(A52,数据库!A:J,12,FALSE) -> #REF! | I52: =VLOOKUP(A52,数据库!A:I,8,FALSE) -> 680 | J52: =VLOOKUP(A52,数据库!A:I,9,FALSE) -> 0 | K52: =VLOOKUP(A52,数据库!A:I,10,FALSE) -> #REF!
A53: 10 | B53: =VLOOKUP(A53,数据库!A:H,2,FALSE) -> KC/12 | C53: =VLOOKUP(A53,数据库!A:H,3,FALSE) -> FJA/24 | D53: =VLOOKUP(A53,数据库!A:H,6,FALSE) -> 5556T | E53: =VLOOKUP(A53,数据库!A:H,7,FALSE) -> 红4 | F53: =VLOOKUP(A53,数据库!A:H,4,FALSE) -> 标准 | G53: =VLOOKUP(A53,数据库!A:H,5,FALSE) -> 0.5黑 | H53: =VLOOKUP(A53,数据库!A:J,12,FALSE) -> #REF! | I53: =VLOOKUP(A53,数据库!A:I,8,FALSE) -> 1110 | J53: =VLOOKUP(A53,数据库!A:I,9,FALSE) -> 0 | K53: =VLOOKUP(A53,数据库!A:I,10,FALSE) -> #REF!
A54: 11 | B54: =VLOOKUP(A54,数据库!A:H,2,FALSE) -> KC/13 | C54: =VLOOKUP(A54,数据库!A:H,3,FALSE) -> FTK/1 | D54: =VLOOKUP(A54,数据库!A:H,6,FALSE) -> 5556T | E54: =VLOOKUP(A54,数据库!A:H,7,FALSE) -> 红4 | F54: =VLOOKUP(A54,数据库!A:H,4,FALSE) -> 非钢带梯/非异步货梯 | G54: =VLOOKUP(A54,数据库!A:H,5,FALSE) -> 0.5黑 | H54: =VLOOKUP(A54,数据库!A:J,12,FALSE) -> #REF! | I54: =VLOOKUP(A54,数据库!A:I,8,FALSE) -> 1090 | J54: =VLOOKUP(A54,数据库!A:I,9,FALSE) -> 0 | K54: =VLOOKUP(A54,数据库!A:I,10,FALSE) -> #REF!
A55: 12 | B55: =VLOOKUP(A55,数据库!A:H,2,FALSE) -> KC/13 | C55: =VLOOKUP(A55,数据库!A:H,3,FALSE) -> CE5 | D55: =VLOOKUP(A55,数据库!A:H,6,FALSE) -> 5556T | E55: =VLOOKUP(A55,数据库!A:H,7,FALSE) -> 半剥8 | F55: =VLOOKUP(A55,数据库!A:H,4,FALSE) -> 钢带梯/异步货梯 | G55: =VLOOKUP(A55,数据库!A:H,5,FALSE) -> 0.5黑 | H55: =VLOOKUP(A55,数据库!A:J,12,FALSE) -> #REF! | I55: =VLOOKUP(A55,数据库!A:I,8,FALSE) -> 无 | J55: =VLOOKUP(A55,数据库!A:I,9,FALSE) -> 随设计书 | K55: =VLOOKUP(A55,数据库!A:I,10,FALSE) -> #REF!
A56: 13 | B56: =VLOOKUP(A56,数据库!A:H,2,FALSE) -> KC/15 | C56: =VLOOKUP(A56,数据库!A:H,3,FALSE) -> FJK/14 | D56: =VLOOKUP(A56,数据库!A:H,6,FALSE) -> 5556T | E56: =VLOOKUP(A56,数据库!A:H,7,FALSE) -> 红4 | F56: =VLOOKUP(A56,数据库!A:H,4,FALSE) -> 标准 | G56: =VLOOKUP(A56,数据库!A:H,5,FALSE) -> 0.5黑 | H56: =VLOOKUP(A56,数据库!A:J,12,FALSE) -> #REF! | I56: =VLOOKUP(A56,数据库!A:I,8,FALSE) -> 1000 | J56: =VLOOKUP(A56,数据库!A:I,9,FALSE) -> 0 | K56: =VLOOKUP(A56,数据库!A:I,10,FALSE) -> #REF!
A57: 14 | B57: =VLOOKUP(A57,数据库!A:H,2,FALSE) -> KC/18 | C57: =VLOOKUP(A57,数据库!A:H,3,FALSE) -> FJA/13 | D57: =VLOOKUP(A57,数据库!A:H,6,FALSE) -> 5556T | E57: =VLOOKUP(A57,数据库!A:H,7,FALSE) -> 红4 | F57: =VLOOKUP(A57,数据库!A:H,4,FALSE) -> 标准 | G57: =VLOOKUP(A57,数据库!A:H,5,FALSE) -> 0.5黑 | H57: =VLOOKUP(A57,数据库!A:J,12,FALSE) -> #REF! | I57: =VLOOKUP(A57,数据库!A:I,8,FALSE) -> 1130 | J57: =VLOOKUP(A57,数据库!A:I,9,FALSE) -> 0 | K57: =VLOOKUP(A57,数据库!A:I,10,FALSE) -> #REF!
A58: KD（20位）
A59: 15 | B59: =VLOOKUP(A59,数据库!A:H,2,FALSE) -> KD/1 | C59: =VLOOKUP(A59,数据库!A:H,3,FALSE) -> FJSA/4 | D59: =VLOOKUP(A59,数据库!A:H,6,FALSE) -> 5556T | E59: =VLOOKUP(A59,数据库!A:H,7,FALSE) -> 红4 | F59: =VLOOKUP(A59,数据库!A:H,4,FALSE) -> 标准 | G59: =VLOOKUP(A59,数据库!A:H,5,FALSE) -> 0.5黑 | H59: =VLOOKUP(A59,数据库!A:J,12,FALSE) -> #REF! | I59: =VLOOKUP(A59,数据库!A:I,8,FALSE) -> 1130 | J59: =VLOOKUP(A59,数据库!A:I,9,FALSE) -> 0 | K59: =VLOOKUP(A59,数据库!A:I,10,FALSE) -> #REF!
...

Sheet 整理后-2023-7-5
A1: K3801707 | E1: 完整 -G20线束表 | J1: 2023.9.5修改长度
A2: 序号 | B2: 线径 | C2: G20线长 | D2: 始端(首端) | E2: 末端（尾端） | F2: 始端(首端)处理 | G2: 末端（尾端）处理 | H2: 作业 | I2: 组装
A3: KC（24位）
A4: 1 | B4: 0.5黑 | C4: 640 | D4: KC/1 | E4: MSC/1 | F4: 5556T | G4: 红4 | H4: 标准 | I4: KC/1
A5: 2 | B5: 0.5黑 | C5: 790 | D5: KC/2 | E5: MC/A1 | F5: 5556T | G5: 红4 | H5: 标准 | I5: KC/2
A6: 3 | B6: 0.5黑 | C6: 1170 | D6: KC/3 | E6: FJXA/13 | F6: 5556T | G6: 红4 | H6: 标准 | I6: KC/3
A7: 4 | B7: 0.5黑 | C7: 890 | D7: KC/4 | E7: MC/A2 | F7: 5556T | G7: 红4 | H7: 标准 | I7: KC/4
A8: 5 | B8: 0.5黑 | C8: 720 | D8: KC/5 | E8: BZC/A2 | F8: 5556T | G8: 红4 | H8: 标准 | I8: KC/5
A9: 6 | B9: 0.5黑 | C9: 670 | D9: KC/6 | E9: MC1/A2 | F9: 5556T | G9: 红4 | H9: 有封星接触器时 | I9: KC/6
A10: 7 | B10: 0.5黑 | C10: 610 | D10: KC/7 | E10: MSC/A1 | F10: 5556T | G10: 红4 | H10: 标准 | I10: KC/7
A11: 8 | B11: 0.5黑 | C11: 750 | D11: KC/8 | E11: MSC/A2 | F11: 5556T | G11: 红4 | H11: 标准 | I11: KC/8
A12: 9 | B12: 0.5黑 | C12: 670 | D12: KC/9 | E12: MC1/A1 | F12: 5556T | G12: 红4 | H12: 有封星接触器时 | I12: KC/9
A13: 10 | B13: 0.5黑 | C13: 1080 | D13: KC/12 | E13: FJA/24 | F13: 5556T | G13: 红4 | H13: 标准 | I13: KC/12
A14: 11 | B14: 0.5黑 | C14: 1060 | D14: KC/13 | E14: FTK/1 | F14: 5556T | G14: 红4 | H14: 非钢带梯/非异步货梯 | I14: KC/13
A15: 12 | B15: 0.5黑 | C15: 1000 | D15: KC/15 | E15: FJK/14 | F15: 5556T | G15: 红4 | H15: 标准 | I15: KC/15
A16: 13 | B16: 0.5黑 | C16: 1130 | D16: KC/18 | E16: FJA/13 | F16: 5556T | G16: 红4 | H16: 标准 | I16: KC/18
A17: KD（20位）
A18: 14 | B18: 0.5黑 | C18: 1120 | D18: KD/1 | E18: FJSA/4 | F18: 5556T | G18: 红4 | H18: 标准 | I18: KD/1
A19: 15 | B19: 0.5黑 | C19: 1220 | D19: KD/2 | E19: FJXA/4 | F19: 5556T | G19: 红4 | H19: 标准 | I19: KD/2
A20: 16 | B20: 0.5黑 | C20: 1090 | D20: KD/4 | E20: FJK/2 | F20: 5556T | G20: 红4 | H20: 标准 | I20: KD/4
A21: 17 | B21: 0.5黑 | C21: 940 | D21: KD/8 | E21: MC1/54 | F21: 5556T | G21: 红4 | H21: 有封星接触器+速度≤2.5M/S | I21: KD/8
A22: 18 | B22: 0.5黑 | C22: 760 | D22: KD/9 | E22: BZC/62(22) | F22: 5556T | G22: 红4 | H22: 标准 | I22: KD/9
A23: 19 | B23: 0.5黑 | C23: 910 | D23: KD/10 | E23: MC/62(22) | F23: 5556T | G23: 红4 | H23: 标准 | I23: KD/10
A24: 20 | B24: 0.5黑 | C24: 850 | D24: KD/11 | E24: MSC/62(22) | F24: 5556T | G24: 红4 | H24: 标准 | I24: KD/11
A25: 21 | B25: 0.5黑 | C25: 710 | D25: KD/13 | E25: MSC/61(21) | F25: 5556T | G25: 红4 | H25: 无接地保护装置时 | I25: KD/13
A26: 22 | B26: 0.5黑 | C26: 1080 | D26: KD/19 | E26: FJK/1 | F26: 5556T | G26: 红4 | H26: G20系统时 | I26: 0
A27: KB（10位）
A28: 23 | B28: 0.5黑 | C28: 500 | D28: KB/2 | E28: CE6 | F28: 5556T | G28: 红4 | H28: 标准（无机房） | I28: KB/2
A29: 24 | B29: 0.5黑 | C29: 500 | D29: KB/3 | E29: CE6 | F29: 5556T | G29: 红4 | H29: 标准（无机房） | I29: KB/3
A30: 25 | B30: 0.5黑 | C30: 790 | D30: KB/10 | E30: MC/53(13) | F30: 5556T | G30: 红4 | H30: 标准 | I30: KB/10
A31: KDP1（10位）
A32: 26 | B32: 0.5黑 | C32: 700 | D32: KDP2/1 | E32: BZC/61(21) | F32: 5556T | G32: 红4 | H32: 标准 | I32: KDP2/1
A33: 27 | B33: 0.75黑 | C33: 660 | D33: KP/5 | E33: LBQ1/负载1 | F33: 5556T | G33: 红全封 | H33: 标准 | I33: KP/5
A34: 28 | B34: 0.75黑 | C34: 660 | D34: KP/7 | E34: LBQ1/负载2 | F34: 5556T | G34: 红全封 | H34: 标准 | I34: KP/7
A35: 29 | B35: 0.75黑 | C35: 530 | D35: KP/9 | E35: LBQ1/线路1 | F35: 5556T | G35: 红全封 | H35: 标准 | I35: KP/9
A36: KDP2（8位）
A37: 30 | B37: 0.75黑 | C37: 550 | D37: KP/10 | E37: LBQ1/线路2 | F37: 5556T | G37: 红全封 | H37: 标准 | I37: KP/10
A38: 31 | B38: 0.75黑 | C38: 1100 | D38: KP/12 | E38: DYK/14 | F38: 5556T | G38: 红4 | H38: 无机房 | I38: KP/12
A39: KP（18位）
A40: 32 | B40: 0.75黑 | C40: 1100 | D40: KP/14 | E40: DYK/24 | F40: 5556T | G40: 红4 | H40: 无机房 | I40: KP/14
...

Sheet 完整版
C1: 配线表 | H1: 编号 | I1: WI-PM-K260
H2: 页码 | I2: 共4页 | J2: 45177
A3: K3801707 | E3: G20线束表无机房 | H3: 版本 | I3: 00
