Workbook

Sheet G20有机房接线表 
A1: G20有机房接线表 | B1: 配线表-G20有机房线束表 | I1: 编号 | J1: WI-PM-KXXX
I2: 页码 | J2: 共6页
A3: K3801707 | C3: 适用G20有机房（速度≤2.5M/S） | I3: 版本 | J3: V06
I4: 作业 | J4: 备注
A5: 插件说明：KB/10位 KC/24位 KD/20位 KDP1/10位 KDP2/8位 KE/12位 KJ/4位 KP/18位 KZ/20位 CN1/6位 CN2/10位 | J5: 2024-6-14修改
A6: 序号 | B6: 始端 | C6: 末端 | D6: 线径 | E6: G20线长 | F6: 始端处理 | G6: 末端处理 | H6: 作业 | I6: 组装
A7: KC（24位）
A8: 1 | B8: KC/1 | C8: MSC/1 | D8: 0.5黑 | E8: 660 | F8: 5556T | G8: 红4 | H8: 标准 | I8: KC/1
A9: 2 | B9: KC/2 | C9: MC/A1 | D9: 0.5黑 | E9: 790 | F9: 5556T | G9: 红4 | H9: 标准 | I9: KC/2
A10: 3 | B10: KC/3 | C10: FJXA/13 | D10: 0.5黑 | E10: 1210 | F10: 5556T | G10: 红4 | H10: 标准 | I10: KC/3
A11: 4 | B11: KC/4 | C11: MC/A2 | D11: 0.5黑 | E11: 900 | F11: 5556T | G11: 红4 | H11: 标准 | I11: KC/4
A12: 5 | B12: KC/5 | C12: BZC/A2 | D12: 0.5黑 | E12: 720 | F12: 5556T | G12: 红4 | H12: 标准 | I12: KC/5
A13: 6 | B13: KC/6 | C13: MC1/A2 | D13: 0.5黑 | E13: 720 | F13: 5556T | G13: 红4 | H13: 有封星接触器时 | I13: KC/6
A14: 7 | B14: KC/7 | C14: MSC/A1 | D14: 0.5黑 | E14: 640 | F14: 5556T | G14: 红4 | H14: 标准 | I14: KC/7
A15: 8 | B15: KC/8 | C15: MSC/A2 | D15: 0.5黑 | E15: 750 | F15: 5556T | G15: 红4 | H15: 标准 | I15: KC/8
A16: 9 | B16: KC/9 | C16: MC1/A1 | D16: 0.5黑 | E16: 670 | F16: 5556T | G16: 红4 | H16: 有封星接触器时 | I16: KC/9
A17: 10 | B17: KC/12 | C17: FJA/24 | D17: 0.5黑 | E17: 1120 | F17: 5556T | G17: 红4 | H17: 标准 | I17: KC/12
A18: 11 | B18: KC/13 | C18: FTK/1 | D18: 0.5黑 | E18: 1030 | F18: 5556T | G18: 红4 | H18: 非钢带梯/非异步货梯 | I18: KC/13
A19: 12 | B19: KC/15 | C19: FJK/14 | D19: 0.5黑 | E19: 1000 | F19: 5556T | G19: 红4 | H19: 标准 | I19: KC/15
A20: 13 | B20: KC/18 | C20: FJA/13 | D20: 0.5黑 | E20: 1130 | F20: 5556T | G20: 红4 | H20: 标准 | I20: KC/18
A21: KD（20位）
A22: 14 | B22: KD/1 | C22: FJSA/4 | D22: 0.5黑 | E22: 1120 | F22: 5556T | G22: 蓝4 | H22: 标准 | I22: KD/1 | J22: 检修上行
A23: 15 | B23: KD/2 | C23: FJXA/4 | D23: 0.5黑 | E23: 1220 | F23: 5556T | G23: 蓝4 | H23: 标准 | I23: KD/2 | J23: 检修回路
A24: 16 | B24: KD/4 | C24: FJK/2 | D24: 0.5黑 | E24: 1090 | F24: 5556T | G24: 蓝4 | H24: 标准 | I24: KD/4 | J24: 检修下行
A25: 17 | B25: KD/8 | C25: MC1/54 | D25: 0.5黑 | E25: 900 | F25: 5556T | G25: 红4 | H25: 有封星接触器+速度≤2.5M/S | I25: KD/8
A26: 18 | B26: KD/9 | C26: BZC/62(22) | D26: 0.5黑 | E26: 740 | F26: 5556T | G26: 红4 | H26: 标准 | I26: KD/9
A27: 19 | B27: KD/10 | C27: MC/62(22) | D27: 0.5黑 | E27: 920 | F27: 5556T | G27: 红4 | H27: 标准 | I27: KD/10
A28: 20 | B28: KD/11 | C28: MSC/62(22) | D28: 0.5黑 | E28: 830 | F28: 5556T | G28: 红4 | H28: 标准 | I28: KD/11
A29: 21 | B29: KD/13 | C29: MSC/61(21) | D29: 0.5黑 | E29: 710 | F29: 5556T | G29: 红4 | H29: 无接地保护装置时 | I29: KD/13
A30: 22 | B30: KD/19 | C30: FJK/1 | D30: 0.5黑 | E30: 1080 | F30: 5556T | G30: 蓝4 | H30: G20系统时 | I30: 0 | J30: 检修电源公共端
A31: KB（10位）
A32: 23 | B32: KB/2 | C32: MC/63(43) | D32: 0.5黑 | E32: 820 | F32: 5556T | G32: 红4 | H32: 标准（无机房） | I32: KB/2 | J32: 抱闸回路接线
A33: 24 | B33: KB/3 | C33: MC/63(43) | D33: 0.5黑 | E33: 820 | F33: 5556T | G33: 红4 | H33: 标准（无机房） | I33: KB/3
A34: 25 | B34: KB/10 | C34: MC/53(13) | D34: 0.5黑 | E34: 790 | F34: 5556T | G34: 红4 | H34: 标准 | I34: KB/10
A35: KP（18位） | F35: 25 | G35: 21
A36: 26 | B36: BKP/CN3/+24V | C36: CE24（DC24V+） | D36: 0.5黑 | E36: 660 | F36: 橙针 | G36: 半剥13 | H36: 标准
A37: 27 | B37: KDP2/1 | C37: CE24(DC24V+) | D37: 0.5黑 | E37: 700 | F37: 5556T | G37: 半剥13 | H37: 标准
A38: 28 | B38: BZC/61(21) | C38: CE24（DC24V+） | D38: 0.5黑 | E38: 660 | F38: 红4 | G38: 半剥13 | H38: 标准 | I38: 0 | J38: 抱闸检测
A39: 29 | B39: KDP2/1 | C39: CE24（DC24V+） | D39: 0.5黑 | E39: 800 | F39: 5556T | G39: 半剥13 | H39: 标准 | I39: KDP2/1（DC24V+）
A40: 30 | B40: BZC/61(21) | C40: MSC/61(21) | D40: 0.5黑 | E40: 280 | F40: 红4 | G40: 红4 | H40: 标准 | I40: 0 | J40: 门锁检测
...

Sheet G20有机房裁线表
A1: G20有机房-标准作业裁线表-KS402375-A
A2: 0.5黑线 | E2: 0.5黑线
A3: 序号 | B3: 线长 | C3: 数量 | E3: 序号 | F3: 线长 | G3: 数量
A4: 1 | B4: 100 | C4: 1 | E4: 34 | F4: 1080 | G4: 1
A5: 2 | B5: 120 | C5: 2 | E5: 35 | F5: 1090 | G5: 1
A6: 3 | B6: 150 | C6: 2 | E6: 36 | F6: 1120 | G6: 2
A7: 4 | B7: 170 | C7: 1 | E7: 37 | F7: 1130 | G7: 2
A8: 5 | B8: 280 | C8: 2 | E8: 38 | F8: 1210 | G8: 1
A9: 6 | B9: 340 | C9: 1 | E9: 39 | F9: 1220 | G9: 1
A10: 7 | B10: 350 | C10: 3 | E10: 0.75黑线
A11: 8 | B11: 370 | C11: 1 | E11: 序号 | F11: 线长 | G11: 数量
A12: 9 | B12: 400 | C12: 2 | E12: 1 | F12: 430 | G12: 2
A13: 10 | B13: 480 | C13: 2 | E13: 2 | F13: 530 | G13: 2
A14: 11 | B14: 590 | C14: 1 | E14: 3 | F14: 660 | G14: 2
A15: 12 | B15: 640 | C15: 1 | E15: 4 | F15: 800 | G15: 2
A16: 13 | B16: 660 | C16: 4 | E16: 5 | F16: 810 | G16: 2
A17: 14 | B17: 670 | C17: 1 | E17: 6 | F17: 840 | G17: 4
A18: 15 | B18: 700 | C18: 5 | E18: 7 | F18: 970 | G18: 2
A19: 16 | B19: 710 | C19: 2 | E19: 8 | F19: 980 | G19: 2
A20: 17 | B20: 720 | C20: 2 | E20: 9 | F20: 1015 | G20: 2
A21: 18 | B21: 740 | C21: 1 | E21: 10 | F21: 1160 | G21: 2
A22: 19 | B22: 750 | C22: 1 | E22: 11 | F22: 1240 | G22: 2
A23: 20 | B23: 790 | C23: 2 | E23: 12 | F23: 1250 | G23: 2
A24: 21 | B24: 800 | C24: 1 | E24: 2.5黑线
A25: 22 | B25: 810 | C25: 1 | E25: 序号 | F25: 线长 | G25: 数量
A26: 23 | B26: 820 | C26: 2 | E26: 1 | F26: 250 | G26: 2
A27: 24 | B27: 830 | C27: 1 | E27: 2 | F27: 710 | G27: 1
A28: 25 | B28: 900 | C28: 4 | E28: 3 | F28: 730 | G28: 1
A29: 26 | B29: 920 | C29: 1 | E29: 0.75黄绿线
A30: 27 | B30: 940 | C30: 2 | E30: 序号 | F30: 线长 | G30: 数量
A31: 28 | B31: 960 | C31: 1 | E31: 1 | F31: 1320 | G31: 2
A32: 29 | B32: 1000 | C32: 2 | E32: 2.5黄绿线
A33: 30 | B33: 1030 | C33: 1 | E33: 序号 | F33: 线长 | G33: 数量
A34: 31 | B34: 1040 | C34: 2 | E34: 1 | F34: 790 | G34: 1
A35: 32 | B35: 1050 | C35: 4 | E35: 2 | F35: 1220 | G35: 1
A36: 33 | B36: 1060 | C36: 2 | E36: 3 | F36: 1450 | G36: 1
A37: 物联网作业裁线表-KS402375-B | E37: 访客功能作业裁线表-KS402375-G
A38: 0.5黑线 | E38: 0.5黑线
A39: 序号 | B39: 线长 | C39: 数量 | E39: 序号 | F39: 线长 | G39: 数量
A40: 1 | B40: 750 | C40: 4 | E40: 1 | F40: 630 | G40: 4
...

Sheet G20有机房接线表试制
G3: 文件编号：SCX23-0005
G4: 版 本 号：003
A8: K3801700&K3801707有机房控制柜作业指导书
A10: 仅适用于G·Plus，G·FRE，MAX-E(非G20),GVHⅡ,GVH，G·EXC(二合一电源)
A12: 编 制： 戴泽康 .
A14: 校 对： 关向明 .
A16: 审 核： 蔡一蓝 .
A24: 广州广日电梯有限公司
A25: 2023 年 7 月
C29: 修改高层站配置说明 | G29: 45133 | H29: 戴泽康
A30: 修改23-1151 | C30: 修改异步货梯接线，增加序号434.2,434.3 | G30: 45056 | H30: 戴泽康
C31: 修改KD/13和KC/13线路/线长 | G31: 45033 | H31: 关向明
A32: 修改号 | C32: 修改内容 | G32: 日期 | H32: 签字
A33: =A8 -> K3801700&K3801707有机房控制柜作业指导书
A34: 指导书使用说明
A35: 1 | B35: 本指导书依据电气规格表K3801700、K3801707最新版编制；
A36: 2 | B36: 作业说明：双开门、物联网、停电柜、微动、地震管制、五方通话等为选配功能，提前开门功能等同于微动功能，请根据订单的选配信息选配；
A37: 3 | B37: 大线接线由装配人员接线；从协议转换板并线到其他功能的器件。
A38: 4 | B38: 接线表中采用的二极管参考对应明细表。
A39: 5 | B39: 线束压着、配线、装配作业规范参考SCX15-0025文件
A40: 5 | B40: 1、KB，型号：5557-10R，接触子：5556T 2、KC，型号：5557-24R，接触子：5556T 3、KD，型号：5557-20R，接触子：5556T 4、KP，型号：5557-18R，接触子：5556T 5、KZ，型号：5557-20R，接触子：5556T 6、KE，型号：5557-12R，接触子：5556T 7、KDP1，型号：5557-10R，接触子：5556T 8、KDP2，型号：5557-08R，接触子：5556T 9、KJ，型号：5557-04R，接触子：5556T 12、整合电源-J1,型号：5557-12R,接触子：5556T 13、整合电源-J2,型号：5557-14R,接触子：5556T 14、对讲机,型号：5557-6R,接触子：5556T 15、电子微动CN1,型号：5557-6R,接触子：5556T 16、电子微动CN2,型号：5557-10R,接触子：5556T 17、WD80,型号：12R头,接触子：218 18、XS，型号：5557-4R，接触子：5556T 19、JSQ，型号：9R，接触子：536 20、F26, 型号：5557-08R，接触子：5556T 21、F10, 型号：5557-04R，接触子：5556T 22、F3, 型号：04R，接触子：5556T
A41: 6 | B41: 滤波器安装方位如右图所示，其中左边“LINE”为“线路”，右边“LOAD”为“负载”，标识“1”、“2”如图所示，按照该标识接线。
A42: 7 | B42: G·Plus，MAX-E,GVHⅡ或变频器使用G12C 或变频器大于30kw时增加相序继电器（XWJ）相关接线，1、MAX-E,G·Exc,G·Plus,GVHⅡ,G·Fre,GVH,G·wiz,G·wiz-B,ESW(G20)不配接地保护装置，其相关接线短接；2、G·Fre,GVH,不配封星接触器； 3.G·PLUS,GVHⅡ,GVH,G·FRE,MAX-E,G·EXC，层站为24站以上时或提升高度>70米时增加高层站线路（不包括24层不包括70米）； 其他梯种， 层站为29站以上时或提升高度>80米时增加高层站（不包括29层不包括80米）；
A43: 8 | B43: 空气开关接线端如右图所示，其中左边红圈处“进线端LINE”分别为“1、3、5”，右边红圈处“出线端LOAD”分别为“2、4、6”，按照该标识接线。
A44: 序号 | B44: 始端 | C44: 末端 | D44: 始端处理 | E44: 末端处理 | F44: 作业 | G44: 线径 | H44: 组装 | I44: G20线长 | J44: G12C小功率线长 | K44: 货梯大功率线长
A45: KC（24位）
A46: 1 | B46: =VLOOKUP(A46,[1]数据库!A:H,2,FALSE) -> KC/1 | C46: =VLOOKUP(A46,[1]数据库!A:H,3,FALSE) -> MSC/1 | D46: =VLOOKUP(A46,[1]数据库!A:H,6,FALSE) -> 5556T | E46: =VLOOKUP(A46,[1]数据库!A:H,7,FALSE) -> 红4 | F46: =VLOOKUP(A46,[1]数据库!A:H,4,FALSE) -> 标准 | G46: =VLOOKUP(A46,[1]数据库!A:H,5,FALSE) -> 0.5黑 | H46: =VLOOKUP(A46,[1]数据库!A:L,12,FALSE) -> KC/1 | I46: 660 | J46: =VLOOKUP(A46,[1]数据库!A:K,9,FALSE) -> 1590 | K46: =VLOOKUP(A46,[1]数据库!A:K,10,FALSE) -> 1650
A47: 2 | B47: =VLOOKUP(A47,[1]数据库!A:H,2,FALSE) -> KC/2 | C47: =VLOOKUP(A47,[1]数据库!A:H,3,FALSE) -> MC/A1 | D47: =VLOOKUP(A47,[1]数据库!A:H,6,FALSE) -> 5556T | E47: =VLOOKUP(A47,[1]数据库!A:H,7,FALSE) -> 红4 | F47: =VLOOKUP(A47,[1]数据库!A:H,4,FALSE) -> 标准 | G47: =VLOOKUP(A47,[1]数据库!A:H,5,FALSE) -> 0.5黑 | H47: =VLOOKUP(A47,[1]数据库!A:L,12,FALSE) -> KC/2 | I47: =VLOOKUP(A47,[1]数据库!A:I,8,FALSE) -> 0 | J47: =VLOOKUP(A47,[1]数据库!A:K,9,FALSE) -> 1700 | K47: =VLOOKUP(A47,[1]数据库!A:K,10,FALSE) -> 1760
A48: 3 | B48: =VLOOKUP(A48,[1]数据库!A:H,2,FALSE) -> KC/3 | C48: =VLOOKUP(A48,[1]数据库!A:H,3,FALSE) -> FJSA/13 | D48: =VLOOKUP(A48,[1]数据库!A:H,6,FALSE) -> 5556T | E48: =VLOOKUP(A48,[1]数据库!A:H,7,FALSE) -> 红4 | F48: =VLOOKUP(A48,[1]数据库!A:H,4,FALSE) -> 标准 | G48: =VLOOKUP(A48,[1]数据库!A:H,5,FALSE) -> 0.5黑 | H48: =VLOOKUP(A48,[1]数据库!A:L,12,FALSE) -> KC/3 | I48: =VLOOKUP(A48,[1]数据库!A:I,8,FALSE) -> 0 | J48: =VLOOKUP(A48,[1]数据库!A:K,9,FALSE) -> 2170 | K48: =VLOOKUP(A48,[1]数据库!A:K,10,FALSE) -> 2330
A49: 4 | B49: =VLOOKUP(A49,[1]数据库!A:H,2,FALSE) -> KC/4 | C49: =VLOOKUP(A49,[1]数据库!A:H,3,FALSE) -> MC/A2 | D49: =VLOOKUP(A49,[1]数据库!A:H,6,FALSE) -> 5556T | E49: =VLOOKUP(A49,[1]数据库!A:H,7,FALSE) -> 红4 | F49: =VLOOKUP(A49,[1]数据库!A:H,4,FALSE) -> 标准 | G49: =VLOOKUP(A49,[1]数据库!A:H,5,FALSE) -> 0.5黑 | H49: =VLOOKUP(A49,[1]数据库!A:L,12,FALSE) -> KC/4 | I49: =VLOOKUP(A49,[1]数据库!A:I,8,FALSE) -> 0 | J49: =VLOOKUP(A49,[1]数据库!A:K,9,FALSE) -> 1680 | K49: =VLOOKUP(A49,[1]数据库!A:K,10,FALSE) -> 1750
A50: 5 | B50: =VLOOKUP(A50,[1]数据库!A:H,2,FALSE) -> #N/A | C50: =VLOOKUP(A50,[1]数据库!A:H,3,FALSE) -> #N/A | D50: =VLOOKUP(A50,[1]数据库!A:H,6,FALSE) -> #N/A | E50: =VLOOKUP(A50,[1]数据库!A:H,7,FALSE) -> #N/A | F50: =VLOOKUP(A50,[1]数据库!A:H,4,FALSE) -> #N/A | G50: =VLOOKUP(A50,[1]数据库!A:H,5,FALSE) -> #N/A | H50: =VLOOKUP(A50,[1]数据库!A:L,12,FALSE) -> #N/A | I50: =VLOOKUP(A50,[1]数据库!A:I,8,FALSE) -> #N/A | J50: =VLOOKUP(A50,[1]数据库!A:K,9,FALSE) -> #N/A | K50: =VLOOKUP(A50,[1]数据库!A:K,10,FALSE) -> #N/A
A51: 6 | B51: =VLOOKUP(A51,[1]数据库!A:H,2,FALSE) -> KC/6 | C51: =VLOOKUP(A51,[1]数据库!A:H,3,FALSE) -> MC1/A2 | D51: =VLOOKUP(A51,[1]数据库!A:H,6,FALSE) -> 5556T | E51: =VLOOKUP(A51,[1]数据库!A:H,7,FALSE) -> 红4 | F51: =VLOOKUP(A51,[1]数据库!A:H,4,FALSE) -> 有封星接触器时 | G51: =VLOOKUP(A51,[1]数据库!A:H,5,FALSE) -> 0.5黑 | H51: =VLOOKUP(A51,[1]数据库!A:L,12,FALSE) -> KC/6 | I51: =VLOOKUP(A51,[1]数据库!A:I,8,FALSE) -> 0 | J51: =VLOOKUP(A51,[1]数据库!A:K,9,FALSE) -> 1650 | K51: =VLOOKUP(A51,[1]数据库!A:K,10,FALSE) -> 1690
A52: 7 | B52: =VLOOKUP(A52,[1]数据库!A:H,2,FALSE) -> KC/7 | C52: =VLOOKUP(A52,[1]数据库!A:H,3,FALSE) -> MSC/A1 | D52: =VLOOKUP(A52,[1]数据库!A:H,6,FALSE) -> 5556T | E52: =VLOOKUP(A52,[1]数据库!A:H,7,FALSE) -> 红4 | F52: =VLOOKUP(A52,[1]数据库!A:H,4,FALSE) -> 标准 | G52: =VLOOKUP(A52,[1]数据库!A:H,5,FALSE) -> 0.5黑 | H52: =VLOOKUP(A52,[1]数据库!A:L,12,FALSE) -> KC/7 | I52: =VLOOKUP(A52,[1]数据库!A:I,8,FALSE) -> 0 | J52: =VLOOKUP(A52,[1]数据库!A:K,9,FALSE) -> 1580 | K52: =VLOOKUP(A52,[1]数据库!A:K,10,FALSE) -> 1620
A53: 8 | B53: =VLOOKUP(A53,[1]数据库!A:H,2,FALSE) -> KC/8 | C53: =VLOOKUP(A53,[1]数据库!A:H,3,FALSE) -> MSC/A2 | D53: =VLOOKUP(A53,[1]数据库!A:H,6,FALSE) -> 5556T | E53: =VLOOKUP(A53,[1]数据库!A:H,7,FALSE) -> 红4 | F53: =VLOOKUP(A53,[1]数据库!A:H,4,FALSE) -> 标准 | G53: =VLOOKUP(A53,[1]数据库!A:H,5,FALSE) -> 0.5黑 | H53: =VLOOKUP(A53,[1]数据库!A:L,12,FALSE) -> KC/8 | I53: =VLOOKUP(A53,[1]数据库!A:I,8,FALSE) -> 0 | J53: =VLOOKUP(A53,[1]数据库!A:K,9,FALSE) -> 1580 | K53: =VLOOKUP(A53,[1]数据库!A:K,10,FALSE) -> 1620
A54: 9 | B54: =VLOOKUP(A54,[1]数据库!A:H,2,FALSE) -> KC/9 | C54: =VLOOKUP(A54,[1]数据库!A:H,3,FALSE) -> MC1/A1 | D54: =VLOOKUP(A54,[1]数据库!A:H,6,FALSE) -> 5556T | E54: =VLOOKUP(A54,[1]数据库!A:H,7,FALSE) -> 红4 | F54: =VLOOKUP(A54,[1]数据库!A:H,4,FALSE) -> 有封星接触器时 | G54: =VLOOKUP(A54,[1]数据库!A:H,5,FALSE) -> 0.5黑 | H54: =VLOOKUP(A54,[1]数据库!A:L,12,FALSE) -> KC/9 | I54: =VLOOKUP(A54,[1]数据库!A:I,8,FALSE) -> 0 | J54: =VLOOKUP(A54,[1]数据库!A:K,9,FALSE) -> 1650 | K54: =VLOOKUP(A54,[1]数据库!A:K,10,FALSE) -> 1690
A55: 10 | B55: =VLOOKUP(A55,[1]数据库!A:H,2,FALSE) -> KC/9 | C55: =VLOOKUP(A55,[1]数据库!A:H,3,FALSE) -> XWJ/11 | D55: =VLOOKUP(A55,[1]数据库!A:H,6,FALSE) -> 5556T | E55: =VLOOKUP(A55,[1]数据库!A:H,7,FALSE) -> 红针 | F55: =VLOOKUP(A55,[1]数据库!A:H,4,FALSE) -> 无封星接触器+有相序 | G55: =VLOOKUP(A55,[1]数据库!A:H,5,FALSE) -> 0.5黑 | H55: =VLOOKUP(A55,[1]数据库!A:L,12,FALSE) -> 0 | I55: =VLOOKUP(A55,[1]数据库!A:I,8,FALSE) -> 0 | J55: =VLOOKUP(A55,[1]数据库!A:K,9,FALSE) -> 0 | K55: =VLOOKUP(A55,[1]数据库!A:K,10,FALSE) -> 0
A56: 11 | B56: =VLOOKUP(A56,[1]数据库!A:H,2,FALSE) -> KC/9 | C56: =VLOOKUP(A56,[1]数据库!A:H,3,FALSE) -> FTK/2 | D56: =VLOOKUP(A56,[1]数据库!A:H,6,FALSE) -> 5556T | E56: =VLOOKUP(A56,[1]数据库!A:H,7,FALSE) -> 红4 | F56: =VLOOKUP(A56,[1]数据库!A:H,4,FALSE) -> 无封星接触器+无相序 | G56: =VLOOKUP(A56,[1]数据库!A:H,5,FALSE) -> 0.5黑 | H56: =VLOOKUP(A56,[1]数据库!A:L,12,FALSE) -> 0 | I56: =VLOOKUP(A56,[1]数据库!A:I,8,FALSE) -> 0 | J56: =VLOOKUP(A56,[1]数据库!A:K,9,FALSE) -> 0 | K56: =VLOOKUP(A56,[1]数据库!A:K,10,FALSE) -> 0
A57: 12 | B57: =VLOOKUP(A57,[1]数据库!A:H,2,FALSE) -> KC/12 | C57: =VLOOKUP(A57,[1]数据库!A:H,3,FALSE) -> FJA/24 | D57: =VLOOKUP(A57,[1]数据库!A:H,6,FALSE) -> 5556T | E57: =VLOOKUP(A57,[1]数据库!A:H,7,FALSE) -> 红4 | F57: =VLOOKUP(A57,[1]数据库!A:H,4,FALSE) -> 标准 | G57: =VLOOKUP(A57,[1]数据库!A:H,5,FALSE) -> 0.5黑 | H57: =VLOOKUP(A57,[1]数据库!A:L,12,FALSE) -> KC/12 | I57: =VLOOKUP(A57,[1]数据库!A:I,8,FALSE) -> 0 | J57: =VLOOKUP(A57,[1]数据库!A:K,9,FALSE) -> 2230 | K57: =VLOOKUP(A57,[1]数据库!A:K,10,FALSE) -> 2430
A58: 13 | B58: =VLOOKUP(A58,[1]数据库!A:H,2,FALSE) -> KC/13 | C58: =VLOOKUP(A58,[1]数据库!A:H,3,FALSE) -> FTK/1 | D58: =VLOOKUP(A58,[1]数据库!A:H,6,FALSE) -> 5556T | E58: =VLOOKUP(A58,[1]数据库!A:H,7,FALSE) -> 红4 | F58: =VLOOKUP(A58,[1]数据库!A:H,4,FALSE) -> 非钢带梯/非异步货梯 | G58: =VLOOKUP(A58,[1]数据库!A:H,5,FALSE) -> 0.5黑 | H58: =VLOOKUP(A58,[1]数据库!A:L,12,FALSE) -> KC/13 | I58: =VLOOKUP(A58,[1]数据库!A:I,8,FALSE) -> 0 | J58: =VLOOKUP(A58,[1]数据库!A:K,9,FALSE) -> 2130 | K58: =VLOOKUP(A58,[1]数据库!A:K,10,FALSE) -> 2310
... A61: 16 | B61: =VLOOKUP(A61,[1]数据库!A:H,2,FALSE) -> KC/18 | C61: =VLOOKUP(A61,[1]数据库!A:H,3,FALSE) -> FJA/13 | D61: =VLOOKUP(A61,[1]数据库!A:H,6,FALSE) -> 5556T | E61: =VLOOKUP(A61,[1]数据库!A:H,7,FALSE) -> 红4 | F61: =VLOOKUP(A61,[1]数据库!A:H,4,FALSE) -> 标准 | G61: =VLOOKUP(A61,[1]数据库!A:H,5,FALSE) -> 0.5黑 | H61: =VLOOKUP(A61,[1]数据库!A:L,12,FALSE) -> KC/18 | I61: =VLOOKUP(A61,[1]数据库!A:I,8,FALSE) -> 0 | J61: =VLOOKUP(A61,[1]数据库!A:K,9,FALSE) -> 2230 | K61: =VLOOKUP(A61,[1]数据库!A:K,10,FALSE) -> 2410
...
