Workbook

Sheet G20有机房接线表 
A1: G20有机房接线表 | B1: 配线表-G20有机房线束表 | I1: 编号 | J1: WI-PM-KXXX
I2: 页码 | J2: 共6页
A3: K3801707 | C3: 适用G20有机房（速度≤2.5M/S） | I3: 版本 | J3: V06
I4: 作业 | J4: 备注
A5: 插件说明：KB/10位 KC/24位 KD/20位 KDP1/10位 KDP2/8位 KE/12位 KJ/4位 KP/18位 KZ/20位 CN1/6位 CN2/10位 | J5: 2024-6-14修改
A6: 序号 | B6: 始端 | C6: 末端 | D6: 线径 | E6: G20线长 | F6: 始端处理 | G6: 末端处理 | H6: 作业 | I6: 组装
A7: KC（24位）
A8: 1 | B8: KC/1 | C8: MSC/1 | D8: 0.5黑 | E8: 660 | F8: 5556T | G8: 红4 | H8: 标准 | I8: KC/1
A9: 2 | B9: KC/2 | C9: MC/A1 | D9: 0.5黑 | E9: 790 | F9: 5556T | G9: 红4 | H9: 标准 | I9: KC/2
A10: 3 | B10: KC/3 | C10: FJXA/13 | D10: 0.5黑 | E10: 1210 | F10: 5556T | G10: 红4 | H10: 标准 | I10: KC/3
A11: 4 | B11: KC/4 | C11: MC/A2 | D11: 0.5黑 | E11: 900 | F11: 5556T | G11: 红4 | H11: 标准 | I11: KC/4
A12: 5 | B12: KC/5 | C12: BZC/A2 | D12: 0.5黑 | E12: 720 | F12: 5556T | G12: 红4 | H12: 标准 | I12: KC/5
A13: 6 | B13: KC/6 | C13: MC1/A2 | D13: 0.5黑 | E13: 720 | F13: 5556T | G13: 红4 | H13: 有封星接触器时 | I13: KC/6
A14: 7 | B14: KC/7 | C14: MSC/A1 | D14: 0.5黑 | E14: 640 | F14: 5556T | G14: 红4 | H14: 标准 | I14: KC/7
A15: 8 | B15: KC/8 | C15: MSC/A2 | D15: 0.5黑 | E15: 750 | F15: 5556T | G15: 红4 | H15: 标准 | I15: KC/8
A16: 9 | B16: KC/9 | C16: MC1/A1 | D16: 0.5黑 | E16: 670 | F16: 5556T | G16: 红4 | H16: 有封星接触器时 | I16: KC/9
A17: 10 | B17: KC/12 | C17: FJA/24 | D17: 0.5黑 | E17: 1120 | F17: 5556T | G17: 红4 | H17: 标准 | I17: KC/12
A18: 11 | B18: KC/13 | C18: FTK/1 | D18: 0.5黑 | E18: 1030 | F18: 5556T | G18: 红4 | H18: 非钢带梯/非异步货梯 | I18: KC/13
A19: 12 | B19: KC/15 | C19: FJK/14 | D19: 0.5黑 | E19: 1000 | F19: 5556T | G19: 红4 | H19: 标准 | I19: KC/15
A20: 13 | B20: KC/18 | C20: FJA/13 | D20: 0.5黑 | E20: 1130 | F20: 5556T | G20: 红4 | H20: 标准 | I20: KC/18
A21: KD（20位）
A22: 14 | B22: KD/1 | C22: FJSA/4 | D22: 0.5黑 | E22: 1120 | F22: 5556T | G22: 蓝4 | H22: 标准 | I22: KD/1 | J22: 检修上行
A23: 15 | B23: KD/2 | C23: FJXA/4 | D23: 0.5黑 | E23: 1220 | F23: 5556T | G23: 蓝4 | H23: 标准 | I23: KD/2 | J23: 检修回路
A24: 16 | B24: KD/4 | C24: FJK/2 | D24: 0.5黑 | E24: 1090 | F24: 5556T | G24: 蓝4 | H24: 标准 | I24: KD/4 | J24: 检修下行
A25: 17 | B25: KD/8 | C25: MC1/54 | D25: 0.5黑 | E25: 900 | F25: 5556T | G25: 红4 | H25: 有封星接触器+速度≤2.5M/S | I25: KD/8
A26: 18 | B26: KD/9 | C26: BZC/62(22) | D26: 0.5黑 | E26: 740 | F26: 5556T | G26: 红4 | H26: 标准 | I26: KD/9
A27: 19 | B27: KD/10 | C27: MC/62(22) | D27: 0.5黑 | E27: 920 | F27: 5556T | G27: 红4 | H27: 标准 | I27: KD/10
A28: 20 | B28: KD/11 | C28: MSC/62(22) | D28: 0.5黑 | E28: 830 | F28: 5556T | G28: 红4 | H28: 标准 | I28: KD/11
A29: 21 | B29: KD/13 | C29: MSC/61(21) | D29: 0.5黑 | E29: 710 | F29: 5556T | G29: 红4 | H29: 无接地保护装置时 | I29: KD/13
A30: 22 | B30: KD/19 | C30: FJK/1 | D30: 0.5黑 | E30: 1080 | F30: 5556T | G30: 蓝4 | H30: G20系统时 | I30: 0 | J30: 检修电源公共端
A31: KB（10位）
A32: 23 | B32: KB/2 | C32: MC/63(43) | D32: 0.5黑 | E32: 820 | F32: 5556T | G32: 红4 | H32: 标准（无机房） | I32: KB/2 | J32: 抱闸回路接线
A33: 24 | B33: KB/3 | C33: MC/63(43) | D33: 0.5黑 | E33: 820 | F33: 5556T | G33: 红4 | H33: 标准（无机房） | I33: KB/3
A34: 25 | B34: KB/10 | C34: MC/53(13) | D34: 0.5黑 | E34: 790 | F34: 5556T | G34: 红4 | H34: 标准 | I34: KB/10
A35: KP（18位） | F35: 25 | G35: 21
A36: 26 | B36: BKP/CN3/+24V | C36: CE24（DC24V+） | D36: 0.5黑 | E36: 660 | F36: 橙针 | G36: 半剥13 | H36: 标准
A37: 27 | B37: KDP2/1 | C37: CE24(DC24V+) | D37: 0.5黑 | E37: 700 | F37: 5556T | G37: 半剥13 | H37: 标准
A38: 28 | B38: BZC/61(21) | C38: CE24（DC24V+） | D38: 0.5黑 | E38: 660 | F38: 红4 | G38: 半剥13 | H38: 标准 | I38: 0 | J38: 抱闸检测
A39: 29 | B39: KDP2/1 | C39: CE24（DC24V+） | D39: 0.5黑 | E39: 800 | F39: 5556T | G39: 半剥13 | H39: 标准 | I39: KDP2/1（DC24V+）
A40: 30 | B40: BZC/61(21) | C40: MSC/61(21) | D40: 0.5黑 | E40: 280 | F40: 红4 | G40: 红4 | H40: 标准 | I40: 0 | J40: 门锁检测
A41: 31 | B41: MSC/61(21) | C41: MC/61(21) | D41: 0.5黑 | E41: 350 | F41: 红4 | G41: 红4 | H41: 标准 | I41: 0 | J41: 运行检测
A42: 32 | B42: MC/61(21) | C42: MC1/53 | D42: 0.5黑 | E42: 350 | F42: 红4 | G42: 红4 | H42: 有封星接触器+速度≤2.5M/S | I42: 0 | J42: 封星检测
A43: 33 | B43: KP/5 | C43: LBQ1/负载1 | D43: 0.75黑 | E43: 660 | F43: 5556T | G43: 红全封 | H43: 标准 | I43: KP/5 | J43: AC220V
A44: 34 | B44: KP/7 | C44: LBQ1/负载2 | D44: 0.75黑 | E44: 660 | F44: 5556T | G44: 红全封 | H44: 标准 | I44: KP/7
A45: 35 | B45: KP/9 | C45: LBQ1/线路1 | D45: 0.75黑 | E45: 530 | F45: 5556T | G45: 红全封 | H45: 标准 | I45: KP/9
A46: 36 | B46: KP/10 | C46: LBQ1/线路2 | D46: 0.75黑 | E46: 530 | F46: 5556T | G46: 红全封 | H46: 标准 | I46: KP/10
A47: KZ（20位）
A48: 36 | B48: KZ/1 | C48: 对讲机/+ | D48: 0.5黑 | E48: 1060 | F48: 5556T | G48: 红4 | H48: 标准 | I48: KZ/1 | J48: 对讲机标配
A49: 37 | B49: KZ/3 | C49: 对讲机/- | D49: 0.5黑 | E49: 1060 | F49: 5556T | G49: 红4 | H49: 标准 | I49: KZ/3
A50: 38 | B50: KZ/4 | C50: 对讲机/R | D50: 0.5黑 | E50: 1040 | F50: 5556T | G50: 红4(遥/123:蓝4) | H50: 标准 | I50: KZ/4
A51: 39 | B51: KZ/5 | C51: 对讲机/L | D51: 0.5黑 | E51: 1040 | F51: 5556T | G51: 红4(遥/124:蓝4) | H51: 标准 | I51: KZ/5
A52: AC110电源输入
A53: 40 | B53: QFB2/1 | C53: 端子排/T | D53: 0.75黑 | E53: 430 | F53: 红针 | G53: 剥线 12 | H53: 标准 | I53: 0 | J53: 安全供电回路
A54: 41 | B54: QFB2/1 | C54: BYQ/3(220V) | D54: 0.75黑 | E54: 1160 | G54: 红4 | H54: 标准
A55: 42 | B55: QFB2/QN | C55: 端子排/N | D55: 0.75黑 | E55: 430 | F55: 红针 | G55: 剥线 12 | H55: 标准
A56: 43 | B56: QFB2/QN | C56: BYQ/1(0V) | D56: 0.75黑 | E56: 1160 | G56: 红针 | H56: 标准 | I56: 0
A57: 44 | B57: BYQ/6(110V) | C57: QFB1/1 | D57: 0.75黑 | E57: 1250 | F57: 红针 | G57: 红针 | H57: 标准 | I57: 0
A58: 45 | B58: QFB1/QN | C58: BYQ/5(0V) | D58: 0.75黑 | E58: 1250 | F58: 红针 | G58: 红针 | H58: 标准 | I58: 0
A59: 46 | B59: QFB1/QN | C59: 接地端子排PE | D59: 2.5黄绿 | E59: 790 | G59: 蓝6圆 | H59: 标准 | I59: 0
A60: 47 | B60: BYQ/PE | C60: 接地端子排PE | D60: 2.5黄绿 | E60: 1450 | F60: 蓝4圆 | G60: 蓝4圆 | H60: 标准 | I60: 0
A61: 48 | B61: QFB1/2 | C61: KDP1/1 | D61: 0.75黑 | E61: 840 | F61: 红针 | G61: 5556T | H61: 标准 | I61: KDP1/1
A62: 49 | B62: QFB1/2 | C62: KDP1/2 | D62: 0.75黑 | E62: 840 | G62: 5556T | H62: 标准 | I62: KDP1/2
A63: 50 | B63: QFB1/HN | C63: KDP1/6 | D63: 0.75黑 | E63: 840 | F63: 红针 | G63: 5556T | H63: 标准 | I63: KDP1/6
A64: 51 | B64: QFB1/HN | C64: KDP1/7 | D64: 0.75黑 | E64: 840 | G64: 5556T | H64: 标准 | I64: KDP1/7
A65: 52 | B65: QFB2/2 | C65: KP/1 | D65: 0.75黑 | E65: 810 | F65: 红针 | G65: 5556T | H65: 标准 | I65: KP/1
A66: 53 | B66: QFB2/HN | C66: KP/3 | D66: 0.75黑 | E66: 810 | F66: 红针 | G66: 5556T | H66: 标准 | I66: KP/3
A67: BKP抱闸电源板 | J67: 抱闸电源及24V电源回路
A68: 54 | B68: QFB2/2 | C68: BKP/L | D68: 0.75黑 | E68: 980 | F68: 红针 | G68: 红4 | H68: 标准 | I68: 0
A69: 55 | B69: QFB2/HN | C69: BKP/N | D69: 0.75黑 | E69: 980 | F69: 红针 | G69: 红4 | H69: 标准 | I69: 0
A70: 56 | B70: BKP/GND | C70: BZC/2 | D70: 0.5黑 | E70: 900 | F70: 红4 | G70: 红4 | H70: 标准 | I70: 0
A71: 57 | B71: BKP/+110V | C71: BZC/4 | D71: 0.5黑 | E71: 900 | F71: 红4 | G71: 红4 | H71: 标准 | I71: 0
A72: 58 | B72: BKP/PE | C72: 接地端子排PE | D72: 2.5黄绿 | E72: 1220 | F72: 红4 | G72: 蓝4圆 | H72: 标准 | I72: 0
A73: 59 | B73: BKP/COM | C73: KDP2/2 | D73: 0.5黑 | E73: 1130 | F73: 红针 | G73: 5556T | H73: 标准 | I73: KDP2/2（DC24V-）
A74: 60 | B74: BKP/X2 | C74: BZC/14 | D74: 0.5黑 | E74: 950 | F74: 红针 | G74: 红4 | H74: 标准 | I74: 0 | J74: 抱闸使能待确认
A75: 61 | B75: BKP/XC | C75: BZC/13 | D75: 0.5黑 | E75: 810 | F75: 红针 | G75: 红4 | H75: 标准 | I75: 0
A76: 整合电源接线
A77: J1
A78: 62 | B78: J1/1 | C78: 接地端子排PE | D78: 0.75黄绿 | E78: 1320 | F78: 5556T | G78: 蓝4圆 | H78: 标准 | J78: 当有机房控制柜适用整合电源时，电源回路按此接线
A79: 63 | B79: J1/7 | C79: 接地端子排PE | D79: 0.75黄绿 | E79: 1320 | F79: 5556T | G79: 蓝4圆 | H79: 标准
A80: 64 | B80: J1/3 | C80: 端子排/T | D80: 0.75黑 | E80: 1240 | F80: 5556T | G80: 剥线13 | H80: 标准
A81: 65 | B81: J1/9 | C81: 端子排/N | D81: 0.75黑 | E81: 1240 | F81: 5556T | G81: 剥线13 | H81: 标准
A82: 66 | B82: J1/4 | C82: QFB2/1 | D82: 0.75黑 | E82: 970 | F82: 5556T | G82: 红针 | H82: 标准
A83: 67 | B83: J1/10 | C83: QFB2/QN | D83: 0.75黑 | E83: 970 | F83: 5556T | G83: 红针 | H83: 标准
A84: 68 | B84: QFB2/2 | C84: KP/1 | D84: 0.75黑 | E84: 800 | F84: 红针 | G84: 5556T | H84: 标准
A85: 69 | B85: QFB2/HN | C85: KP/3 | D85: 0.75黑 | E85: 800 | F85: 红针 | G85: 5556T | H85: 标准
A86: 70 | B86: J1/6 | C86: BZC/4 | D86: 0.5黑 | E86: 950 | F86: 5556T | G86: 红4 | H86: 标准 | I86: DC110V+
A87: 71 | B87: J1/12 | C87: BZC/2 | D87: 0.5黑 | E87: 960 | F87: 5556T | G87: 红4 | H87: 标准 | I87: DC110V-
A88: J2
A89: 72 | B89: J2/3 | C89: KDP2/2 | D89: 0.5黑 | E89: 1050 | F89: 5556T | G89: 5556T | H89: 标准 | I89: DC24V-
A90: 73 | B90: J2/3 | C90: CE24N（DC24V-） | D90: 0.5黑 | E90: 700 | F90: 5556T | G90: 半剥13 | H90: 标准 | I90: 当有数字视频传输时增加此接线
A91: 74 | B91: J2/5 | C91: CE24(DC24V+) | D91: 0.5黑 | E91: 700 | F91: 5556T | G91: 半剥13 | H91: 标准
A92: 75 | B92: KDP2/1 | C92: CE24(DC24V+) | D92: 0.5黑 | E92: 700 | F92: 5556T | G92: 半剥13 | H92: 标准
A93: 76 | B93: BZC/61(21) | C93: CE24(DC24V+) | D93: 0.5黑 | E93: 660 | F93: 红4 | G93: 半剥13 | H93: 标准
A94: 77 | B94: BZC/61(21) | C94: MSC/61(21) | D94: 0.5黑 | E94: 280 | F94: 红4 | G94: 红4 | H94: 标准
A95: 78 | B95: MSC/61(21) | C95: MC/61(21) | D95: 0.5黑 | E95: 350 | F95: 红4 | G95: 红4 | H95: 标准
A96: 79 | B96: MC/61(21) | C96: MC1/53 | D96: 0.5黑 | E96: 340 | F96: 红4 | G96: 红4 | H96: 标准
A97: 80 | B97: J2/10 | C97: KDP2/8 | D97: 0.5黑 | E97: 1050 | F97: 5556T | G97: 5556T | H97: 标准 | I97: 抱闸使能待确认
A98: 81 | B98: J2/7 | C98: KDP1/1 | D98: 0.75黑 | E98: 1015 | F98: 5556T | G98: 5556T | H98: 标准 | I98: AC110V/L
A99: 82 | B99: J2/14 | C99: KDP1/6 | D99: 0.75黑 | E99: 1015 | F99: 5556T | G99: 5556T | H99: 标准 | I99: AC110V/N
A100: 83 | B100: J2/11 | C100: KDP2/5 | D100: 0.5黑 | E100: 1050 | F100: 5556T | G100: 5556T | H100: 标准 | I100: 485+
...

Sheet G20有机房裁线表
A1: G20有机房-标准作业裁线表-KS402375-A
A2: 0.5黑线 | E2: 0.5黑线
A3: 序号 | B3: 线长 | C3: 数量 | E3: 序号 | F3: 线长 | G3: 数量
A4: 1 | B4: 100 | C4: 1 | E4: 34 | F4: 1080 | G4: 1
A5: 2 | B5: 120 | C5: 2 | E5: 35 | F5: 1090 | G5: 1
A6: 3 | B6: 150 | C6: 2 | E6: 36 | F6: 1120 | G6: 2
A7: 4 | B7: 170 | C7: 1 | E7: 37 | F7: 1130 | G7: 2
A8: 5 | B8: 280 | C8: 2 | E8: 38 | F8: 1210 | G8: 1
A9: 6 | B9: 340 | C9: 1 | E9: 39 | F9: 1220 | G9: 1
A10: 7 | B10: 350 | C10: 3 | E10: 0.75黑线
A11: 8 | B11: 370 | C11: 1 | E11: 序号 | F11: 线长 | G11: 数量
A12: 9 | B12: 400 | C12: 2 | E12: 1 | F12: 430 | G12: 2
A13: 10 | B13: 480 | C13: 2 | E13: 2 | F13: 530 | G13: 2
A14: 11 | B14: 590 | C14: 1 | E14: 3 | F14: 660 | G14: 2
A15: 12 | B15: 640 | C15: 1 | E15: 4 | F15: 800 | G15: 2
A16: 13 | B16: 660 | C16: 4 | E16: 5 | F16: 810 | G16: 2
A17: 14 | B17: 670 | C17: 1 | E17: 6 | F17: 840 | G17: 4
A18: 15 | B18: 700 | C18: 5 | E18: 7 | F18: 970 | G18: 2
A19: 16 | B19: 710 | C19: 2 | E19: 8 | F19: 980 | G19: 2
A20: 17 | B20: 720 | C20: 2 | E20: 9 | F20: 1015 | G20: 2
A21: 18 | B21: 740 | C21: 1 | E21: 10 | F21: 1160 | G21: 2
A22: 19 | B22: 750 | C22: 1 | E22: 11 | F22: 1240 | G22: 2
A23: 20 | B23: 790 | C23: 2 | E23: 12 | F23: 1250 | G23: 2
A24: 21 | B24: 800 | C24: 1 | E24: 2.5黑线
A25: 22 | B25: 810 | C25: 1 | E25: 序号 | F25: 线长 | G25: 数量
A26: 23 | B26: 820 | C26: 2 | E26: 1 | F26: 250 | G26: 2
A27: 24 | B27: 830 | C27: 1 | E27: 2 | F27: 710 | G27: 1
A28: 25 | B28: 900 | C28: 4 | E28: 3 | F28: 730 | G28: 1
A29: 26 | B29: 920 | C29: 1 | E29: 0.75黄绿线
A30: 27 | B30: 940 | C30: 2 | E30: 序号 | F30: 线长 | G30: 数量
A31: 28 | B31: 960 | C31: 1 | E31: 1 | F31: 1320 | G31: 2
A32: 29 | B32: 1000 | C32: 2 | E32: 2.5黄绿线
A33: 30 | B33: 1030 | C33: 1 | E33: 序号 | F33: 线长 | G33: 数量
A34: 31 | B34: 1040 | C34: 2 | E34: 1 | F34: 790 | G34: 1
A35: 32 | B35: 1050 | C35: 4 | E35: 2 | F35: 1220 | G35: 1
A36: 33 | B36: 1060 | C36: 2 | E36: 3 | F36: 1450 | G36: 1
A37: 物联网作业裁线表-KS402375-B | E37: 访客功能作业裁线表-KS402375-G
A38: 0.5黑线 | E38: 0.5黑线
A39: 序号 | B39: 线长 | C39: 数量 | E39: 序号 | F39: 线长 | G39: 数量
A40: 1 | B40: 750 | C40: 4 | E40: 1 | F40: 630 | G40: 4
A41: 2 | B41: 720 | C41: 2 | E41: 2 | F41: 650 | G41: 4
A42: 五方总线对讲裁线表-KS402375-C | E42: 3 | F42: 780 | G42: 4
A43: 0.5黑线
A44: 序号 | B44: 线长 | C44: 数量
A45: 1 | B45: 200 | C45: 4 | E45: 访客功能作业裁线表-KS402375-H
A46: 数字视频传输作业裁线表-KS402375-D | E46: 0.5黑线
A47: 0.5黑线 | E47: 序号 | F47: 线长 | G47: 数量
A48: 序号 | B48: 线长 | C48: 数量 | E48: 1 | F48: 650 | G48: 4
A49: 1 | B49: 900 | C49: 2 | E49: 2 | F49: 680 | G49: 4
A50: 2 | B50: 1190 | C50: 2
A51: 0.75黄绿线 | E51: 远程语音救援功能作业裁线表-KS402375-J
A52: 序号 | B52: 线长 | C52: 数量 | E52: 0.5黑线
A53: 1 | B53: 1150 | C53: 1 | E53: 序号 | F53: 线长 | G53: 数量
A54: 微动平层作业裁线表-KS402375-E | E54: 1 | F54: 1680 | G54: 2
A55: 0.5黑线 | E55: 2 | F55: 2020 | G55: 2
A56: 序号 | B56: 线长 | C56: 数量 | E56: 0.75黄绿线
A57: 1 | B57: 280 | C57: 1 | E57: 序号 | F57: 线长 | G57: 数量
A58: 2 | B58: 450 | C58: 2 | E58: 1 | F58: 1350 | G58: 1
A59: 3 | B59: 460 | C59: 2
A60: 4 | B60: 700 | C60: 6
A61: 5 | B61: 870 | C61: 1
A62: 微动平层且是双开门增加下面2行-0.5黑线
A63: 序号 | B63: 线长 | C63: 数量
A64: 1 | B64: 300 | C64: 2
A65: 2 | B65: 800 | C65: 1
A66: 标准BA接口作业裁线表-KS402375-F
A67: 0.5黑线
A68: 序号 | B68: 线长 | C68: 数量
A69: 1 | B69: 650 | C69: 4

Sheet G20有机房接线表试制
G3: 文件编号：SCX23-0005
G4: 版 本 号：003
A8: K3801700&K3801707有机房控制柜作业指导书
A10: 仅适用于G·Plus，G·FRE，MAX-E(非G20),GVHⅡ,GVH，G·EXC(二合一电源)
A12: 编 制： 戴泽康 .
A14: 校 对： 关向明 .
A16: 审 核： 蔡一蓝 .
A24: 广州广日电梯有限公司
A25: 2023 年 7 月
C29: 修改高层站配置说明 | G29: 45133 | H29: 戴泽康
A30: 修改23-1151 | C30: 修改异步货梯接线，增加序号434.2,434.3 | G30: 45056 | H30: 戴泽康
C31: 修改KD/13和KC/13线路/线长 | G31: 45033 | H31: 关向明
A32: 修改号 | C32: 修改内容 | G32: 日期 | H32: 签字
A33: =A8 -> K3801700&K3801707有机房控制柜作业指导书
A34: 指导书使用说明
A35: 1 | B35: 本指导书依据电气规格表K3801700、K3801707最新版编制；
A36: 2 | B36: 作业说明：双开门、物联网、停电柜、微动、地震管制、五方通话等为选配功能，提前开门功能等同于微动功能，请根据订单的选配信息选配；
A37: 3 | B37: 大线接线由装配人员接线；从协议转换板并线到其他功能的器件。
A38: 4 | B38: 接线表中采用的二极管参考对应明细表。
A39: 5 | B39: 线束压着、配线、装配作业规范参考SCX15-0025文件
A40: 5 | B40: 1、KB，型号：5557-10R，接触子：5556T 2、KC，型号：5557-24R，接触子：5556T 3、KD，型号：5557-20R，接触子：5556T 4、KP，型号：5557-18R，接触子：5556T 5、KZ，型号：5557-20R，接触子：5556T 6、KE，型号：5557-12R，接触子：5556T 7、KDP1，型号：5557-10R，接触子：5556T 8、KDP2，型号：5557-08R，接触子：5556T 9、KJ，型号：5557-04R，接触子：5556T 12、整合电源-J1,型号：5557-12R,接触子：5556T 13、整合电源-J2,型号：5557-14R,接触子：5556T 14、对讲机,型号：5557-6R,接触子：5556T 15、电子微动CN1,型号：5557-6R,接触子：5556T 16、电子微动CN2,型号：5557-10R,接触子：5556T 17、WD80,型号：12R头,接触子：218 18、XS，型号：5557-4R，接触子：5556T 19、JSQ，型号：9R，接触子：536 20、F26, 型号：5557-08R，接触子：5556T 21、F10, 型号：5557-04R，接触子：5556T 22、F3, 型号：04R，接触子：5556T
A41: 6 | B41: 滤波器安装方位如右图所示，其中左边“LINE”为“线路”，右边“LOAD”为“负载”，标识“1”、“2”如图所示，按照该标识接线。
A42: 7 | B42: G·Plus，MAX-E,GVHⅡ或变频器使用G12C 或变频器大于30kw时增加相序继电器（XWJ）相关接线，1、MAX-E,G·Exc,G·Plus,GVHⅡ,G·Fre,GVH,G·wiz,G·wiz-B,ESW(G20)不配接地保护装置，其相关接线短接；2、G·Fre,GVH,不配封星接触器； 3.G·PLUS,GVHⅡ,GVH,G·FRE,MAX-E,G·EXC，层站为24站以上时或提升高度>70米时增加高层站线路（不包括24层不包括70米）； 其他梯种， 层站为29站以上时或提升高度>80米时增加高层站（不包括29层不包括80米）；
A43: 8 | B43: 空气开关接线端如右图所示，其中左边红圈处“进线端LINE”分别为“1、3、5”，右边红圈处“出线端LOAD”分别为“2、4、6”，按照该标识接线。
A44: 序号 | B44: 始端 | C44: 末端 | D44: 始端处理 | E44: 末端处理 | F44: 作业 | G44: 线径 | H44: 组装 | I44: G20线长 | J44: G12C小功率线长 | K44: 货梯大功率线长
A45: KC（24位）
A46: 1 | B46: =VLOOKUP(A46,[1]数据库!A:H,2,FALSE) -> KC/1 | C46: =VLOOKUP(A46,[1]数据库!A:H,3,FALSE) -> MSC/1 | D46: =VLOOKUP(A46,[1]数据库!A:H,6,FALSE) -> 5556T | E46: =VLOOKUP(A46,[1]数据库!A:H,7,FALSE) -> 红4 | F46: =VLOOKUP(A46,[1]数据库!A:H,4,FALSE) -> 标准 | G46: =VLOOKUP(A46,[1]数据库!A:H,5,FALSE) -> 0.5黑 | H46: =VLOOKUP(A46,[1]数据库!A:L,12,FALSE) -> KC/1 | I46: 660 | J46: =VLOOKUP(A46,[1]数据库!A:K,9,FALSE) -> 1590 | K46: =VLOOKUP(A46,[1]数据库!A:K,10,FALSE) -> 1650
A47: 2 | B47: =VLOOKUP(A47,[1]数据库!A:H,2,FALSE) -> KC/2 | C47: =VLOOKUP(A47,[1]数据库!A:H,3,FALSE) -> MC/A1 | D47: =VLOOKUP(A47,[1]数据库!A:H,6,FALSE) -> 5556T | E47: =VLOOKUP(A47,[1]数据库!A:H,7,FALSE) -> 红4 | F47: =VLOOKUP(A47,[1]数据库!A:H,4,FALSE) -> 标准 | G47: =VLOOKUP(A47,[1]数据库!A:H,5,FALSE) -> 0.5黑 | H47: =VLOOKUP(A47,[1]数据库!A:L,12,FALSE) -> KC/2 | I47: =VLOOKUP(A47,[1]数据库!A:I,8,FALSE) -> 0 | J47: =VLOOKUP(A47,[1]数据库!A:K,9,FALSE) -> 1700 | K47: =VLOOKUP(A47,[1]数据库!A:K,10,FALSE) -> 1760
A48: 3 | B48: =VLOOKUP(A48,[1]数据库!A:H,2,FALSE) -> KC/3 | C48: =VLOOKUP(A48,[1]数据库!A:H,3,FALSE) -> FJSA/13 | D48: =VLOOKUP(A48,[1]数据库!A:H,6,FALSE) -> 5556T | E48: =VLOOKUP(A48,[1]数据库!A:H,7,FALSE) -> 红4 | F48: =VLOOKUP(A48,[1]数据库!A:H,4,FALSE) -> 标准 | G48: =VLOOKUP(A48,[1]数据库!A:H,5,FALSE) -> 0.5黑 | H48: =VLOOKUP(A48,[1]数据库!A:L,12,FALSE) -> KC/3 | I48: =VLOOKUP(A48,[1]数据库!A:I,8,FALSE) -> 0 | J48: =VLOOKUP(A48,[1]数据库!A:K,9,FALSE) -> 2170 | K48: =VLOOKUP(A48,[1]数据库!A:K,10,FALSE) -> 2330
A49: 4 | B49: =VLOOKUP(A49,[1]数据库!A:H,2,FALSE) -> KC/4 | C49: =VLOOKUP(A49,[1]数据库!A:H,3,FALSE) -> MC/A2 | D49: =VLOOKUP(A49,[1]数据库!A:H,6,FALSE) -> 5556T | E49: =VLOOKUP(A49,[1]数据库!A:H,7,FALSE) -> 红4 | F49: =VLOOKUP(A49,[1]数据库!A:H,4,FALSE) -> 标准 | G49: =VLOOKUP(A49,[1]数据库!A:H,5,FALSE) -> 0.5黑 | H49: =VLOOKUP(A49,[1]数据库!A:L,12,FALSE) -> KC/4 | I49: =VLOOKUP(A49,[1]数据库!A:I,8,FALSE) -> 0 | J49: =VLOOKUP(A49,[1]数据库!A:K,9,FALSE) -> 1680 | K49: =VLOOKUP(A49,[1]数据库!A:K,10,FALSE) -> 1750
A50: 5 | B50: =VLOOKUP(A50,[1]数据库!A:H,2,FALSE) -> #N/A | C50: =VLOOKUP(A50,[1]数据库!A:H,3,FALSE) -> #N/A | D50: =VLOOKUP(A50,[1]数据库!A:H,6,FALSE) -> #N/A | E50: =VLOOKUP(A50,[1]数据库!A:H,7,FALSE) -> #N/A | F50: =VLOOKUP(A50,[1]数据库!A:H,4,FALSE) -> #N/A | G50: =VLOOKUP(A50,[1]数据库!A:H,5,FALSE) -> #N/A | H50: =VLOOKUP(A50,[1]数据库!A:L,12,FALSE) -> #N/A | I50: =VLOOKUP(A50,[1]数据库!A:I,8,FALSE) -> #N/A | J50: =VLOOKUP(A50,[1]数据库!A:K,9,FALSE) -> #N/A | K50: =VLOOKUP(A50,[1]数据库!A:K,10,FALSE) -> #N/A
A51: 6 | B51: =VLOOKUP(A51,[1]数据库!A:H,2,FALSE) -> KC/6 | C51: =VLOOKUP(A51,[1]数据库!A:H,3,FALSE) -> MC1/A2 | D51: =VLOOKUP(A51,[1]数据库!A:H,6,FALSE) -> 5556T | E51: =VLOOKUP(A51,[1]数据库!A:H,7,FALSE) -> 红4 | F51: =VLOOKUP(A51,[1]数据库!A:H,4,FALSE) -> 有封星接触器时 | G51: =VLOOKUP(A51,[1]数据库!A:H,5,FALSE) -> 0.5黑 | H51: =VLOOKUP(A51,[1]数据库!A:L,12,FALSE) -> KC/6 | I51: =VLOOKUP(A51,[1]数据库!A:I,8,FALSE) -> 0 | J51: =VLOOKUP(A51,[1]数据库!A:K,9,FALSE) -> 1650 | K51: =VLOOKUP(A51,[1]数据库!A:K,10,FALSE) -> 1690
A52: 7 | B52: =VLOOKUP(A52,[1]数据库!A:H,2,FALSE) -> KC/7 | C52: =VLOOKUP(A52,[1]数据库!A:H,3,FALSE) -> MSC/A1 | D52: =VLOOKUP(A52,[1]数据库!A:H,6,FALSE) -> 5556T | E52: =VLOOKUP(A52,[1]数据库!A:H,7,FALSE) -> 红4 | F52: =VLOOKUP(A52,[1]数据库!A:H,4,FALSE) -> 标准 | G52: =VLOOKUP(A52,[1]数据库!A:H,5,FALSE) -> 0.5黑 | H52: =VLOOKUP(A52,[1]数据库!A:L,12,FALSE) -> KC/7 | I52: =VLOOKUP(A52,[1]数据库!A:I,8,FALSE) -> 0 | J52: =VLOOKUP(A52,[1]数据库!A:K,9,FALSE) -> 1580 | K52: =VLOOKUP(A52,[1]数据库!A:K,10,FALSE) -> 1620
A53: 8 | B53: =VLOOKUP(A53,[1]数据库!A:H,2,FALSE) -> KC/8 | C53: =VLOOKUP(A53,[1]数据库!A:H,3,FALSE) -> MSC/A2 | D53: =VLOOKUP(A53,[1]数据库!A:H,6,FALSE) -> 5556T | E53: =VLOOKUP(A53,[1]数据库!A:H,7,FALSE) -> 红4 | F53: =VLOOKUP(A53,[1]数据库!A:H,4,FALSE) -> 标准 | G53: =VLOOKUP(A53,[1]数据库!A:H,5,FALSE) -> 0.5黑 | H53: =VLOOKUP(A53,[1]数据库!A:L,12,FALSE) -> KC/8 | I53: =VLOOKUP(A53,[1]数据库!A:I,8,FALSE) -> 0 | J53: =VLOOKUP(A53,[1]数据库!A:K,9,FALSE) -> 1580 | K53: =VLOOKUP(A53,[1]数据库!A:K,10,FALSE) -> 1620
A54: 9 | B54: =VLOOKUP(A54,[1]数据库!A:H,2,FALSE) -> KC/9 | C54: =VLOOKUP(A54,[1]数据库!A:H,3,FALSE) -> MC1/A1 | D54: =VLOOKUP(A54,[1]数据库!A:H,6,FALSE) -> 5556T | E54: =VLOOKUP(A54,[1]数据库!A:H,7,FALSE) -> 红4 | F54: =VLOOKUP(A54,[1]数据库!A:H,4,FALSE) -> 有封星接触器时 | G54: =VLOOKUP(A54,[1]数据库!A:H,5,FALSE) -> 0.5黑 | H54: =VLOOKUP(A54,[1]数据库!A:L,12,FALSE) -> KC/9 | I54: =VLOOKUP(A54,[1]数据库!A:I,8,FALSE) -> 0 | J54: =VLOOKUP(A54,[1]数据库!A:K,9,FALSE) -> 1650 | K54: =VLOOKUP(A54,[1]数据库!A:K,10,FALSE) -> 1690
A55: 10 | B55: =VLOOKUP(A55,[1]数据库!A:H,2,FALSE) -> KC/9 | C55: =VLOOKUP(A55,[1]数据库!A:H,3,FALSE) -> XWJ/11 | D55: =VLOOKUP(A55,[1]数据库!A:H,6,FALSE) -> 5556T | E55: =VLOOKUP(A55,[1]数据库!A:H,7,FALSE) -> 红针 | F55: =VLOOKUP(A55,[1]数据库!A:H,4,FALSE) -> 无封星接触器+有相序 | G55: =VLOOKUP(A55,[1]数据库!A:H,5,FALSE) -> 0.5黑 | H55: =VLOOKUP(A55,[1]数据库!A:L,12,FALSE) -> 0 | I55: =VLOOKUP(A55,[1]数据库!A:I,8,FALSE) -> 0 | J55: =VLOOKUP(A55,[1]数据库!A:K,9,FALSE) -> 0 | K55: =VLOOKUP(A55,[1]数据库!A:K,10,FALSE) -> 0
A56: 11 | B56: =VLOOKUP(A56,[1]数据库!A:H,2,FALSE) -> KC/9 | C56: =VLOOKUP(A56,[1]数据库!A:H,3,FALSE) -> FTK/2 | D56: =VLOOKUP(A56,[1]数据库!A:H,6,FALSE) -> 5556T | E56: =VLOOKUP(A56,[1]数据库!A:H,7,FALSE) -> 红4 | F56: =VLOOKUP(A56,[1]数据库!A:H,4,FALSE) -> 无封星接触器+无相序 | G56: =VLOOKUP(A56,[1]数据库!A:H,5,FALSE) -> 0.5黑 | H56: =VLOOKUP(A56,[1]数据库!A:L,12,FALSE) -> 0 | I56: =VLOOKUP(A56,[1]数据库!A:I,8,FALSE) -> 0 | J56: =VLOOKUP(A56,[1]数据库!A:K,9,FALSE) -> 0 | K56: =VLOOKUP(A56,[1]数据库!A:K,10,FALSE) -> 0
A57: 12 | B57: =VLOOKUP(A57,[1]数据库!A:H,2,FALSE) -> KC/12 | C57: =VLOOKUP(A57,[1]数据库!A:H,3,FALSE) -> FJA/24 | D57: =VLOOKUP(A57,[1]数据库!A:H,6,FALSE) -> 5556T | E57: =VLOOKUP(A57,[1]数据库!A:H,7,FALSE) -> 红4 | F57: =VLOOKUP(A57,[1]数据库!A:H,4,FALSE) -> 标准 | G57: =VLOOKUP(A57,[1]数据库!A:H,5,FALSE) -> 0.5黑 | H57: =VLOOKUP(A57,[1]数据库!A:L,12,FALSE) -> KC/12 | I57: =VLOOKUP(A57,[1]数据库!A:I,8,FALSE) -> 0 | J57: =VLOOKUP(A57,[1]数据库!A:K,9,FALSE) -> 2230 | K57: =VLOOKUP(A57,[1]数据库!A:K,10,FALSE) -> 2430
A58: 13 | B58: =VLOOKUP(A58,[1]数据库!A:H,2,FALSE) -> KC/13 | C58: =VLOOKUP(A58,[1]数据库!A:H,3,FALSE) -> FTK/1 | D58: =VLOOKUP(A58,[1]数据库!A:H,6,FALSE) -> 5556T | E58: =VLOOKUP(A58,[1]数据库!A:H,7,FALSE) -> 红4 | F58: =VLOOKUP(A58,[1]数据库!A:H,4,FALSE) -> 非钢带梯/非异步货梯 | G58: =VLOOKUP(A58,[1]数据库!A:H,5,FALSE) -> 0.5黑 | H58: =VLOOKUP(A58,[1]数据库!A:L,12,FALSE) -> KC/13 | I58: =VLOOKUP(A58,[1]数据库!A:I,8,FALSE) -> 0 | J58: =VLOOKUP(A58,[1]数据库!A:K,9,FALSE) -> 2130 | K58: =VLOOKUP(A58,[1]数据库!A:K,10,FALSE) -> 2310
... A61: 16 | B61: =VLOOKUP(A61,[1]数据库!A:H,2,FALSE) -> KC/18 | C61: =VLOOKUP(A61,[1]数据库!A:H,3,FALSE) -> FJA/13 | D61: =VLOOKUP(A61,[1]数据库!A:H,6,FALSE) -> 5556T | E61: =VLOOKUP(A61,[1]数据库!A:H,7,FALSE) -> 红4 | F61: =VLOOKUP(A61,[1]数据库!A:H,4,FALSE) -> 标准 | G61: =VLOOKUP(A61,[1]数据库!A:H,5,FALSE) -> 0.5黑 | H61: =VLOOKUP(A61,[1]数据库!A:L,12,FALSE) -> KC/18 | I61: =VLOOKUP(A61,[1]数据库!A:I,8,FALSE) -> 0 | J61: =VLOOKUP(A61,[1]数据库!A:K,9,FALSE) -> 2230 | K61: =VLOOKUP(A61,[1]数据库!A:K,10,FALSE) -> 2410
A62: KD（20位）
A63: 17 | B63: =VLOOKUP(A63,[1]数据库!A:H,2,FALSE) -> KD/1 | C63: =VLOOKUP(A63,[1]数据库!A:H,3,FALSE) -> FJSA/4 | D63: =VLOOKUP(A63,[1]数据库!A:H,6,FALSE) -> 5556T | E63: =VLOOKUP(A63,[1]数据库!A:H,7,FALSE) -> 红4 | F63: =VLOOKUP(A63,[1]数据库!A:H,4,FALSE) -> 标准 | G63: =VLOOKUP(A63,[1]数据库!A:H,5,FALSE) -> 0.5黑 | H63: =VLOOKUP(A63,[1]数据库!A:L,12,FALSE) -> KD/1 | I63: =VLOOKUP(A63,[1]数据库!A:I,8,FALSE) -> 0 | J63: =VLOOKUP(A63,[1]数据库!A:K,9,FALSE) -> 2230 | K63: =VLOOKUP(A63,[1]数据库!A:K,10,FALSE) -> 2380
A64: 18 | B64: =VLOOKUP(A64,[1]数据库!A:H,2,FALSE) -> KD/2 | C64: =VLOOKUP(A64,[1]数据库!A:H,3,FALSE) -> FJXA/4 | D64: =VLOOKUP(A64,[1]数据库!A:H,6,FALSE) -> 5556T | E64: =VLOOKUP(A64,[1]数据库!A:H,7,FALSE) -> 红4 | F64: =VLOOKUP(A64,[1]数据库!A:H,4,FALSE) -> 标准 | G64: =VLOOKUP(A64,[1]数据库!A:H,5,FALSE) -> 0.5黑 | H64: =VLOOKUP(A64,[1]数据库!A:L,12,FALSE) -> KD/2 | I64: =VLOOKUP(A64,[1]数据库!A:I,8,FALSE) -> 0 | J64: =VLOOKUP(A64,[1]数据库!A:K,9,FALSE) -> 2330 | K64: =VLOOKUP(A64,[1]数据库!A:K,10,FALSE) -> 2500
A65: 19 | B65: =VLOOKUP(A65,[1]数据库!A:H,2,FALSE) -> KD/3 | C65: =VLOOKUP(A65,[1]数据库!A:H,3,FALSE) -> FJK/1 | D65: =VLOOKUP(A65,[1]数据库!A:H,6,FALSE) -> 5556T | E65: =VLOOKUP(A65,[1]数据库!A:H,7,FALSE) -> 红4 | F65: =VLOOKUP(A65,[1]数据库!A:H,4,FALSE) -> 非G20时 | G65: =VLOOKUP(A65,[1]数据库!A:H,5,FALSE) -> 0.5黑 | H65: =VLOOKUP(A65,[1]数据库!A:L,12,FALSE) -> 0 | I65: =VLOOKUP(A65,[1]数据库!A:I,8,FALSE) -> 0 | J65: =VLOOKUP(A65,[1]数据库!A:K,9,FALSE) -> 2190 | K65: =VLOOKUP(A65,[1]数据库!A:K,10,FALSE) -> 2340
A66: 20 | B66: =VLOOKUP(A66,[1]数据库!A:H,2,FALSE) -> KD/4 | C66: =VLOOKUP(A66,[1]数据库!A:H,3,FALSE) -> FJK/2 | D66: =VLOOKUP(A66,[1]数据库!A:H,6,FALSE) -> 5556T | E66: =VLOOKUP(A66,[1]数据库!A:H,7,FALSE) -> 红4 | F66: =VLOOKUP(A66,[1]数据库!A:H,4,FALSE) -> 标准 | G66: =VLOOKUP(A66,[1]数据库!A:H,5,FALSE) -> 0.5黑 | H66: =VLOOKUP(A66,[1]数据库!A:L,12,FALSE) -> KD/4 | I66: =VLOOKUP(A66,[1]数据库!A:I,8,FALSE) -> 0 | J66: =VLOOKUP(A66,[1]数据库!A:K,9,FALSE) -> 2230 | K66: =VLOOKUP(A66,[1]数据库!A:K,10,FALSE) -> 2390
A67: 21 | B67: =VLOOKUP(A67,[1]数据库!A:H,2,FALSE) -> KD/8 | C67: =VLOOKUP(A67,[1]数据库!A:H,3,FALSE) -> MC1/54 | D67: =VLOOKUP(A67,[1]数据库!A:H,6,FALSE) -> 5556T | E67: =VLOOKUP(A67,[1]数据库!A:H,7,FALSE) -> 红4 | F67: =VLOOKUP(A67,[1]数据库!A:H,4,FALSE) -> 有封星接触器+速度≤2.5M/S | G67: =VLOOKUP(A67,[1]数据库!A:H,5,FALSE) -> 0.5黑 | H67: =VLOOKUP(A67,[1]数据库!A:L,12,FALSE) -> KD/8 | I67: =VLOOKUP(A67,[1]数据库!A:I,8,FALSE) -> 0 | J67: =VLOOKUP(A67,[1]数据库!A:K,9,FALSE) -> 1590 | K67: =VLOOKUP(A67,[1]数据库!A:K,10,FALSE) -> 1650
A68: 22 | B68: =VLOOKUP(A68,[1]数据库!A:H,2,FALSE) -> KD/8 | C68: =VLOOKUP(A68,[1]数据库!A:H,3,FALSE) -> MC1/62 | D68: =VLOOKUP(A68,[1]数据库!A:H,6,FALSE) -> 5556T | E68: =VLOOKUP(A68,[1]数据库!A:H,7,FALSE) -> 红4 | F68: =VLOOKUP(A68,[1]数据库!A:H,4,FALSE) -> 有封星接触器+梯速＞2.5M/S | G68: =VLOOKUP(A68,[1]数据库!A:H,5,FALSE) -> 0.5黑 | H68: =VLOOKUP(A68,[1]数据库!A:L,12,FALSE) -> 0 | I68: =VLOOKUP(A68,[1]数据库!A:I,8,FALSE) -> 0 | J68: =VLOOKUP(A68,[1]数据库!A:K,9,FALSE) -> 0 | K68: =VLOOKUP(A68,[1]数据库!A:K,10,FALSE) -> 0
A69: 23 | B69: =VLOOKUP(A69,[1]数据库!A:H,2,FALSE) -> KD/8 | C69: =VLOOKUP(A69,[1]数据库!A:H,3,FALSE) -> CE24 | D69: =VLOOKUP(A69,[1]数据库!A:H,6,FALSE) -> 5556T | E69: =VLOOKUP(A69,[1]数据库!A:H,7,FALSE) -> 剥13 | F69: =VLOOKUP(A69,[1]数据库!A:H,4,FALSE) -> 无封星接触器时 | G69: =VLOOKUP(A69,[1]数据库!A:H,5,FALSE) -> 0.5黑 | H69: =VLOOKUP(A69,[1]数据库!A:L,12,FALSE) -> 0 | I69: =VLOOKUP(A69,[1]数据库!A:I,8,FALSE) -> 0 | J69: =VLOOKUP(A69,[1]数据库!A:K,9,FALSE) -> 0 | K69: =VLOOKUP(A69,[1]数据库!A:K,10,FALSE) -> 0
A70: 24 | B70: =VLOOKUP(A70,[1]数据库!A:H,2,FALSE) -> KD/9 | C70: =VLOOKUP(A70,[1]数据库!A:H,3,FALSE) -> BZC/62(22) | D70: =VLOOKUP(A70,[1]数据库!A:H,6,FALSE) -> 5556T | E70: =VLOOKUP(A70,[1]数据库!A:H,7,FALSE) -> 红4 | F70: =VLOOKUP(A70,[1]数据库!A:H,4,FALSE) -> 标准 | G70: =VLOOKUP(A70,[1]数据库!A:H,5,FALSE) -> 0.5黑 | H70: =VLOOKUP(A70,[1]数据库!A:L,12,FALSE) -> KD/9 | I70: =VLOOKUP(A70,[1]数据库!A:I,8,FALSE) -> 0 | J70: =VLOOKUP(A70,[1]数据库!A:K,9,FALSE) -> 1480 | K70: =VLOOKUP(A70,[1]数据库!A:K,10,FALSE) -> 1560
A71: 25 | B71: =VLOOKUP(A71,[1]数据库!A:H,2,FALSE) -> #N/A | C71: =VLOOKUP(A71,[1]数据库!A:H,3,FALSE) -> #N/A | D71: =VLOOKUP(A71,[1]数据库!A:H,6,FALSE) -> #N/A | E71: =VLOOKUP(A71,[1]数据库!A:H,7,FALSE) -> #N/A | F71: =VLOOKUP(A71,[1]数据库!A:H,4,FALSE) -> #N/A | G71: =VLOOKUP(A71,[1]数据库!A:H,5,FALSE) -> #N/A | H71: =VLOOKUP(A71,[1]数据库!A:L,12,FALSE) -> #N/A | I71: =VLOOKUP(A71,[1]数据库!A:I,8,FALSE) -> #N/A | J71: =VLOOKUP(A71,[1]数据库!A:K,9,FALSE) -> #N/A | K71: =VLOOKUP(A71,[1]数据库!A:K,10,FALSE) -> #N/A
A72: 26 | B72: =VLOOKUP(A72,[1]数据库!A:H,2,FALSE) -> KD/11 | C72: =VLOOKUP(A72,[1]数据库!A:H,3,FALSE) -> MSC/62(22) | D72: =VLOOKUP(A72,[1]数据库!A:H,6,FALSE) -> 5556T | E72: =VLOOKUP(A72,[1]数据库!A:H,7,FALSE) -> 红4 | F72: =VLOOKUP(A72,[1]数据库!A:H,4,FALSE) -> 标准 | G72: =VLOOKUP(A72,[1]数据库!A:H,5,FALSE) -> 0.5黑 | H72: =VLOOKUP(A72,[1]数据库!A:L,12,FALSE) -> KD/11 | I72: =VLOOKUP(A72,[1]数据库!A:I,8,FALSE) -> 0 | J72: =VLOOKUP(A72,[1]数据库!A:K,9,FALSE) -> 1520 | K72: =VLOOKUP(A72,[1]数据库!A:K,10,FALSE) -> 1610
A73: 27 | B73: =VLOOKUP(A73,[1]数据库!A:H,2,FALSE) -> KD/13 | C73: =VLOOKUP(A73,[1]数据库!A:H,3,FALSE) -> MSC/61(21) | D73: =VLOOKUP(A73,[1]数据库!A:H,6,FALSE) -> 5556T | E73: =VLOOKUP(A73,[1]数据库!A:H,7,FALSE) -> 红4 | F73: =VLOOKUP(A73,[1]数据库!A:H,4,FALSE) -> 无接地保护装置时 | G73: =VLOOKUP(A73,[1]数据库!A:H,5,FALSE) -> 0.5黑 | H73: =VLOOKUP(A73,[1]数据库!A:L,12,FALSE) -> KD/13 | I73: =VLOOKUP(A73,[1]数据库!A:I,8,FALSE) -> 0 | J73: =VLOOKUP(A73,[1]数据库!A:K,9,FALSE) -> 1700 | K73: =VLOOKUP(A73,[1]数据库!A:K,10,FALSE) -> 1790
A74: 28 | B74: =VLOOKUP(A74,[1]数据库!A:H,2,FALSE) -> KD/13 | C74: =VLOOKUP(A74,[1]数据库!A:H,3,FALSE) -> JDB/14 | D74: =VLOOKUP(A74,[1]数据库!A:H,6,FALSE) -> 5556T | E74: =VLOOKUP(A74,[1]数据库!A:H,7,FALSE) -> 红针 | F74: =VLOOKUP(A74,[1]数据库!A:H,4,FALSE) -> 有接地保护装置时 | G74: =VLOOKUP(A74,[1]数据库!A:H,5,FALSE) -> 0.5黑 | H74: =VLOOKUP(A74,[1]数据库!A:L,12,FALSE) -> 0 | I74: =VLOOKUP(A74,[1]数据库!A:I,8,FALSE) -> 0 | J74: =VLOOKUP(A74,[1]数据库!A:K,9,FALSE) -> 0 | K74: =VLOOKUP(A74,[1]数据库!A:K,10,FALSE) -> 0
A75: 29 | B75: =VLOOKUP(A75,[1]数据库!A:H,2,FALSE) -> KD/19 | C75: =VLOOKUP(A75,[1]数据库!A:H,3,FALSE) -> FJK/1 | D75: =VLOOKUP(A75,[1]数据库!A:H,6,FALSE) -> 5556T | E75: =VLOOKUP(A75,[1]数据库!A:H,7,FALSE) -> 红4 | F75: =VLOOKUP(A75,[1]数据库!A:H,4,FALSE) -> G20系统时 | G75: =VLOOKUP(A75,[1]数据库!A:H,5,FALSE) -> 0.5黑 | H75: =VLOOKUP(A75,[1]数据库!A:L,12,FALSE) -> 0 | I75: =VLOOKUP(A75,[1]数据库!A:I,8,FALSE) -> 0 | J75: =VLOOKUP(A75,[1]数据库!A:K,9,FALSE) -> 0 | K75: =VLOOKUP(A75,[1]数据库!A:K,10,FALSE) -> 0
A76: KB（10位）
A77: 30 | B77: =VLOOKUP(A77,[1]数据库!A:H,2,FALSE) -> KB/2 | C77: =VLOOKUP(A77,[1]数据库!A:H,3,FALSE) -> MC/73(63) | D77: =VLOOKUP(A77,[1]数据库!A:H,6,FALSE) -> 5556T | E77: =VLOOKUP(A77,[1]数据库!A:H,7,FALSE) -> 红4 | F77: =VLOOKUP(A77,[1]数据库!A:H,4,FALSE) -> 标准 | G77: =VLOOKUP(A77,[1]数据库!A:H,5,FALSE) -> 0.5黑 | H77: =VLOOKUP(A77,[1]数据库!A:L,12,FALSE) -> KB/2 | I77: =VLOOKUP(A77,[1]数据库!A:I,8,FALSE) -> 0 | J77: =VLOOKUP(A77,[1]数据库!A:K,9,FALSE) -> 1760 | K77: =VLOOKUP(A77,[1]数据库!A:K,10,FALSE) -> 1830
A78: 31 | B78: =VLOOKUP(A78,[1]数据库!A:H,2,FALSE) -> KB/3 | C78: =VLOOKUP(A78,[1]数据库!A:H,3,FALSE) -> MC/73(63) | D78: =VLOOKUP(A78,[1]数据库!A:H,6,FALSE) -> 5556T | E78: =VLOOKUP(A78,[1]数据库!A:H,7,FALSE) -> 红4 | F78: =VLOOKUP(A78,[1]数据库!A:H,4,FALSE) -> 标准 | G78: =VLOOKUP(A78,[1]数据库!A:H,5,FALSE) -> 0.5黑 | H78: =VLOOKUP(A78,[1]数据库!A:L,12,FALSE) -> KB/3 | I78: =VLOOKUP(A78,[1]数据库!A:I,8,FALSE) -> 0 | J78: =VLOOKUP(A78,[1]数据库!A:K,9,FALSE) -> 1760 | K78: =VLOOKUP(A78,[1]数据库!A:K,10,FALSE) -> 1830
A79: 32 | B79: =VLOOKUP(A79,[1]数据库!A:H,2,FALSE) -> KB/10 | C79: =VLOOKUP(A79,[1]数据库!A:H,3,FALSE) -> MC/53(13) | D79: =VLOOKUP(A79,[1]数据库!A:H,6,FALSE) -> 5556T | E79: =VLOOKUP(A79,[1]数据库!A:H,7,FALSE) -> 红4 | F79: =VLOOKUP(A79,[1]数据库!A:H,4,FALSE) -> 标准 | G79: =VLOOKUP(A79,[1]数据库!A:H,5,FALSE) -> 0.5黑 | H79: =VLOOKUP(A79,[1]数据库!A:L,12,FALSE) -> KB/10 | I79: =VLOOKUP(A79,[1]数据库!A:I,8,FALSE) -> 0 | J79: =VLOOKUP(A79,[1]数据库!A:K,9,FALSE) -> 1760 | K79: =VLOOKUP(A79,[1]数据库!A:K,10,FALSE) -> 1830
A80: KDP1（10位）
A81: 33 | B81: =VLOOKUP(A81,[1]数据库!A:H,2,FALSE) -> KDP1/1 | C81: =VLOOKUP(A81,[1]数据库!A:H,3,FALSE) -> QFB1/2 | D81: =VLOOKUP(A81,[1]数据库!A:H,6,FALSE) -> 5556T | E81: =VLOOKUP(A81,[1]数据库!A:H,7,FALSE) -> 34:蓝针 | F81: =VLOOKUP(A81,[1]数据库!A:H,4,FALSE) -> 标准 | G81: =VLOOKUP(A81,[1]数据库!A:H,5,FALSE) -> 0.5黑 | H81: =VLOOKUP(A81,[1]数据库!A:L,12,FALSE) -> KDP1/1 | I81: =VLOOKUP(A81,[1]数据库!A:I,8,FALSE) -> 0 | J81: =VLOOKUP(A81,[1]数据库!A:K,9,FALSE) -> 1190 | K81: =VLOOKUP(A81,[1]数据库!A:K,10,FALSE) -> 0
A82: 34 | B82: =VLOOKUP(A82,[1]数据库!A:H,2,FALSE) -> KDP1/2 | C82: =VLOOKUP(A82,[1]数据库!A:H,3,FALSE) -> QFB1/2 | D82: =VLOOKUP(A82,[1]数据库!A:H,6,FALSE) -> 5556T | E82: =VLOOKUP(A82,[1]数据库!A:H,7,FALSE) -> 33:蓝针 | F82: =VLOOKUP(A82,[1]数据库!A:H,4,FALSE) -> 标准 | G82: =VLOOKUP(A82,[1]数据库!A:H,5,FALSE) -> 0.5黑 | H82: =VLOOKUP(A82,[1]数据库!A:L,12,FALSE) -> KDP1/2 | I82: =VLOOKUP(A82,[1]数据库!A:I,8,FALSE) -> 0 | J82: =VLOOKUP(A82,[1]数据库!A:K,9,FALSE) -> 1190 | K82: =VLOOKUP(A82,[1]数据库!A:K,10,FALSE) -> 0
A83: 35 | B83: =VLOOKUP(A83,[1]数据库!A:H,2,FALSE) -> KDP1/6 | C83: =VLOOKUP(A83,[1]数据库!A:H,3,FALSE) -> QFB1/HN | D83: =VLOOKUP(A83,[1]数据库!A:H,6,FALSE) -> 5556T | E83: =VLOOKUP(A83,[1]数据库!A:H,7,FALSE) -> 36:蓝针 | F83: =VLOOKUP(A83,[1]数据库!A:H,4,FALSE) -> 标准 | G83: =VLOOKUP(A83,[1]数据库!A:H,5,FALSE) -> 0.5黑 | H83: =VLOOKUP(A83,[1]数据库!A:L,12,FALSE) -> KDP1/6 | I83: =VLOOKUP(A83,[1]数据库!A:I,8,FALSE) -> 0 | J83: =VLOOKUP(A83,[1]数据库!A:K,9,FALSE) -> 1200 | K83: =VLOOKUP(A83,[1]数据库!A:K,10,FALSE) -> 1350
A84: 36 | B84: =VLOOKUP(A84,[1]数据库!A:H,2,FALSE) -> KDP1/7 | C84: =VLOOKUP(A84,[1]数据库!A:H,3,FALSE) -> QFB1/HN | D84: =VLOOKUP(A84,[1]数据库!A:H,6,FALSE) -> 5556T | E84: =VLOOKUP(A84,[1]数据库!A:H,7,FALSE) -> 35:蓝针 | F84: =VLOOKUP(A84,[1]数据库!A:H,4,FALSE) -> 标准 | G84: =VLOOKUP(A84,[1]数据库!A:H,5,FALSE) -> 0.5黑 | H84: =VLOOKUP(A84,[1]数据库!A:L,12,FALSE) -> KDP1/7 | I84: =VLOOKUP(A84,[1]数据库!A:I,8,FALSE) -> 0 | J84: =VLOOKUP(A84,[1]数据库!A:K,9,FALSE) -> 1200 | K84: =VLOOKUP(A84,[1]数据库!A:K,10,FALSE) -> 1350
A85: KDP2（8位）
A86: 37 | B86: =VLOOKUP(A86,[1]数据库!A:H,2,FALSE) -> KDP2/1 | C86: =VLOOKUP(A86,[1]数据库!A:H,3,FALSE) -> BZC/61(21) | D86: =VLOOKUP(A86,[1]数据库!A:H,6,FALSE) -> 5556T | E86: =VLOOKUP(A86,[1]数据库!A:H,7,FALSE) -> 红4 | F86: =VLOOKUP(A86,[1]数据库!A:H,4,FALSE) -> 标准 | G86: =VLOOKUP(A86,[1]数据库!A:H,5,FALSE) -> 0.75黑 | H86: =VLOOKUP(A86,[1]数据库!A:L,12,FALSE) -> KDP2/1 | I86: =VLOOKUP(A86,[1]数据库!A:I,8,FALSE) -> 0 | J86: =VLOOKUP(A86,[1]数据库!A:K,9,FALSE) -> 1470 | K86: =VLOOKUP(A86,[1]数据库!A:K,10,FALSE) -> 1530
A87: 38 | B87: =VLOOKUP(A87,[1]数据库!A:H,2,FALSE) -> KDP2/2 | C87: =VLOOKUP(A87,[1]数据库!A:H,3,FALSE) -> BKP/CN3/COM | D87: =VLOOKUP(A87,[1]数据库!A:H,6,FALSE) -> 5556T | E87: =VLOOKUP(A87,[1]数据库!A:H,7,FALSE) -> 半剥8 | F87: =VLOOKUP(A87,[1]数据库!A:H,4,FALSE) -> 标准 | G87: =VLOOKUP(A87,[1]数据库!A:H,5,FALSE) -> 0.5黑 | H87: =VLOOKUP(A87,[1]数据库!A:L,12,FALSE) -> KDP2/2 | I87: =VLOOKUP(A87,[1]数据库!A:I,8,FALSE) -> 0 | J87: =VLOOKUP(A87,[1]数据库!A:K,9,FALSE) -> 1090 | K87: =VLOOKUP(A87,[1]数据库!A:K,10,FALSE) -> 1260
A88: KP（18位）
A89: 39 | B89: =VLOOKUP(A89,[1]数据库!A:H,2,FALSE) -> KP/1 | C89: =VLOOKUP(A89,[1]数据库!A:H,3,FALSE) -> BKP/CN1/L | D89: =VLOOKUP(A89,[1]数据库!A:H,6,FALSE) -> 5556T | E89: =VLOOKUP(A89,[1]数据库!A:H,7,FALSE) -> 红4 | F89: =VLOOKUP(A89,[1]数据库!A:H,4,FALSE) -> 标准 | G89: =VLOOKUP(A89,[1]数据库!A:H,5,FALSE) -> 0.75黑 | H89: =VLOOKUP(A89,[1]数据库!A:L,12,FALSE) -> KP/1 | I89: =VLOOKUP(A89,[1]数据库!A:I,8,FALSE) -> 0 | J89: =VLOOKUP(A89,[1]数据库!A:K,9,FALSE) -> 1150 | K89: =VLOOKUP(A89,[1]数据库!A:K,10,FALSE) -> 1300
A90: 40 | B90: =VLOOKUP(A90,[1]数据库!A:H,2,FALSE) -> KP/3 | C90: =VLOOKUP(A90,[1]数据库!A:H,3,FALSE) -> BKP/CN1/N | D90: =VLOOKUP(A90,[1]数据库!A:H,6,FALSE) -> 5556T | E90: =VLOOKUP(A90,[1]数据库!A:H,7,FALSE) -> 红4 | F90: =VLOOKUP(A90,[1]数据库!A:H,4,FALSE) -> 标准 | G90: =VLOOKUP(A90,[1]数据库!A:H,5,FALSE) -> 0.75黑 | H90: =VLOOKUP(A90,[1]数据库!A:L,12,FALSE) -> KP/3 | I90: =VLOOKUP(A90,[1]数据库!A:I,8,FALSE) -> 0 | J90: =VLOOKUP(A90,[1]数据库!A:K,9,FALSE) -> 1150 | K90: =VLOOKUP(A90,[1]数据库!A:K,10,FALSE) -> 1310
A91: 41 | B91: =VLOOKUP(A91,[1]数据库!A:H,2,FALSE) -> KP/5 | C91: =VLOOKUP(A91,[1]数据库!A:H,3,FALSE) -> LBQ1/负载1 | D91: =VLOOKUP(A91,[1]数据库!A:H,6,FALSE) -> 5556T | E91: =VLOOKUP(A91,[1]数据库!A:H,7,FALSE) -> 红全封 | F91: =VLOOKUP(A91,[1]数据库!A:H,4,FALSE) -> 标准 | G91: =VLOOKUP(A91,[1]数据库!A:H,5,FALSE) -> 0.75黑 | H91: =VLOOKUP(A91,[1]数据库!A:L,12,FALSE) -> KP/5 | I91: =VLOOKUP(A91,[1]数据库!A:I,8,FALSE) -> 0 | J91: =VLOOKUP(A91,[1]数据库!A:K,9,FALSE) -> 690 | K91: =VLOOKUP(A91,[1]数据库!A:K,10,FALSE) -> 730
A92: 42 | B92: =VLOOKUP(A92,[1]数据库!A:H,2,FALSE) -> KP/7 | C92: =VLOOKUP(A92,[1]数据库!A:H,3,FALSE) -> LBQ1/负载2 | D92: =VLOOKUP(A92,[1]数据库!A:H,6,FALSE) -> 5556T | E92: =VLOOKUP(A92,[1]数据库!A:H,7,FALSE) -> 红全封 | F92: =VLOOKUP(A92,[1]数据库!A:H,4,FALSE) -> 标准 | G92: =VLOOKUP(A92,[1]数据库!A:H,5,FALSE) -> 0.75黑 | H92: =VLOOKUP(A92,[1]数据库!A:L,12,FALSE) -> KP/7 | I92: =VLOOKUP(A92,[1]数据库!A:I,8,FALSE) -> 0 | J92: =VLOOKUP(A92,[1]数据库!A:K,9,FALSE) -> 690 | K92: =VLOOKUP(A92,[1]数据库!A:K,10,FALSE) -> 730
A93: 43 | B93: =VLOOKUP(A93,[1]数据库!A:H,2,FALSE) -> KP/9 | C93: =VLOOKUP(A93,[1]数据库!A:H,3,FALSE) -> LBQ1/线路1 | D93: =VLOOKUP(A93,[1]数据库!A:H,6,FALSE) -> 5556T | E93: =VLOOKUP(A93,[1]数据库!A:H,7,FALSE) -> 红全封 | F93: =VLOOKUP(A93,[1]数据库!A:H,4,FALSE) -> 标准 | G93: =VLOOKUP(A93,[1]数据库!A:H,5,FALSE) -> 0.75黑 | H93: =VLOOKUP(A93,[1]数据库!A:L,12,FALSE) -> KP/9 | I93: =VLOOKUP(A93,[1]数据库!A:I,8,FALSE) -> 0 | J93: =VLOOKUP(A93,[1]数据库!A:K,9,FALSE) -> 590 | K93: =VLOOKUP(A93,[1]数据库!A:K,10,FALSE) -> 600
A94: 44 | B94: =VLOOKUP(A94,[1]数据库!A:H,2,FALSE) -> KP/10 | C94: =VLOOKUP(A94,[1]数据库!A:H,3,FALSE) -> LBQ1/线路2 | D94: =VLOOKUP(A94,[1]数据库!A:H,6,FALSE) -> 5556T | E94: =VLOOKUP(A94,[1]数据库!A:H,7,FALSE) -> 红全封 | F94: =VLOOKUP(A94,[1]数据库!A:H,4,FALSE) -> 标准 | G94: =VLOOKUP(A94,[1]数据库!A:H,5,FALSE) -> 0.75黑 | H94: =VLOOKUP(A94,[1]数据库!A:L,12,FALSE) -> KP/10 | I94: =VLOOKUP(A94,[1]数据库!A:I,8,FALSE) -> 0 | J94: =VLOOKUP(A94,[1]数据库!A:K,9,FALSE) -> 590 | K94: =VLOOKUP(A94,[1]数据库!A:K,10,FALSE) -> 600
A95: KZ（20位）
A96: 45 | B96: =VLOOKUP(A96,[1]数据库!A:H,2,FALSE) -> KZ/1 | C96: =VLOOKUP(A96,[1]数据库!A:H,3,FALSE) -> 对讲机/+ | D96: =VLOOKUP(A96,[1]数据库!A:H,6,FALSE) -> 5556T | E96: =VLOOKUP(A96,[1]数据库!A:H,7,FALSE) -> 红4 | F96: =VLOOKUP(A96,[1]数据库!A:H,4,FALSE) -> 标准 | G96: =VLOOKUP(A96,[1]数据库!A:H,5,FALSE) -> 0.5黑 | H96: =VLOOKUP(A96,[1]数据库!A:L,12,FALSE) -> KZ/1 | I96: =VLOOKUP(A96,[1]数据库!A:I,8,FALSE) -> 0 | J96: =VLOOKUP(A96,[1]数据库!A:K,9,FALSE) -> 1690 | K96: =VLOOKUP(A96,[1]数据库!A:K,10,FALSE) -> 1960
A97: 46 | B97: =VLOOKUP(A97,[1]数据库!A:H,2,FALSE) -> KZ/3 | C97: =VLOOKUP(A97,[1]数据库!A:H,3,FALSE) -> 对讲机/- | D97: =VLOOKUP(A97,[1]数据库!A:H,6,FALSE) -> 5556T | E97: =VLOOKUP(A97,[1]数据库!A:H,7,FALSE) -> 红4 | F97: =VLOOKUP(A97,[1]数据库!A:H,4,FALSE) -> 标准 | G97: =VLOOKUP(A97,[1]数据库!A:H,5,FALSE) -> 0.5黑 | H97: =VLOOKUP(A97,[1]数据库!A:L,12,FALSE) -> KZ/3 | I97: =VLOOKUP(A97,[1]数据库!A:I,8,FALSE) -> 0 | J97: =VLOOKUP(A97,[1]数据库!A:K,9,FALSE) -> 1690 | K97: =VLOOKUP(A97,[1]数据库!A:K,10,FALSE) -> 1960
A98: 47 | B98: =VLOOKUP(A98,[1]数据库!A:H,2,FALSE) -> KZ/4 | C98: =VLOOKUP(A98,[1]数据库!A:H,3,FALSE) -> 对讲机/R | D98: =VLOOKUP(A98,[1]数据库!A:H,6,FALSE) -> 5556T | E98: =VLOOKUP(A98,[1]数据库!A:H,7,FALSE) -> 红4(遥/371:蓝4) | F98: =VLOOKUP(A98,[1]数据库!A:H,4,FALSE) -> 标准 | G98: =VLOOKUP(A98,[1]数据库!A:H,5,FALSE) -> 0.5黑 | H98: =VLOOKUP(A98,[1]数据库!A:L,12,FALSE) -> KZ/4 | I98: =VLOOKUP(A98,[1]数据库!A:I,8,FALSE) -> 0 | J98: =VLOOKUP(A98,[1]数据库!A:K,9,FALSE) -> 1670 | K98: =VLOOKUP(A98,[1]数据库!A:K,10,FALSE) -> 1950
A99: 48 | B99: =VLOOKUP(A99,[1]数据库!A:H,2,FALSE) -> KZ/5 | C99: =VLOOKUP(A99,[1]数据库!A:H,3,FALSE) -> 对讲机/L | D99: =VLOOKUP(A99,[1]数据库!A:H,6,FALSE) -> 5556T | E99: =VLOOKUP(A99,[1]数据库!A:H,7,FALSE) -> 红4(遥/372:蓝4) | F99: =VLOOKUP(A99,[1]数据库!A:H,4,FALSE) -> 标准 | G99: =VLOOKUP(A99,[1]数据库!A:H,5,FALSE) -> 0.5黑 | H99: =VLOOKUP(A99,[1]数据库!A:L,12,FALSE) -> KZ/5 | I99: =VLOOKUP(A99,[1]数据库!A:I,8,FALSE) -> 0 | J99: =VLOOKUP(A99,[1]数据库!A:K,9,FALSE) -> 1670 | K99: =VLOOKUP(A99,[1]数据库!A:K,10,FALSE) -> 1950
A100: 公共线
A101: 49 | B101: =VLOOKUP(A101,[1]数据库!A:H,2,FALSE) -> BKP/CN3/+24V | C101: =VLOOKUP(A101,[1]数据库!A:H,3,FALSE) -> CE24 | D101: =VLOOKUP(A101,[1]数据库!A:H,6,FALSE) -> 半剥8 | E101: =VLOOKUP(A101,[1]数据库!A:H,7,FALSE) -> 半剥13 | F101: =VLOOKUP(A101,[1]数据库!A:H,4,FALSE) -> 标准 | G101: =VLOOKUP(A101,[1]数据库!A:H,5,FALSE) -> 0.75黑 | H101: =VLOOKUP(A101,[1]数据库!A:L,12,FALSE) -> 0 | I101: =VLOOKUP(A101,[1]数据库!A:I,8,FALSE) -> 0 | J101: =VLOOKUP(A101,[1]数据库!A:K,9,FALSE) -> 330 | K101: =VLOOKUP(A101,[1]数据库!A:K,10,FALSE) -> 290
A102: 50 | B102: =VLOOKUP(A102,[1]数据库!A:H,2,FALSE) -> BZC/61(21) | C102: =VLOOKUP(A102,[1]数据库!A:H,3,FALSE) -> CE24 | D102: =VLOOKUP(A102,[1]数据库!A:H,6,FALSE) -> 红4 | E102: =VLOOKUP(A102,[1]数据库!A:H,7,FALSE) -> 半剥13 | F102: =VLOOKUP(A102,[1]数据库!A:H,4,FALSE) -> 标准 | G102: =VLOOKUP(A102,[1]数据库!A:H,5,FALSE) -> 0.5黑 | H102: =VLOOKUP(A102,[1]数据库!A:L,12,FALSE) -> 0 | I102: =VLOOKUP(A102,[1]数据库!A:I,8,FALSE) -> 0 | J102: =VLOOKUP(A102,[1]数据库!A:K,9,FALSE) -> 480 | K102: =VLOOKUP(A102,[1]数据库!A:K,10,FALSE) -> 0
A103: 51 | B103: =VLOOKUP(A103,[1]数据库!A:H,2,FALSE) -> MSC/61(21) | C103: =VLOOKUP(A103,[1]数据库!A:H,3,FALSE) -> CE24 | D103: =VLOOKUP(A103,[1]数据库!A:H,6,FALSE) -> 红4 | E103: =VLOOKUP(A103,[1]数据库!A:H,7,FALSE) -> 半剥13 | F103: =VLOOKUP(A103,[1]数据库!A:H,4,FALSE) -> 标准 | G103: =VLOOKUP(A103,[1]数据库!A:H,5,FALSE) -> 0.5黑 | H103: =VLOOKUP(A103,[1]数据库!A:L,12,FALSE) -> 0 | I103: =VLOOKUP(A103,[1]数据库!A:I,8,FALSE) -> 0 | J103: =VLOOKUP(A103,[1]数据库!A:K,9,FALSE) -> 520 | K103: =VLOOKUP(A103,[1]数据库!A:K,10,FALSE) -> 0
A104: 52 | B104: =VLOOKUP(A104,[1]数据库!A:H,2,FALSE) -> MC/61(21) | C104: =VLOOKUP(A104,[1]数据库!A:H,3,FALSE) -> CE24 | D104: =VLOOKUP(A104,[1]数据库!A:H,6,FALSE) -> 红4 | E104: =VLOOKUP(A104,[1]数据库!A:H,7,FALSE) -> 半剥13 | F104: =VLOOKUP(A104,[1]数据库!A:H,4,FALSE) -> 标准 | G104: =VLOOKUP(A104,[1]数据库!A:H,5,FALSE) -> 0.5黑 | H104: =VLOOKUP(A104,[1]数据库!A:L,12,FALSE) -> 0 | I104: =VLOOKUP(A104,[1]数据库!A:I,8,FALSE) -> 0 | J104: =VLOOKUP(A104,[1]数据库!A:K,9,FALSE) -> 640 | K104: =VLOOKUP(A104,[1]数据库!A:K,10,FALSE) -> 0
A105: 53 | B105: =VLOOKUP(A105,[1]数据库!A:H,2,FALSE) -> MC1/61(21) | C105: =VLOOKUP(A105,[1]数据库!A:H,3,FALSE) -> CE24 | D105: =VLOOKUP(A105,[1]数据库!A:H,6,FALSE) -> 红4 | E105: =VLOOKUP(A105,[1]数据库!A:H,7,FALSE) -> 半剥13 | F105: =VLOOKUP(A105,[1]数据库!A:H,4,FALSE) -> 有封星接触器+梯速＞2.5M/S | G105: =VLOOKUP(A105,[1]数据库!A:H,5,FALSE) -> 0.5黑 | H105: =VLOOKUP(A105,[1]数据库!A:L,12,FALSE) -> 0 | I105: =VLOOKUP(A105,[1]数据库!A:I,8,FALSE) -> 0 | J105: =VLOOKUP(A105,[1]数据库!A:K,9,FALSE) -> 0 | K105: =VLOOKUP(A105,[1]数据库!A:K,10,FALSE) -> 0
A106: 54 | B106: =VLOOKUP(A106,[1]数据库!A:H,2,FALSE) -> MC1/53 | C106: =VLOOKUP(A106,[1]数据库!A:H,3,FALSE) -> CE24 | D106: =VLOOKUP(A106,[1]数据库!A:H,6,FALSE) -> 红4 | E106: =VLOOKUP(A106,[1]数据库!A:H,7,FALSE) -> 半剥13 | F106: =VLOOKUP(A106,[1]数据库!A:H,4,FALSE) -> 有封星接触器+速度≤2.5M/S | G106: =VLOOKUP(A106,[1]数据库!A:H,5,FALSE) -> 0.5黑 | H106: =VLOOKUP(A106,[1]数据库!A:L,12,FALSE) -> 0 | I106: =VLOOKUP(A106,[1]数据库!A:I,8,FALSE) -> 0 | J106: =VLOOKUP(A106,[1]数据库!A:K,9,FALSE) -> 600 | K106: =VLOOKUP(A106,[1]数据库!A:K,10,FALSE) -> 0
A107: 55 | B107: =VLOOKUP(A107,[1]数据库!A:H,2,FALSE) -> FTK/2 | C107: =VLOOKUP(A107,[1]数据库!A:H,3,FALSE) -> MC1/A1 | D107: =VLOOKUP(A107,[1]数据库!A:H,6,FALSE) -> 红4 | E107: =VLOOKUP(A107,[1]数据库!A:H,7,FALSE) -> 红4 | F107: =VLOOKUP(A107,[1]数据库!A:H,4,FALSE) -> 有封星接触器+无相序继电器 | G107: =VLOOKUP(A107,[1]数据库!A:H,5,FALSE) -> 0.5黑 | H107: =VLOOKUP(A107,[1]数据库!A:L,12,FALSE) -> 0 | I107: =VLOOKUP(A107,[1]数据库!A:I,8,FALSE) -> 0 | J107: =VLOOKUP(A107,[1]数据库!A:K,9,FALSE) -> 0 | K107: =VLOOKUP(A107,[1]数据库!A:K,10,FALSE) -> 0
A108: 56 | B108: =VLOOKUP(A108,[1]数据库!A:H,2,FALSE) -> BKP/CN1/L | C108: =VLOOKUP(A108,[1]数据库!A:H,3,FALSE) -> QFB2/2 | D108: =VLOOKUP(A108,[1]数据库!A:H,6,FALSE) -> 红4 | E108: =VLOOKUP(A108,[1]数据库!A:H,7,FALSE) -> 红针（异货416：蓝针） | F108: =VLOOKUP(A108,[1]数据库!A:H,4,FALSE) -> 标准 | G108: =VLOOKUP(A108,[1]数据库!A:H,5,FALSE) -> 0.75黑 | H108: =VLOOKUP(A108,[1]数据库!A:L,12,FALSE) -> 0 | I108: =VLOOKUP(A108,[1]数据库!A:I,8,FALSE) -> 0 | J108: =VLOOKUP(A108,[1]数据库!A:K,9,FALSE) -> 440 | K108: =VLOOKUP(A108,[1]数据库!A:K,10,FALSE) -> 0
A109: 57 | B109: =VLOOKUP(A109,[1]数据库!A:H,2,FALSE) -> BKP/CN1/N | C109: =VLOOKUP(A109,[1]数据库!A:H,3,FALSE) -> QFB2/HN | D109: =VLOOKUP(A109,[1]数据库!A:H,6,FALSE) -> 红4 | E109: =VLOOKUP(A109,[1]数据库!A:H,7,FALSE) -> 红针（异货417：蓝针） | F109: =VLOOKUP(A109,[1]数据库!A:H,4,FALSE) -> 标准 | G109: =VLOOKUP(A109,[1]数据库!A:H,5,FALSE) -> 0.75黑 | H109: =VLOOKUP(A109,[1]数据库!A:L,12,FALSE) -> 0 | I109: =VLOOKUP(A109,[1]数据库!A:I,8,FALSE) -> 0 | J109: =VLOOKUP(A109,[1]数据库!A:K,9,FALSE) -> 420 | K109: =VLOOKUP(A109,[1]数据库!A:K,10,FALSE) -> 0
A110: 58 | B110: =VLOOKUP(A110,[1]数据库!A:H,2,FALSE) -> #N/A | C110: =VLOOKUP(A110,[1]数据库!A:H,3,FALSE) -> #N/A | D110: =VLOOKUP(A110,[1]数据库!A:H,6,FALSE) -> #N/A | E110: =VLOOKUP(A110,[1]数据库!A:H,7,FALSE) -> #N/A | F110: =VLOOKUP(A110,[1]数据库!A:H,4,FALSE) -> #N/A | G110: =VLOOKUP(A110,[1]数据库!A:H,5,FALSE) -> #N/A | H110: =VLOOKUP(A110,[1]数据库!A:L,12,FALSE) -> #N/A | I110: =VLOOKUP(A110,[1]数据库!A:I,8,FALSE) -> #N/A | J110: =VLOOKUP(A110,[1]数据库!A:K,9,FALSE) -> #N/A | K110: =VLOOKUP(A110,[1]数据库!A:K,10,FALSE) -> #N/A
A111: 59 | B111: =VLOOKUP(A111,[1]数据库!A:H,2,FALSE) -> BKP/110V | C111: =VLOOKUP(A111,[1]数据库!A:H,3,FALSE) -> BZC/4 | D111: =VLOOKUP(A111,[1]数据库!A:H,6,FALSE) -> 红4 | E111: =VLOOKUP(A111,[1]数据库!A:H,7,FALSE) -> 红4 | F111: =VLOOKUP(A111,[1]数据库!A:H,4,FALSE) -> 标准 | G111: =VLOOKUP(A111,[1]数据库!A:H,5,FALSE) -> 0.5黑 | H111: =VLOOKUP(A111,[1]数据库!A:L,12,FALSE) -> 0 | I111: =VLOOKUP(A111,[1]数据库!A:I,8,FALSE) -> 0 | J111: =VLOOKUP(A111,[1]数据库!A:K,9,FALSE) -> 360 | K111: =VLOOKUP(A111,[1]数据库!A:K,10,FALSE) -> 0
A112: 60 | B112: =VLOOKUP(A112,[1]数据库!A:H,2,FALSE) -> #N/A | C112: =VLOOKUP(A112,[1]数据库!A:H,3,FALSE) -> #N/A | D112: =VLOOKUP(A112,[1]数据库!A:H,6,FALSE) -> #N/A | E112: =VLOOKUP(A112,[1]数据库!A:H,7,FALSE) -> #N/A | F112: =VLOOKUP(A112,[1]数据库!A:H,4,FALSE) -> #N/A | G112: =VLOOKUP(A112,[1]数据库!A:H,5,FALSE) -> #N/A | H112: =VLOOKUP(A112,[1]数据库!A:L,12,FALSE) -> #N/A | I112: =VLOOKUP(A112,[1]数据库!A:I,8,FALSE) -> #N/A | J112: =VLOOKUP(A112,[1]数据库!A:K,9,FALSE) -> #N/A | K112: =VLOOKUP(A112,[1]数据库!A:K,10,FALSE) -> #N/A
... A145: 93 | B145: =VLOOKUP(A145,[1]数据库!A:H,2,FALSE) -> GYQ/1 | C145: =VLOOKUP(A145,[1]数据库!A:H,3,FALSE) -> LBQ/L3'(7) | D145: =VLOOKUP(A145,[1]数据库!A:H,6,FALSE) -> 红3 | E145: =VLOOKUP(A145,[1]数据库!A:H,7,FALSE) -> 红6圆 | F145: =VLOOKUP(A145,[1]数据库!A:H,4,FALSE) -> 有欠压保护GYQ+有滤波器时 | G145: =VLOOKUP(A145,[1]数据库!A:H,5,FALSE) -> 0.75黑 | H145: =VLOOKUP(A145,[1]数据库!A:L,12,FALSE) -> 0 | I145: =VLOOKUP(A145,[1]数据库!A:I,8,FALSE) -> 0 | J145: =VLOOKUP(A145,[1]数据库!A:K,9,FALSE) -> 0 | K145: =VLOOKUP(A145,[1]数据库!A:K,10,FALSE) -> 0
A146: 支架线
A147: 94 | B147: =VLOOKUP(A147,[1]数据库!A:H,2,FALSE) -> FJSA/13 | C147: =VLOOKUP(A147,[1]数据库!A:H,3,FALSE) -> FTK/1 | D147: =VLOOKUP(A147,[1]数据库!A:H,6,FALSE) -> 红4 | E147: =VLOOKUP(A147,[1]数据库!A:H,7,FALSE) -> 红4 | F147: =VLOOKUP(A147,[1]数据库!A:H,4,FALSE) -> 非钢带梯/非异步货梯 | G147: =VLOOKUP(A147,[1]数据库!A:H,5,FALSE) -> 0.75黑 | H147: =VLOOKUP(A147,[1]数据库!A:L,12,FALSE) -> FJSA/13、FTK/1 | I147: =VLOOKUP(A147,[1]数据库!A:I,8,FALSE) -> 0 | J147: =VLOOKUP(A147,[1]数据库!A:K,9,FALSE) -> 0 | K147: =VLOOKUP(A147,[1]数据库!A:K,10,FALSE) -> 0
A148: 95 | B148: =VLOOKUP(A148,[1]数据库!A:H,2,FALSE) -> FJXA/13 | C148: =VLOOKUP(A148,[1]数据库!A:H,3,FALSE) -> FJSA/13 | D148: =VLOOKUP(A148,[1]数据库!A:H,6,FALSE) -> 红4 | E148: =VLOOKUP(A148,[1]数据库!A:H,7,FALSE) -> 红4 | F148: =VLOOKUP(A148,[1]数据库!A:H,4,FALSE) -> 标准 | G148: =VLOOKUP(A148,[1]数据库!A:H,5,FALSE) -> 0.5黑 | H148: =VLOOKUP(A148,[1]数据库!A:L,12,FALSE) -> FJXA/13、FJSA/13 | I148: =VLOOKUP(A148,[1]数据库!A:I,8,FALSE) -> 0 | J148: =VLOOKUP(A148,[1]数据库!A:K,9,FALSE) -> 280 | K148: =VLOOKUP(A148,[1]数据库!A:K,10,FALSE) -> 0
A149: 96 | B149: =VLOOKUP(A149,[1]数据库!A:H,2,FALSE) -> FJA/23 | C149: =VLOOKUP(A149,[1]数据库!A:H,3,FALSE) -> FJXA/14 | D149: =VLOOKUP(A149,[1]数据库!A:H,6,FALSE) -> 红4 | E149: =VLOOKUP(A149,[1]数据库!A:H,7,FALSE) -> 红4 | F149: =VLOOKUP(A149,[1]数据库!A:H,4,FALSE) -> 标准 | G149: =VLOOKUP(A149,[1]数据库!A:H,5,FALSE) -> 0.5黑 | H149: =VLOOKUP(A149,[1]数据库!A:L,12,FALSE) -> FJA/23、FJXA/14 | I149: =VLOOKUP(A149,[1]数据库!A:I,8,FALSE) -> 0 | J149: =VLOOKUP(A149,[1]数据库!A:K,9,FALSE) -> 280 | K149: =VLOOKUP(A149,[1]数据库!A:K,10,FALSE) -> 0
A150: 97 | B150: =VLOOKUP(A150,[1]数据库!A:H,2,FALSE) -> #N/A | C150: =VLOOKUP(A150,[1]数据库!A:H,3,FALSE) -> #N/A | D150: =VLOOKUP(A150,[1]数据库!A:H,6,FALSE) -> #N/A | E150: =VLOOKUP(A150,[1]数据库!A:H,7,FALSE) -> #N/A | F150: =VLOOKUP(A150,[1]数据库!A:H,4,FALSE) -> #N/A | G150: =VLOOKUP(A150,[1]数据库!A:H,5,FALSE) -> #N/A | H150: =VLOOKUP(A150,[1]数据库!A:L,12,FALSE) -> #N/A | I150: =VLOOKUP(A150,[1]数据库!A:I,8,FALSE) -> #N/A | J150: =VLOOKUP(A150,[1]数据库!A:K,9,FALSE) -> #N/A | K150: =VLOOKUP(A150,[1]数据库!A:K,10,FALSE) -> #N/A
A151: 98 | B151: =VLOOKUP(A151,[1]数据库!A:H,2,FALSE) -> FJA/14 | C151: =VLOOKUP(A151,[1]数据库!A:H,3,FALSE) -> FJK/13 | D151: =VLOOKUP(A151,[1]数据库!A:H,6,FALSE) -> 红4 | E151: =VLOOKUP(A151,[1]数据库!A:H,7,FALSE) -> 红4 | F151: =VLOOKUP(A151,[1]数据库!A:H,4,FALSE) -> 标准 | G151: =VLOOKUP(A151,[1]数据库!A:H,5,FALSE) -> 0.5黑 | H151: =VLOOKUP(A151,[1]数据库!A:L,12,FALSE) -> FJA/14、FJK/13 | I151: =VLOOKUP(A151,[1]数据库!A:I,8,FALSE) -> 0 | J151: =VLOOKUP(A151,[1]数据库!A:K,9,FALSE) -> 370 | K151: =VLOOKUP(A151,[1]数据库!A:K,10,FALSE) -> 0
A152: 99 | B152: =VLOOKUP(A152,[1]数据库!A:H,2,FALSE) -> #N/A | C152: =VLOOKUP(A152,[1]数据库!A:H,3,FALSE) -> #N/A | D152: =VLOOKUP(A152,[1]数据库!A:H,6,FALSE) -> #N/A | E152: =VLOOKUP(A152,[1]数据库!A:H,7,FALSE) -> #N/A | F152: =VLOOKUP(A152,[1]数据库!A:H,4,FALSE) -> #N/A | G152: =VLOOKUP(A152,[1]数据库!A:H,5,FALSE) -> #N/A | H152: =VLOOKUP(A152,[1]数据库!A:L,12,FALSE) -> #N/A | I152: =VLOOKUP(A152,[1]数据库!A:I,8,FALSE) -> #N/A | J152: =VLOOKUP(A152,[1]数据库!A:K,9,FALSE) -> #N/A | K152: =VLOOKUP(A152,[1]数据库!A:K,10,FALSE) -> #N/A
A153: 100 | B153: =VLOOKUP(A153,[1]数据库!A:H,2,FALSE) -> FJK/4 | C153: =VLOOKUP(A153,[1]数据库!A:H,3,FALSE) -> FJA/3 | D153: =VLOOKUP(A153,[1]数据库!A:H,6,FALSE) -> 红4 | E153: =VLOOKUP(A153,[1]数据库!A:H,7,FALSE) -> 红4 | F153: =VLOOKUP(A153,[1]数据库!A:H,4,FALSE) -> 标准 | G153: =VLOOKUP(A153,[1]数据库!A:H,5,FALSE) -> 0.5黑 | H153: =VLOOKUP(A153,[1]数据库!A:L,12,FALSE) -> FJK/4、FJA/3 | I153: =VLOOKUP(A153,[1]数据库!A:I,8,FALSE) -> 0 | J153: =VLOOKUP(A153,[1]数据库!A:K,9,FALSE) -> 280 | K153: =VLOOKUP(A153,[1]数据库!A:K,10,FALSE) -> 0
...
